BEGIN:VCALENDAR
VERSION:2.0
PRODID:-//MassHire Metro North Career Center - ECPv6.15.20//NONSGML v1.0//EN
CALSCALE:GREGORIAN
METHOD:PUBLISH
X-ORIGINAL-URL:https://masshiremncareers.com
X-WR-CALDESC:Events for MassHire Metro North Career Center
REFRESH-INTERVAL;VALUE=DURATION:PT1H
X-Robots-Tag:noindex
X-PUBLISHED-TTL:PT1H
BEGIN:VTIMEZONE
TZID:America/New_York
BEGIN:DAYLIGHT
TZOFFSETFROM:-0500
TZOFFSETTO:-0400
TZNAME:EDT
DTSTART:20180311T070000
END:DAYLIGHT
BEGIN:STANDARD
TZOFFSETFROM:-0400
TZOFFSETTO:-0500
TZNAME:EST
DTSTART:20181104T060000
END:STANDARD
BEGIN:DAYLIGHT
TZOFFSETFROM:-0500
TZOFFSETTO:-0400
TZNAME:EDT
DTSTART:20190310T070000
END:DAYLIGHT
BEGIN:STANDARD
TZOFFSETFROM:-0400
TZOFFSETTO:-0500
TZNAME:EST
DTSTART:20191103T060000
END:STANDARD
BEGIN:DAYLIGHT
TZOFFSETFROM:-0500
TZOFFSETTO:-0400
TZNAME:EDT
DTSTART:20200308T070000
END:DAYLIGHT
BEGIN:STANDARD
TZOFFSETFROM:-0400
TZOFFSETTO:-0500
TZNAME:EST
DTSTART:20201101T060000
END:STANDARD
END:VTIMEZONE
BEGIN:VEVENT
DTSTART;TZID=America/New_York:20190524T100000
DTEND;TZID=America/New_York:20190524T120000
DTSTAMP:20260423T042345
CREATED:20190329T202541Z
LAST-MODIFIED:20190329T202541Z
UID:17875-1558692000-1558699200@masshiremncareers.com
SUMMARY:Resume/Cover Letters
DESCRIPTION:Learn the résumé styles used by professional résumé writers and how to get yours noticed. You’ll be given the tools to determine which style suits your job search best! We’ll look into the mechanics of what makes an effective cover letter. You will learn how to effectively present your experience and skills to tailor to a job description to help land that next interview.
URL:https://masshiremncareers.com/event/resume-cover-letters-9-2019-05-24/
LOCATION:Cambridge Career Center\, 186 Alewife Brook Parkway\, Cambridge\, MA\, 02138\, United States
CATEGORIES:Cambridge Center Event,Workshops
END:VEVENT
BEGIN:VEVENT
DTSTART;TZID=America/New_York:20190524T110000
DTEND;TZID=America/New_York:20190524T123000
DTSTAMP:20260423T042345
CREATED:20190329T200945Z
LAST-MODIFIED:20190329T200945Z
UID:17856-1558695600-1558701000@masshiremncareers.com
SUMMARY:Encore SkillSmart
DESCRIPTION:Come learn how to build your profile and apply for jobs in SkillSmart – the preferred site for the Encore Boston Harbor. Understand how adding more skills and an uploaded resume will enable you to match for the right positions.
URL:https://masshiremncareers.com/event/encore-skillsmart-3-2019-05-24/
LOCATION:Cambridge Career Center\, 186 Alewife Brook Parkway\, Cambridge\, MA\, 02138\, United States
CATEGORIES:Cambridge Center Event,Workshops
END:VEVENT
BEGIN:VEVENT
DTSTART;TZID=America/New_York:20190524T110000
DTEND;TZID=America/New_York:20190524T130000
DTSTAMP:20260423T042345
CREATED:20190328T131711Z
LAST-MODIFIED:20190430T160736Z
UID:17808-1558695600-1558702800@masshiremncareers.com
SUMMARY:Interviewing Fundamentals
DESCRIPTION:Is your resume getting a foot in the door but the interview isn’t leading to a job? This workshop will prepare you with the best practices of interviewing.  Come and learn the Dos and Don’ts\, how to answer the tough questions and how to navigate different types of interviews – behavioral\, traditional the most common questions.  We will also discuss post interview follow-up to help you get to that next step.
URL:https://masshiremncareers.com/event/interviewing-fundamentals-14/
LOCATION:Woburn Career Center\, 100 Trade Center\, Suite G100\, Woburn\, MA\, 01801\, United States
CATEGORIES:Woburn Center Event,Workshops
END:VEVENT
END:VCALENDAR