BEGIN:VCALENDAR
VERSION:2.0
PRODID:-//MassHire Metro North Career Center - ECPv6.15.20//NONSGML v1.0//EN
CALSCALE:GREGORIAN
METHOD:PUBLISH
X-ORIGINAL-URL:https://masshiremncareers.com
X-WR-CALDESC:Events for MassHire Metro North Career Center
REFRESH-INTERVAL;VALUE=DURATION:PT1H
X-Robots-Tag:noindex
X-PUBLISHED-TTL:PT1H
BEGIN:VTIMEZONE
TZID:America/New_York
BEGIN:DAYLIGHT
TZOFFSETFROM:-0500
TZOFFSETTO:-0400
TZNAME:EDT
DTSTART:20180311T070000
END:DAYLIGHT
BEGIN:STANDARD
TZOFFSETFROM:-0400
TZOFFSETTO:-0500
TZNAME:EST
DTSTART:20181104T060000
END:STANDARD
BEGIN:DAYLIGHT
TZOFFSETFROM:-0500
TZOFFSETTO:-0400
TZNAME:EDT
DTSTART:20190310T070000
END:DAYLIGHT
BEGIN:STANDARD
TZOFFSETFROM:-0400
TZOFFSETTO:-0500
TZNAME:EST
DTSTART:20191103T060000
END:STANDARD
BEGIN:DAYLIGHT
TZOFFSETFROM:-0500
TZOFFSETTO:-0400
TZNAME:EDT
DTSTART:20200308T070000
END:DAYLIGHT
BEGIN:STANDARD
TZOFFSETFROM:-0400
TZOFFSETTO:-0500
TZNAME:EST
DTSTART:20201101T060000
END:STANDARD
END:VTIMEZONE
BEGIN:VEVENT
DTSTART;TZID=America/New_York:20190531T100000
DTEND;TZID=America/New_York:20190531T120000
DTSTAMP:20260421T144053
CREATED:20190329T205432Z
LAST-MODIFIED:20190416T133207Z
UID:17894-1559296800-1559304000@masshiremncareers.com
SUMMARY:Online Applications
DESCRIPTION:You’re wondering about online applications…should you indicate your salary history? Can’t you just send them your resume and be done with it? Get the facts as we examine online applications\, Application Tracking Software\, personality tests and the techniques to get you through the system to a person.
URL:https://masshiremncareers.com/event/online-applications-3/
LOCATION:Cambridge Career Center\, 186 Alewife Brook Parkway\, Cambridge\, MA\, 02138\, United States
CATEGORIES:Cambridge Center Event,Workshops
END:VEVENT
BEGIN:VEVENT
DTSTART;TZID=America/New_York:20190531T110000
DTEND;TZID=America/New_York:20190531T123000
DTSTAMP:20260421T144053
CREATED:20190327T192956Z
LAST-MODIFIED:20190430T160834Z
UID:17775-1559300400-1559305800@masshiremncareers.com
SUMMARY:Career Development Options
DESCRIPTION:Interested in getting one-on-one career counseling to help with your job search? Need grant funds for schooling or training? Come learn about your career path options and how we can help you in your job search. This information session explains in detail about the eligibility requirements for accessing these grant-funded services through WIOA.
URL:https://masshiremncareers.com/event/career-development-options-41-2019-05-31/
LOCATION:Woburn Career Center\, 100 Trade Center\, Suite G100\, Woburn\, MA\, 01801\, United States
CATEGORIES:Woburn Center Event,Workshops
END:VEVENT
BEGIN:VEVENT
DTSTART;TZID=America/New_York:20190531T110000
DTEND;TZID=America/New_York:20190531T130000
DTSTAMP:20260421T144053
CREATED:20190328T132410Z
LAST-MODIFIED:20190430T160928Z
UID:17818-1559300400-1559307600@masshiremncareers.com
SUMMARY:Resume/Cover Letters
DESCRIPTION:Learn the résumé styles used by professional résumé writers and how to get yours noticed. You’ll be given the tools to determine which style suits your job search best! We’ll look into the mechanics of what makes an effective cover letter. You will learn how to effectively present your experience and skills to tailor to a job description to help land that next interview.
URL:https://masshiremncareers.com/event/resume-cover-letters-8/
LOCATION:Woburn Career Center\, 100 Trade Center\, Suite G100\, Woburn\, MA\, 01801\, United States
CATEGORIES:Woburn Center Event,Workshops
END:VEVENT
BEGIN:VEVENT
DTSTART;TZID=America/New_York:20190531T110000
DTEND;TZID=America/New_York:20190531T130000
DTSTAMP:20260421T144053
CREATED:20190328T135327Z
LAST-MODIFIED:20190430T161017Z
UID:17835-1559300400-1559307600@masshiremncareers.com
SUMMARY:LinkedIn 2.0 ($49)
DESCRIPTION:Get your LinkedIn profile noticed!  Let us review what’s working and what’s not!  We will work together to create a headline and Summary that truly represents who you really are. You will learn to engage with your network and become a LinkedIn Power User.  	Recommended pre-requisite: LinkedIn 1. Participants must be able to log in to LinkedIn account with their username and password $49
URL:https://masshiremncareers.com/event/linkedin-2-0-49-2/
LOCATION:Woburn Career Center\, 100 Trade Center\, Suite G100\, Woburn\, MA\, 01801\, United States
CATEGORIES:Woburn Center Event,Workshops
END:VEVENT
BEGIN:VEVENT
DTSTART;TZID=America/New_York:20190531T140000
DTEND;TZID=America/New_York:20190531T153000
DTSTAMP:20260421T144053
CREATED:20190327T200406Z
LAST-MODIFIED:20190327T200620Z
UID:17793-1559311200-1559316600@masshiremncareers.com
SUMMARY:Encore SkillSmart
DESCRIPTION:Come learn how to build your profile and apply for jobs in SkillSmart – the preferred site for the Encore Boston Harbor. Understand how adding more skills and an uploaded resume will enable you to match for the right positions.
URL:https://masshiremncareers.com/event/encore-skillsmart-2-2019-05-31/
LOCATION:Woburn Career Center\, 100 Trade Center\, Suite G100\, Woburn\, MA\, 01801\, United States
CATEGORIES:Woburn Center Event,Workshops
END:VEVENT
END:VCALENDAR