BEGIN:VCALENDAR
VERSION:2.0
PRODID:-//MassHire Metro North Career Center - ECPv6.15.20//NONSGML v1.0//EN
CALSCALE:GREGORIAN
METHOD:PUBLISH
X-WR-CALNAME:MassHire Metro North Career Center
X-ORIGINAL-URL:https://masshiremncareers.com
X-WR-CALDESC:Events for MassHire Metro North Career Center
REFRESH-INTERVAL;VALUE=DURATION:PT1H
X-Robots-Tag:noindex
X-PUBLISHED-TTL:PT1H
BEGIN:VTIMEZONE
TZID:America/New_York
BEGIN:DAYLIGHT
TZOFFSETFROM:-0500
TZOFFSETTO:-0400
TZNAME:EDT
DTSTART:20180311T070000
END:DAYLIGHT
BEGIN:STANDARD
TZOFFSETFROM:-0400
TZOFFSETTO:-0500
TZNAME:EST
DTSTART:20181104T060000
END:STANDARD
BEGIN:DAYLIGHT
TZOFFSETFROM:-0500
TZOFFSETTO:-0400
TZNAME:EDT
DTSTART:20190310T070000
END:DAYLIGHT
BEGIN:STANDARD
TZOFFSETFROM:-0400
TZOFFSETTO:-0500
TZNAME:EST
DTSTART:20191103T060000
END:STANDARD
BEGIN:DAYLIGHT
TZOFFSETFROM:-0500
TZOFFSETTO:-0400
TZNAME:EDT
DTSTART:20200308T070000
END:DAYLIGHT
BEGIN:STANDARD
TZOFFSETFROM:-0400
TZOFFSETTO:-0500
TZNAME:EST
DTSTART:20201101T060000
END:STANDARD
END:VTIMEZONE
BEGIN:VEVENT
DTSTART;TZID=America/New_York:20191018T100000
DTEND;TZID=America/New_York:20191018T120000
DTSTAMP:20260425T002605
CREATED:20190816T200326Z
LAST-MODIFIED:20190816T200326Z
UID:18977-1571392800-1571400000@masshiremncareers.com
SUMMARY:The Counselor Is In!
DESCRIPTION:Need to speak with a career counselor for next steps in your job search? Have a quick question about your resume\, job search strategy\, interview prep or networking? Come in and speak with the counselor during walk-in hours. Other times by appointment.
URL:https://masshiremncareers.com/event/the-counselor-is-in-2019-10-18/
LOCATION:Cambridge Career Center\, 186 Alewife Brook Parkway\, Cambridge\, MA\, 02138\, United States
CATEGORIES:Cambridge Center Event
END:VEVENT
BEGIN:VEVENT
DTSTART;TZID=America/New_York:20191018T100000
DTEND;TZID=America/New_York:20191018T120000
DTSTAMP:20260425T002605
CREATED:20190910T144020Z
LAST-MODIFIED:20190910T144020Z
UID:19050-1571392800-1571400000@masshiremncareers.com
SUMMARY:Entrepreneurial Think Tank
DESCRIPTION:Are you ready to run your own business? We’ll help you take the first step. Entrepreneurial Think Tank is a forum for budding entrepreneurs. We will discuss the basics of starting a small business. Is entrepreneurship right for you? Sign up and find out! (2 hours)
URL:https://masshiremncareers.com/event/entrepreneurial-think-tank-13-2019-10-18/
LOCATION:Cambridge Career Center\, 186 Alewife Brook Parkway\, Cambridge\, MA\, 02138\, United States
CATEGORIES:Cambridge Center Event,Workshops
END:VEVENT
BEGIN:VEVENT
DTSTART;TZID=America/New_York:20191018T100000
DTEND;TZID=America/New_York:20191018T130000
DTSTAMP:20260425T002605
CREATED:20190910T201333Z
LAST-MODIFIED:20190910T201333Z
UID:19106-1571392800-1571403600@masshiremncareers.com
SUMMARY:Outlook 1
DESCRIPTION:This course is designed to provide a working knowledge of the Microsoft Outlook interface.  You will focus on the basics of email as well as managing multiple types of emails and your contacts (3 hours)
URL:https://masshiremncareers.com/event/outlook-1-2/
LOCATION:Woburn Career Center\, 100 Trade Center\, Suite G100\, Woburn\, MA\, 01801\, United States
CATEGORIES:Woburn Center Event,Workshops
END:VEVENT
BEGIN:VEVENT
DTSTART;TZID=America/New_York:20191018T103000
DTEND;TZID=America/New_York:20191018T123000
DTSTAMP:20260425T002605
CREATED:20190910T144731Z
LAST-MODIFIED:20190910T144731Z
UID:19058-1571394600-1571401800@masshiremncareers.com
SUMMARY:LMI: Outlook of Your Job Search
DESCRIPTION:What’s the outlook of your job search? Learn to research target industries\, organizations and positions. Review salary ranges and industry trends. Master self-assessment and the informational interview. Register today and learn how these keys serve as the working bedrock of a smart job search. (2 hours) For this computer-based workshop\, please come prepared with at least one target industry and/or a target job title that you are considering on your job search.
URL:https://masshiremncareers.com/event/lmi-outlook-of-your-job-search-18/
LOCATION:Cambridge Career Center\, 186 Alewife Brook Parkway\, Cambridge\, MA\, 02138\, United States
CATEGORIES:Cambridge Center Event,Workshops
END:VEVENT
BEGIN:VEVENT
DTSTART;TZID=America/New_York:20191018T110000
DTEND;TZID=America/New_York:20191018T123000
DTSTAMP:20260425T002605
CREATED:20190916T162219Z
LAST-MODIFIED:20190916T162219Z
UID:19190-1571396400-1571401800@masshiremncareers.com
SUMMARY:Career Development Options
DESCRIPTION:Interested in getting one-on-one career counseling to help with your job search? Need grant funds for schooling or training? Come learn about your career path options and how we can help you in your job search. This information session explains in detail about the eligibility requirements for accessing these grant-funded services through WIOA. (1.5 Hours)
URL:https://masshiremncareers.com/event/career-development-options-62-2019-10-18/
LOCATION:Woburn Career Center\, 100 Trade Center\, Suite G100\, Woburn\, MA\, 01801\, United States
CATEGORIES:Woburn Center Event,Workshops
END:VEVENT
END:VCALENDAR