BEGIN:VCALENDAR
VERSION:2.0
PRODID:-//MassHire Metro North Career Center - ECPv6.15.20//NONSGML v1.0//EN
CALSCALE:GREGORIAN
METHOD:PUBLISH
X-ORIGINAL-URL:https://masshiremncareers.com
X-WR-CALDESC:Events for MassHire Metro North Career Center
REFRESH-INTERVAL;VALUE=DURATION:PT1H
X-Robots-Tag:noindex
X-PUBLISHED-TTL:PT1H
BEGIN:VTIMEZONE
TZID:America/New_York
BEGIN:DAYLIGHT
TZOFFSETFROM:-0500
TZOFFSETTO:-0400
TZNAME:EDT
DTSTART:20180311T070000
END:DAYLIGHT
BEGIN:STANDARD
TZOFFSETFROM:-0400
TZOFFSETTO:-0500
TZNAME:EST
DTSTART:20181104T060000
END:STANDARD
BEGIN:DAYLIGHT
TZOFFSETFROM:-0500
TZOFFSETTO:-0400
TZNAME:EDT
DTSTART:20190310T070000
END:DAYLIGHT
BEGIN:STANDARD
TZOFFSETFROM:-0400
TZOFFSETTO:-0500
TZNAME:EST
DTSTART:20191103T060000
END:STANDARD
BEGIN:DAYLIGHT
TZOFFSETFROM:-0500
TZOFFSETTO:-0400
TZNAME:EDT
DTSTART:20200308T070000
END:DAYLIGHT
BEGIN:STANDARD
TZOFFSETFROM:-0400
TZOFFSETTO:-0500
TZNAME:EST
DTSTART:20201101T060000
END:STANDARD
END:VTIMEZONE
BEGIN:VEVENT
DTSTART;TZID=America/New_York:20191021T110000
DTEND;TZID=America/New_York:20191021T120000
DTSTAMP:20260424T200054
CREATED:20191001T183530Z
LAST-MODIFIED:20191001T183530Z
UID:19243-1571655600-1571659200@masshiremncareers.com
SUMMARY:NECAT Culinary Info Session
DESCRIPTION:New England Center for Arts & Technology will present an information session on their upcoming free 16-week culinary training program. The class starts Nov. 6 and will prepare students for a culinary career in hospitality to work in restaurants\, hotels\, schools and casinos.
URL:https://masshiremncareers.com/event/necat-culinary-info-session-2/
LOCATION:Woburn Career Center\, 100 Trade Center\, Suite G100\, Woburn\, MA\, 01801\, United States
CATEGORIES:Woburn Center Event
END:VEVENT
BEGIN:VEVENT
DTSTART;TZID=America/New_York:20191021T110000
DTEND;TZID=America/New_York:20191021T123000
DTSTAMP:20260424T200054
CREATED:20190910T143336Z
LAST-MODIFIED:20190910T143336Z
UID:19039-1571655600-1571661000@masshiremncareers.com
SUMMARY:Career Development Options
DESCRIPTION:Interested in getting one-on-one career counseling to help with your job search? Need grant funds for schooling or training? Come learn about your career path options and how we can help you in your job search. This information session explains in detail about the eligibility requirements for accessing these grant-funded services through WIOA. (1.5 Hours)
URL:https://masshiremncareers.com/event/career-development-options-60-2019-10-21/
LOCATION:Cambridge Career Center\, 186 Alewife Brook Parkway\, Cambridge\, MA\, 02138\, United States
CATEGORIES:Cambridge Center Event,Workshops
END:VEVENT
BEGIN:VEVENT
DTSTART;TZID=America/New_York:20191021T130000
DTEND;TZID=America/New_York:20191021T150000
DTSTAMP:20260424T200054
CREATED:20190916T165031Z
LAST-MODIFIED:20190916T165031Z
UID:19202-1571662800-1571670000@masshiremncareers.com
SUMMARY:Standing Out at a Job Fair
DESCRIPTION:New to attending a job fair and not sure how to prep or work the room to meet potential future employers? Come to this workshop and learn how to perfect your elevator pitch\, researching companies\, action plans for before and after the job fair. (2 Hours)
URL:https://masshiremncareers.com/event/standing-out-at-a-job-fair/
LOCATION:Woburn Career Center\, 100 Trade Center\, Suite G100\, Woburn\, MA\, 01801\, United States
CATEGORIES:Woburn Center Event,Workshops
END:VEVENT
END:VCALENDAR