BEGIN:VCALENDAR
VERSION:2.0
PRODID:-//MassHire Metro North Career Center - ECPv6.15.20//NONSGML v1.0//EN
CALSCALE:GREGORIAN
METHOD:PUBLISH
X-WR-CALNAME:MassHire Metro North Career Center
X-ORIGINAL-URL:https://masshiremncareers.com
X-WR-CALDESC:Events for MassHire Metro North Career Center
REFRESH-INTERVAL;VALUE=DURATION:PT1H
X-Robots-Tag:noindex
X-PUBLISHED-TTL:PT1H
BEGIN:VTIMEZONE
TZID:America/New_York
BEGIN:DAYLIGHT
TZOFFSETFROM:-0500
TZOFFSETTO:-0400
TZNAME:EDT
DTSTART:20180311T070000
END:DAYLIGHT
BEGIN:STANDARD
TZOFFSETFROM:-0400
TZOFFSETTO:-0500
TZNAME:EST
DTSTART:20181104T060000
END:STANDARD
BEGIN:DAYLIGHT
TZOFFSETFROM:-0500
TZOFFSETTO:-0400
TZNAME:EDT
DTSTART:20190310T070000
END:DAYLIGHT
BEGIN:STANDARD
TZOFFSETFROM:-0400
TZOFFSETTO:-0500
TZNAME:EST
DTSTART:20191103T060000
END:STANDARD
BEGIN:DAYLIGHT
TZOFFSETFROM:-0500
TZOFFSETTO:-0400
TZNAME:EDT
DTSTART:20200308T070000
END:DAYLIGHT
BEGIN:STANDARD
TZOFFSETFROM:-0400
TZOFFSETTO:-0500
TZNAME:EST
DTSTART:20201101T060000
END:STANDARD
END:VTIMEZONE
BEGIN:VEVENT
DTSTART;TZID=America/New_York:20191023T090000
DTEND;TZID=America/New_York:20191023T123000
DTSTAMP:20260424T165131
CREATED:20190916T144802Z
LAST-MODIFIED:20190916T144802Z
UID:19158-1571821200-1571833800@masshiremncareers.com
SUMMARY:Word 3 ($69)
DESCRIPTION:In this course you will be able to perform the most advanced functions\, including Mail Merge\, tracking changes and templates. Recommended pre-requisite:  Word I  (3.5 hours) $69
URL:https://masshiremncareers.com/event/word-3-69/
LOCATION:Woburn Career Center\, 100 Trade Center\, Suite G100\, Woburn\, MA\, 01801\, United States
CATEGORIES:Woburn Center Event,Workshops
END:VEVENT
BEGIN:VEVENT
DTSTART;TZID=America/New_York:20191023T100000
DTEND;TZID=America/New_York:20191023T120000
DTSTAMP:20260424T165131
CREATED:20190916T134935Z
LAST-MODIFIED:20190916T134935Z
UID:19148-1571824800-1571832000@masshiremncareers.com
SUMMARY:Department of Transitional Assistance Onsite
DESCRIPTION:A representative from the Department of Transitional Assistance will be onsite to answer questions about their programs.
URL:https://masshiremncareers.com/event/department-of-transitional-assistance-onsite-3-2019-10-23/
LOCATION:Chelsea Career Center\, 4 Gerrish Ave\, Chelsea\, MA\, 02150\, United States
CATEGORIES:Chelsea Center Event
END:VEVENT
BEGIN:VEVENT
DTSTART;TZID=America/New_York:20191023T100000
DTEND;TZID=America/New_York:20191023T120000
DTSTAMP:20260424T165131
CREATED:20191007T185904Z
LAST-MODIFIED:20191007T185904Z
UID:19405-1571824800-1571832000@masshiremncareers.com
SUMMARY:21st Century Job Search
DESCRIPTION:Today’s job search is not your dad’s job search. It’s a mixture of networking\, social media\, becoming “visible” online\, using recruiters\, as well as\, endless online applications\, internet job boards\, and good old-fashioned outreach to friends\, former colleagues and complete strangers.  \nWhat you will learn in this workshop: \n•	Why a clear career goal is crucial\n•	The importance of Key Words in Resumes and LinkedIn Profiles\n•	How to increase your visibility to recruiters and corporate hiring managers\n•	Why networking is more important than ever\, and how LinkedIn can help\n•	Why job search emotional ups and downs happen\, and what to do about them\n (2 hours)
URL:https://masshiremncareers.com/event/21st-century-job-search/
LOCATION:Cambridge Career Center\, 186 Alewife Brook Parkway\, Cambridge\, MA\, 02138\, United States
CATEGORIES:Cambridge Center Event,Workshops
END:VEVENT
BEGIN:VEVENT
DTSTART;TZID=America/New_York:20191023T100000
DTEND;TZID=America/New_York:20191023T123000
DTSTAMP:20260424T165131
CREATED:20190916T170546Z
LAST-MODIFIED:20190916T170546Z
UID:19208-1571824800-1571833800@masshiremncareers.com
SUMMARY:Interviewing Fundamentals
DESCRIPTION:Is your resume getting your foot in the door but you’re not advancing beyond the interview? Come and learn the best practices of a successful in-person job interview!  We will discuss research\, CAR Statements\, post-interview follow-up and the importance of non-work related activities.  We will also explore how best to navigate an interview’s behavioral and traditional questions. (2.5 Hours)
URL:https://masshiremncareers.com/event/interviewing-fundamentals-26/
LOCATION:Woburn Career Center\, 100 Trade Center\, Suite G100\, Woburn\, MA\, 01801\, United States
CATEGORIES:Woburn Center Event,Workshops
END:VEVENT
BEGIN:VEVENT
DTSTART;TZID=America/New_York:20191023T140000
DTEND;TZID=America/New_York:20191023T160000
DTSTAMP:20260424T165131
CREATED:20190916T161011Z
LAST-MODIFIED:20190916T161011Z
UID:19177-1571839200-1571846400@masshiremncareers.com
SUMMARY:LinkedIn Basics
DESCRIPTION:“What is LinkedIn?”  “How can it help me in my job search?”  Learn why LinkedIn is pivotal to your job search. Gain the attributes of a stronger LinkedIn profile. Master the skills of navigation needed for networking\, interview prep\, and researching your target industries and organizations. We’ll also talk about how the core competencies of your resume can be pulled directly from your LinkedIn account. Come with your questions\, leave with confidence. (2 hours)
URL:https://masshiremncareers.com/event/linkedin-basics-26-2019-10-23/
LOCATION:Woburn Career Center\, 100 Trade Center\, Suite G100\, Woburn\, MA\, 01801\, United States
CATEGORIES:Woburn Center Event,Workshops
END:VEVENT
END:VCALENDAR