BEGIN:VCALENDAR
VERSION:2.0
PRODID:-//MassHire Metro North Career Center - ECPv6.15.20//NONSGML v1.0//EN
CALSCALE:GREGORIAN
METHOD:PUBLISH
X-ORIGINAL-URL:https://masshiremncareers.com
X-WR-CALDESC:Events for MassHire Metro North Career Center
REFRESH-INTERVAL;VALUE=DURATION:PT1H
X-Robots-Tag:noindex
X-PUBLISHED-TTL:PT1H
BEGIN:VTIMEZONE
TZID:America/New_York
BEGIN:DAYLIGHT
TZOFFSETFROM:-0500
TZOFFSETTO:-0400
TZNAME:EDT
DTSTART:20180311T070000
END:DAYLIGHT
BEGIN:STANDARD
TZOFFSETFROM:-0400
TZOFFSETTO:-0500
TZNAME:EST
DTSTART:20181104T060000
END:STANDARD
BEGIN:DAYLIGHT
TZOFFSETFROM:-0500
TZOFFSETTO:-0400
TZNAME:EDT
DTSTART:20190310T070000
END:DAYLIGHT
BEGIN:STANDARD
TZOFFSETFROM:-0400
TZOFFSETTO:-0500
TZNAME:EST
DTSTART:20191103T060000
END:STANDARD
BEGIN:DAYLIGHT
TZOFFSETFROM:-0500
TZOFFSETTO:-0400
TZNAME:EDT
DTSTART:20200308T070000
END:DAYLIGHT
BEGIN:STANDARD
TZOFFSETFROM:-0400
TZOFFSETTO:-0500
TZNAME:EST
DTSTART:20201101T060000
END:STANDARD
END:VTIMEZONE
BEGIN:VEVENT
DTSTART;TZID=America/New_York:20191106T090000
DTEND;TZID=America/New_York:20191106T120000
DTSTAMP:20260420T080919
CREATED:20191002T142547Z
LAST-MODIFIED:20191002T142547Z
UID:19309-1573030800-1573041600@masshiremncareers.com
SUMMARY:PowerPoint 1
DESCRIPTION:This course is designed to provide a working knowledge of Microsoft PowerPoint. You will learn to create\, design\, and deliver presentations. (3 hours)
URL:https://masshiremncareers.com/event/powerpoint-1-4/
LOCATION:Cambridge Career Center\, 186 Alewife Brook Parkway\, Cambridge\, MA\, 02138\, United States
CATEGORIES:Cambridge Center Event,Workshops
END:VEVENT
BEGIN:VEVENT
DTSTART;TZID=America/New_York:20191106T100000
DTEND;TZID=America/New_York:20191106T120000
DTSTAMP:20260420T080919
CREATED:20191003T122718Z
LAST-MODIFIED:20191003T122718Z
UID:19350-1573034400-1573041600@masshiremncareers.com
SUMMARY:Understanding Retirement Benefits
DESCRIPTION:Are you considering retiring? Wondering when can I start collecting Social Security? Can I withdraw funds from my 401K? At what age must I start drawing down from my IRA? What’s defined benefit? You’ve got a lot of questions—get them answered and put your financial future in order! (2 Hours)
URL:https://masshiremncareers.com/event/understanding-retirement-benefits-24/
LOCATION:Cambridge Career Center\, 186 Alewife Brook Parkway\, Cambridge\, MA\, 02138\, United States
CATEGORIES:Cambridge Center Event,Workshops
END:VEVENT
BEGIN:VEVENT
DTSTART;TZID=America/New_York:20191106T100000
DTEND;TZID=America/New_York:20191106T120000
DTSTAMP:20260420T080919
CREATED:20191003T130951Z
LAST-MODIFIED:20191003T130951Z
UID:19385-1573034400-1573041600@masshiremncareers.com
SUMMARY:Department of Transitional Assistance
DESCRIPTION:A representative from the Department of Transitional Assistance will be onsite to answer questions about their programs.
URL:https://masshiremncareers.com/event/department-of-transitional-assistance-8/
LOCATION:Chelsea Career Center\, 4 Gerrish Ave\, Chelsea\, MA\, 02150\, United States
CATEGORIES:Chelsea Center Event
END:VEVENT
BEGIN:VEVENT
DTSTART;TZID=America/New_York:20191106T100000
DTEND;TZID=America/New_York:20191106T123000
DTSTAMP:20260420T080919
CREATED:20191001T194429Z
LAST-MODIFIED:20191001T194429Z
UID:19258-1573034400-1573043400@masshiremncareers.com
SUMMARY:Interview Fundamentals
DESCRIPTION:Is your resume getting your foot in the door but you’re not advancing beyond the interview? Come and learn the best practices of a successful in-person job interview!  We will discuss research\, CAR Statements\, post-interview follow-up and the importance of non-work related activities.  We will also explore how best to navigate an interview’s behavioral and traditional questions. (2.5 Hours)
URL:https://masshiremncareers.com/event/interview-fundamentals-4/
LOCATION:Woburn Career Center\, 100 Trade Center\, Suite G100\, Woburn\, MA\, 01801\, United States
CATEGORIES:Woburn Center Event,Workshops
END:VEVENT
BEGIN:VEVENT
DTSTART;TZID=America/New_York:20191106T140000
DTEND;TZID=America/New_York:20191106T153000
DTSTAMP:20260420T080919
CREATED:20191003T130644Z
LAST-MODIFIED:20191003T130644Z
UID:19381-1573048800-1573054200@masshiremncareers.com
SUMMARY:Career Development Options
DESCRIPTION:Interested in getting one-on-one career counseling to help with your job search? Need grant funds for schooling or training? Come learn about your career path options and how we can help you in your job search. This information session explains in detail about the eligibility requirements for accessing these grant-funded services through WIOA. (1.5 Hours)
URL:https://masshiremncareers.com/event/career-development-options-66/
LOCATION:Chelsea Career Center\, 4 Gerrish Ave\, Chelsea\, MA\, 02150\, United States
CATEGORIES:Chelsea Center Event,Workshops
END:VEVENT
END:VCALENDAR