BEGIN:VCALENDAR
VERSION:2.0
PRODID:-//MassHire Metro North Career Center - ECPv6.15.20//NONSGML v1.0//EN
CALSCALE:GREGORIAN
METHOD:PUBLISH
X-ORIGINAL-URL:https://masshiremncareers.com
X-WR-CALDESC:Events for MassHire Metro North Career Center
REFRESH-INTERVAL;VALUE=DURATION:PT1H
X-Robots-Tag:noindex
X-PUBLISHED-TTL:PT1H
BEGIN:VTIMEZONE
TZID:America/New_York
BEGIN:DAYLIGHT
TZOFFSETFROM:-0500
TZOFFSETTO:-0400
TZNAME:EDT
DTSTART:20180311T070000
END:DAYLIGHT
BEGIN:STANDARD
TZOFFSETFROM:-0400
TZOFFSETTO:-0500
TZNAME:EST
DTSTART:20181104T060000
END:STANDARD
BEGIN:DAYLIGHT
TZOFFSETFROM:-0500
TZOFFSETTO:-0400
TZNAME:EDT
DTSTART:20190310T070000
END:DAYLIGHT
BEGIN:STANDARD
TZOFFSETFROM:-0400
TZOFFSETTO:-0500
TZNAME:EST
DTSTART:20191103T060000
END:STANDARD
BEGIN:DAYLIGHT
TZOFFSETFROM:-0500
TZOFFSETTO:-0400
TZNAME:EDT
DTSTART:20200308T070000
END:DAYLIGHT
BEGIN:STANDARD
TZOFFSETFROM:-0400
TZOFFSETTO:-0500
TZNAME:EST
DTSTART:20201101T060000
END:STANDARD
END:VTIMEZONE
BEGIN:VEVENT
DTSTART;TZID=America/New_York:20191113T090000
DTEND;TZID=America/New_York:20191113T123000
DTSTAMP:20260423T214817
CREATED:20191003T122235Z
LAST-MODIFIED:20191003T122235Z
UID:19346-1573635600-1573648200@masshiremncareers.com
SUMMARY:Word 3 ($69)
DESCRIPTION:In this course you will be able to perform the most advanced functions\, including Mail Merge\, tracking changes and templates. Recommended pre-requisite:  Word I (3.5 hours) $69
URL:https://masshiremncareers.com/event/word-3-69-2/
LOCATION:Cambridge Career Center\, 186 Alewife Brook Parkway\, Cambridge\, MA\, 02138\, United States
CATEGORIES:Cambridge Center Event,Workshops
END:VEVENT
BEGIN:VEVENT
DTSTART;TZID=America/New_York:20191113T100000
DTEND;TZID=America/New_York:20191113T120000
DTSTAMP:20260423T214817
CREATED:20191001T195109Z
LAST-MODIFIED:20191001T195109Z
UID:19273-1573639200-1573646400@masshiremncareers.com
SUMMARY:Conveying Your Skills
DESCRIPTION:If the job search is your recipe\, this workshop is the secret ingredient! We will identify and write out transferable skills that can be used for resumes\, cover letters\, networking and job interviews. We will then discuss body language and how verbiage changes from the resume to the interview. Finally\, attendees will deliver their C-A-R and S-T-A-R Statements during class\, taking advantage of in-class feedback. Through mastery of these components\, participants will learn how to apply their accomplishments to a smart job search.  Please Note: all participants will be expected to stand and deliver accomplishment statements in front of the class. (2 hours)
URL:https://masshiremncareers.com/event/conveying-your-skills-14/
LOCATION:Woburn Career Center\, 100 Trade Center\, Suite G100\, Woburn\, MA\, 01801\, United States
CATEGORIES:Woburn Center Event,Workshops
END:VEVENT
BEGIN:VEVENT
DTSTART;TZID=America/New_York:20191113T100000
DTEND;TZID=America/New_York:20191113T120000
DTSTAMP:20260423T214817
CREATED:20191003T133446Z
LAST-MODIFIED:20191003T133446Z
UID:19387-1573639200-1573646400@masshiremncareers.com
SUMMARY:Department of Transitional Assistance
DESCRIPTION:A representative from the Department of Transitional Assistance will be onsite to answer questions about their programs.
URL:https://masshiremncareers.com/event/department-of-transitional-assistance-9/
LOCATION:Chelsea Career Center\, 4 Gerrish Ave\, Chelsea\, MA\, 02150\, United States
CATEGORIES:Chelsea Center Event
END:VEVENT
BEGIN:VEVENT
DTSTART;TZID=America/New_York:20191113T130000
DTEND;TZID=America/New_York:20191113T150000
DTSTAMP:20260423T214817
CREATED:20191003T123619Z
LAST-MODIFIED:20191003T123619Z
UID:19359-1573650000-1573657200@masshiremncareers.com
SUMMARY:JobQuest: Completing Your Profile
DESCRIPTION:Let’s look under the hood of JobQuest\, Massachusetts’ job search engine. What are the keys to connecting to employers?  How can hiring managers and industry insiders find you? Join us for this computer-based hands-on workshop and get back to work that much faster! (2 hours)
URL:https://masshiremncareers.com/event/jobquest-completing-your-profile-35/
LOCATION:Cambridge Career Center\, 186 Alewife Brook Parkway\, Cambridge\, MA\, 02138\, United States
CATEGORIES:Cambridge Center Event,Workshops
END:VEVENT
BEGIN:VEVENT
DTSTART;TZID=America/New_York:20191113T143000
DTEND;TZID=America/New_York:20191113T160000
DTSTAMP:20260423T214817
CREATED:20191101T185143Z
LAST-MODIFIED:20191101T185143Z
UID:19442-1573655400-1573660800@masshiremncareers.com
SUMMARY:LinkedIn Headline & Summary
DESCRIPTION:Master the tested and proven techniques used to devise compelling Headlines and Summaries for LinkedIn. We’re giving away the secrets of stealing the attention of LinkedIn gatekeepers so you can stay ahead in the job search race!  Computer-based hands-on class using your profile as you learn. Recommended pre-requisite: LinkedIn 1.0 (1.5 hours)
URL:https://masshiremncareers.com/event/linkedin-headline-summary-7/
LOCATION:Woburn Career Center\, 100 Trade Center\, Suite G100\, Woburn\, MA\, 01801\, United States
CATEGORIES:Woburn Center Event,Workshops
END:VEVENT
END:VCALENDAR