BEGIN:VCALENDAR
VERSION:2.0
PRODID:-//MassHire Metro North Career Center - ECPv6.15.20//NONSGML v1.0//EN
CALSCALE:GREGORIAN
METHOD:PUBLISH
X-ORIGINAL-URL:https://masshiremncareers.com
X-WR-CALDESC:Events for MassHire Metro North Career Center
REFRESH-INTERVAL;VALUE=DURATION:PT1H
X-Robots-Tag:noindex
X-PUBLISHED-TTL:PT1H
BEGIN:VTIMEZONE
TZID:America/New_York
BEGIN:DAYLIGHT
TZOFFSETFROM:-0500
TZOFFSETTO:-0400
TZNAME:EDT
DTSTART:20190310T070000
END:DAYLIGHT
BEGIN:STANDARD
TZOFFSETFROM:-0400
TZOFFSETTO:-0500
TZNAME:EST
DTSTART:20191103T060000
END:STANDARD
BEGIN:DAYLIGHT
TZOFFSETFROM:-0500
TZOFFSETTO:-0400
TZNAME:EDT
DTSTART:20200308T070000
END:DAYLIGHT
BEGIN:STANDARD
TZOFFSETFROM:-0400
TZOFFSETTO:-0500
TZNAME:EST
DTSTART:20201101T060000
END:STANDARD
BEGIN:DAYLIGHT
TZOFFSETFROM:-0500
TZOFFSETTO:-0400
TZNAME:EDT
DTSTART:20210314T070000
END:DAYLIGHT
BEGIN:STANDARD
TZOFFSETFROM:-0400
TZOFFSETTO:-0500
TZNAME:EST
DTSTART:20211107T060000
END:STANDARD
END:VTIMEZONE
BEGIN:VEVENT
DTSTART;TZID=America/New_York:20200417T100000
DTEND;TZID=America/New_York:20200417T110000
DTSTAMP:20260422T155007
CREATED:20200410T192742Z
LAST-MODIFIED:20200410T192742Z
UID:20669-1587117600-1587121200@masshiremncareers.com
SUMMARY:Twitter Live Q & A
DESCRIPTION:Do You Have Questions About: How To Use Twitter For Your Job Search?\nWho Should I Follow?\nWhat is a Tweet?\nWhat Should I Tweet About? \nPlease join my meeting from your computer\, tablet or smartphone. Click Here to Join the Meeting You can also dial in using your phone.: +1 (646) 749-3122 Access Code: 745-185-493
URL:https://masshiremncareers.com/event/twitter-live-q-a/
CATEGORIES:Live Meeting,Workshops
END:VEVENT
BEGIN:VEVENT
DTSTART;TZID=America/New_York:20200417T120000
DTEND;TZID=America/New_York:20200417T133000
DTSTAMP:20260422T155007
CREATED:20200410T211126Z
LAST-MODIFIED:20200412T161200Z
UID:20675-1587124800-1587130200@masshiremncareers.com
SUMMARY:Interviewing Live Q & A
DESCRIPTION:Join our live forum and get responses to how to: \nSet up your space for a virtual interview\nResearching target organizations\nNegotiating salary\nWhat do to do when you are nervous\nQuestions you should ask\nWhat to do when you don’t know the answer \nPlease join the session from your computer\, tablet or smartphone: Click Here to Join the Meeting\nYou can also dial in using your phone. USA: +1 (571) 317-3122  Access Code: 680-559-085
URL:https://masshiremncareers.com/event/interview-live-q-a/
CATEGORIES:Live Meeting,Workshops
END:VEVENT
END:VCALENDAR