BEGIN:VCALENDAR
VERSION:2.0
PRODID:-//MassHire Metro North Career Center - ECPv6.15.20//NONSGML v1.0//EN
CALSCALE:GREGORIAN
METHOD:PUBLISH
X-ORIGINAL-URL:https://masshiremncareers.com
X-WR-CALDESC:Events for MassHire Metro North Career Center
REFRESH-INTERVAL;VALUE=DURATION:PT1H
X-Robots-Tag:noindex
X-PUBLISHED-TTL:PT1H
BEGIN:VTIMEZONE
TZID:America/New_York
BEGIN:DAYLIGHT
TZOFFSETFROM:-0500
TZOFFSETTO:-0400
TZNAME:EDT
DTSTART:20190310T070000
END:DAYLIGHT
BEGIN:STANDARD
TZOFFSETFROM:-0400
TZOFFSETTO:-0500
TZNAME:EST
DTSTART:20191103T060000
END:STANDARD
BEGIN:DAYLIGHT
TZOFFSETFROM:-0500
TZOFFSETTO:-0400
TZNAME:EDT
DTSTART:20200308T070000
END:DAYLIGHT
BEGIN:STANDARD
TZOFFSETFROM:-0400
TZOFFSETTO:-0500
TZNAME:EST
DTSTART:20201101T060000
END:STANDARD
BEGIN:DAYLIGHT
TZOFFSETFROM:-0500
TZOFFSETTO:-0400
TZNAME:EDT
DTSTART:20210314T070000
END:DAYLIGHT
BEGIN:STANDARD
TZOFFSETFROM:-0400
TZOFFSETTO:-0500
TZNAME:EST
DTSTART:20211107T060000
END:STANDARD
END:VTIMEZONE
BEGIN:VEVENT
DTSTART;TZID=America/New_York:20200817T133000
DTEND;TZID=America/New_York:20200817T143000
DTSTAMP:20260421T172646
CREATED:20200728T144825Z
LAST-MODIFIED:20200728T144825Z
UID:21256-1597671000-1597674600@masshiremncareers.com
SUMMARY:Career Assessment: O'net
DESCRIPTION:Click Here to Register \nLayoffs\, furloughs\, re-orgs. – there is a lot of movement on the professional landscape right now. Assessing your skills is key.\nJoin us for an insightful session on O*NET\, the U.S. Department\nof Labor’s web presence! \nWe will cover:\n–	Why Assessments are crucial\n–	An introduction to O*NET\n–	Skills Search\n–	Occupation Quick Search\n–	Targeting Organizations\n–	Boolean Searches \nThe question is no longer simply “what can you do?”\nWe’ll help you determine “what else you can do.” \nAfter registering\, you will receive a confirmation email containing information about joining the webinar!
URL:https://masshiremncareers.com/event/career-assessment-onet/
CATEGORIES:Webinar,Workshops
END:VEVENT
END:VCALENDAR