BEGIN:VCALENDAR
VERSION:2.0
PRODID:-//MassHire Metro North Career Center - ECPv6.15.20//NONSGML v1.0//EN
CALSCALE:GREGORIAN
METHOD:PUBLISH
X-WR-CALNAME:MassHire Metro North Career Center
X-ORIGINAL-URL:https://masshiremncareers.com
X-WR-CALDESC:Events for MassHire Metro North Career Center
REFRESH-INTERVAL;VALUE=DURATION:PT1H
X-Robots-Tag:noindex
X-PUBLISHED-TTL:PT1H
BEGIN:VTIMEZONE
TZID:America/New_York
BEGIN:DAYLIGHT
TZOFFSETFROM:-0500
TZOFFSETTO:-0400
TZNAME:EDT
DTSTART:20190310T070000
END:DAYLIGHT
BEGIN:STANDARD
TZOFFSETFROM:-0400
TZOFFSETTO:-0500
TZNAME:EST
DTSTART:20191103T060000
END:STANDARD
BEGIN:DAYLIGHT
TZOFFSETFROM:-0500
TZOFFSETTO:-0400
TZNAME:EDT
DTSTART:20200308T070000
END:DAYLIGHT
BEGIN:STANDARD
TZOFFSETFROM:-0400
TZOFFSETTO:-0500
TZNAME:EST
DTSTART:20201101T060000
END:STANDARD
BEGIN:DAYLIGHT
TZOFFSETFROM:-0500
TZOFFSETTO:-0400
TZNAME:EDT
DTSTART:20210314T070000
END:DAYLIGHT
BEGIN:STANDARD
TZOFFSETFROM:-0400
TZOFFSETTO:-0500
TZNAME:EST
DTSTART:20211107T060000
END:STANDARD
END:VTIMEZONE
BEGIN:VEVENT
DTSTART;TZID=America/New_York:20200818T100000
DTEND;TZID=America/New_York:20200818T110000
DTSTAMP:20260422T013320
CREATED:20200728T151248Z
LAST-MODIFIED:20200728T151248Z
UID:21258-1597744800-1597748400@masshiremncareers.com
SUMMARY:Resume: Beyond the Basics
DESCRIPTION:Click Here to Register \nDo You Have Questions About:\n	Developing Accomplishment Statements?\n	Determining Your Value?\n	Utilizing Key Words?\n	How to Use Hard and Soft Skills? \nAfter registering\, you will receive a confirmation email containing information about joining the webinar!
URL:https://masshiremncareers.com/event/resume-beyond-the-basics/
CATEGORIES:Webinar,Workshops
END:VEVENT
BEGIN:VEVENT
DTSTART;TZID=America/New_York:20200818T130000
DTEND;TZID=America/New_York:20200818T143000
DTSTAMP:20260422T013320
CREATED:20200728T151843Z
LAST-MODIFIED:20200728T151843Z
UID:21260-1597755600-1597761000@masshiremncareers.com
SUMMARY:Excel Basics
DESCRIPTION:Click Here to Register \nCan You Create a Spreadsheet?  \nWould you like to learn how? \nJoin a Live Excel Training \nBecome Confident In… \nCreating Worksheets  \nFormatting Cells\, Columns\, Rows \nBasic Formulas \nPrinting Spreadsheets
URL:https://masshiremncareers.com/event/excel-basics-2/
CATEGORIES:Webinar,Workshops
END:VEVENT
END:VCALENDAR