BEGIN:VCALENDAR
VERSION:2.0
PRODID:-//MassHire Metro North Career Center - ECPv6.15.20//NONSGML v1.0//EN
CALSCALE:GREGORIAN
METHOD:PUBLISH
X-ORIGINAL-URL:https://masshiremncareers.com
X-WR-CALDESC:Events for MassHire Metro North Career Center
REFRESH-INTERVAL;VALUE=DURATION:PT1H
X-Robots-Tag:noindex
X-PUBLISHED-TTL:PT1H
BEGIN:VTIMEZONE
TZID:America/New_York
BEGIN:DAYLIGHT
TZOFFSETFROM:-0500
TZOFFSETTO:-0400
TZNAME:EDT
DTSTART:20190310T070000
END:DAYLIGHT
BEGIN:STANDARD
TZOFFSETFROM:-0400
TZOFFSETTO:-0500
TZNAME:EST
DTSTART:20191103T060000
END:STANDARD
BEGIN:DAYLIGHT
TZOFFSETFROM:-0500
TZOFFSETTO:-0400
TZNAME:EDT
DTSTART:20200308T070000
END:DAYLIGHT
BEGIN:STANDARD
TZOFFSETFROM:-0400
TZOFFSETTO:-0500
TZNAME:EST
DTSTART:20201101T060000
END:STANDARD
BEGIN:DAYLIGHT
TZOFFSETFROM:-0500
TZOFFSETTO:-0400
TZNAME:EDT
DTSTART:20210314T070000
END:DAYLIGHT
BEGIN:STANDARD
TZOFFSETFROM:-0400
TZOFFSETTO:-0500
TZNAME:EST
DTSTART:20211107T060000
END:STANDARD
END:VTIMEZONE
BEGIN:VEVENT
DTSTART;TZID=America/New_York:20200819T100000
DTEND;TZID=America/New_York:20200819T113000
DTSTAMP:20260421T040039
CREATED:20200728T152432Z
LAST-MODIFIED:20200728T152432Z
UID:21262-1597831200-1597836600@masshiremncareers.com
SUMMARY:LinkedIn Job Search
DESCRIPTION:Click Here to Register \nUSE LINKEDIN TO FIND JOBS?  \nJoin A Live Training  \nUsing LinkedIn For Your Job Search \nAnd Get Your Questions Answered! \nHow to Find Jobs \nHow to Use the Filters \nIs it better to apply through LinkedIn? \nShould I connect to hiring Managers
URL:https://masshiremncareers.com/event/linkedin-job-search/
CATEGORIES:Webinar,Workshops
END:VEVENT
BEGIN:VEVENT
DTSTART;TZID=America/New_York:20200819T140000
DTEND;TZID=America/New_York:20200819T150000
DTSTAMP:20260421T040039
CREATED:20200728T162004Z
LAST-MODIFIED:20200728T162004Z
UID:21264-1597845600-1597849200@masshiremncareers.com
SUMMARY:Resume Q & A
DESCRIPTION:Click Here to Register \nDo You Have Questions About: \n•	Determining key word usage? \n•	Stating your professional value? \n•	Developing Achievement Statements? \n•	Identifying hard and soft skills? \n•	Getting past the Applicant Tracking System? \nOf course you do! Resumes are important but can be challenging. Join us for this
URL:https://masshiremncareers.com/event/resume-q-a-2/
CATEGORIES:Webinar,Workshops
END:VEVENT
END:VCALENDAR