BEGIN:VCALENDAR
VERSION:2.0
PRODID:-//MassHire Metro North Career Center - ECPv6.15.20//NONSGML v1.0//EN
CALSCALE:GREGORIAN
METHOD:PUBLISH
X-WR-CALNAME:MassHire Metro North Career Center
X-ORIGINAL-URL:https://masshiremncareers.com
X-WR-CALDESC:Events for MassHire Metro North Career Center
REFRESH-INTERVAL;VALUE=DURATION:PT1H
X-Robots-Tag:noindex
X-PUBLISHED-TTL:PT1H
BEGIN:VTIMEZONE
TZID:America/New_York
BEGIN:DAYLIGHT
TZOFFSETFROM:-0500
TZOFFSETTO:-0400
TZNAME:EDT
DTSTART:20190310T070000
END:DAYLIGHT
BEGIN:STANDARD
TZOFFSETFROM:-0400
TZOFFSETTO:-0500
TZNAME:EST
DTSTART:20191103T060000
END:STANDARD
BEGIN:DAYLIGHT
TZOFFSETFROM:-0500
TZOFFSETTO:-0400
TZNAME:EDT
DTSTART:20200308T070000
END:DAYLIGHT
BEGIN:STANDARD
TZOFFSETFROM:-0400
TZOFFSETTO:-0500
TZNAME:EST
DTSTART:20201101T060000
END:STANDARD
BEGIN:DAYLIGHT
TZOFFSETFROM:-0500
TZOFFSETTO:-0400
TZNAME:EDT
DTSTART:20210314T070000
END:DAYLIGHT
BEGIN:STANDARD
TZOFFSETFROM:-0400
TZOFFSETTO:-0500
TZNAME:EST
DTSTART:20211107T060000
END:STANDARD
END:VTIMEZONE
BEGIN:VEVENT
DTSTART;TZID=America/New_York:20200824T133000
DTEND;TZID=America/New_York:20200824T143000
DTSTAMP:20260421T172149
CREATED:20200728T163645Z
LAST-MODIFIED:20200728T163645Z
UID:21271-1598275800-1598279400@masshiremncareers.com
SUMMARY:Storytelling in Your Career Search
DESCRIPTION:Click Here to Register \nEveryone has a story! But did you know that the components of storytelling can actually assist you in your job search?  \nJoin us for this dynamic virtual session as we apply the essentials of storytelling to Your Career Match.  \nWe will explore: \n	A story’s must-haves\n	How to apply those essentials to your target organization\n	How to apply those essentials to your job search\n	Drawing parallels between you and your target organization \nYou have a story. We’ll help you plot your career. \nAfter registering\, you will receive a confirmation email containing information about joining the webinar!
URL:https://masshiremncareers.com/event/storytelling-in-your-career-search/
CATEGORIES:Webinar,Workshops
END:VEVENT
END:VCALENDAR