BEGIN:VCALENDAR
VERSION:2.0
PRODID:-//MassHire Metro North Career Center - ECPv6.15.20//NONSGML v1.0//EN
CALSCALE:GREGORIAN
METHOD:PUBLISH
X-ORIGINAL-URL:https://masshiremncareers.com
X-WR-CALDESC:Events for MassHire Metro North Career Center
REFRESH-INTERVAL;VALUE=DURATION:PT1H
X-Robots-Tag:noindex
X-PUBLISHED-TTL:PT1H
BEGIN:VTIMEZONE
TZID:America/New_York
BEGIN:DAYLIGHT
TZOFFSETFROM:-0500
TZOFFSETTO:-0400
TZNAME:EDT
DTSTART:20190310T070000
END:DAYLIGHT
BEGIN:STANDARD
TZOFFSETFROM:-0400
TZOFFSETTO:-0500
TZNAME:EST
DTSTART:20191103T060000
END:STANDARD
BEGIN:DAYLIGHT
TZOFFSETFROM:-0500
TZOFFSETTO:-0400
TZNAME:EDT
DTSTART:20200308T070000
END:DAYLIGHT
BEGIN:STANDARD
TZOFFSETFROM:-0400
TZOFFSETTO:-0500
TZNAME:EST
DTSTART:20201101T060000
END:STANDARD
BEGIN:DAYLIGHT
TZOFFSETFROM:-0500
TZOFFSETTO:-0400
TZNAME:EDT
DTSTART:20210314T070000
END:DAYLIGHT
BEGIN:STANDARD
TZOFFSETFROM:-0400
TZOFFSETTO:-0500
TZNAME:EST
DTSTART:20211107T060000
END:STANDARD
END:VTIMEZONE
BEGIN:VEVENT
DTSTART;TZID=America/New_York:20201019T093000
DTEND;TZID=America/New_York:20201019T103000
DTSTAMP:20260424T054141
CREATED:20200924T191433Z
LAST-MODIFIED:20200924T193928Z
UID:21512-1603099800-1603103400@masshiremncareers.com
SUMMARY:Resume Basics
DESCRIPTION:Register in Jobquest \nDo you need to learn the current formats for creating or updating your resume to attract employers?  \nCome learn the dos and don’ts of resumes  \nHave your heard about the Applicant Tracking System?  \nLearn how to get your resume through this system   \nHow do you tailor a resume?  \nWe’re delighted to have you join us online.  Registration for this event will close 2 business days prior to start time. After signing up in Jobquest\, you’ll receive an email from nquinn@mhmncc.com that will provide directions on registering in Webex for the event 24-48 hours prior to the event.   \nPlease register 24 hours prior to event. Webex is the virtual platform Metro North Career Center uses.\nDetailed Instructions
URL:https://masshiremncareers.com/event/resume-basics-4/
CATEGORIES:Webinar,Workshops
END:VEVENT
END:VCALENDAR