BEGIN:VCALENDAR
VERSION:2.0
PRODID:-//MassHire Metro North Career Center - ECPv6.15.20//NONSGML v1.0//EN
CALSCALE:GREGORIAN
METHOD:PUBLISH
X-ORIGINAL-URL:https://masshiremncareers.com
X-WR-CALDESC:Events for MassHire Metro North Career Center
REFRESH-INTERVAL;VALUE=DURATION:PT1H
X-Robots-Tag:noindex
X-PUBLISHED-TTL:PT1H
BEGIN:VTIMEZONE
TZID:America/New_York
BEGIN:DAYLIGHT
TZOFFSETFROM:-0500
TZOFFSETTO:-0400
TZNAME:EDT
DTSTART:20200308T070000
END:DAYLIGHT
BEGIN:STANDARD
TZOFFSETFROM:-0400
TZOFFSETTO:-0500
TZNAME:EST
DTSTART:20201101T060000
END:STANDARD
BEGIN:DAYLIGHT
TZOFFSETFROM:-0500
TZOFFSETTO:-0400
TZNAME:EDT
DTSTART:20210314T070000
END:DAYLIGHT
BEGIN:STANDARD
TZOFFSETFROM:-0400
TZOFFSETTO:-0500
TZNAME:EST
DTSTART:20211107T060000
END:STANDARD
BEGIN:DAYLIGHT
TZOFFSETFROM:-0500
TZOFFSETTO:-0400
TZNAME:EDT
DTSTART:20220313T070000
END:DAYLIGHT
BEGIN:STANDARD
TZOFFSETFROM:-0400
TZOFFSETTO:-0500
TZNAME:EST
DTSTART:20221106T060000
END:STANDARD
END:VTIMEZONE
BEGIN:VEVENT
DTSTART;TZID=America/New_York:20210811T100000
DTEND;TZID=America/New_York:20210811T110000
DTSTAMP:20260421T005946
CREATED:20210726T153718Z
LAST-MODIFIED:20210726T153718Z
UID:22987-1628676000-1628679600@masshiremncareers.com
SUMMARY:Hard/Soft Skills Live Q & A
DESCRIPTION:Register in Jobquest \nYou’ve Got Skills…\nWhich are Hard? Which are Soft? Does one type matter more than the other? Join the Workshop Team for a live forum and get the answers!   \nTopics Include:  \nSoft Skills\, Hard Skills defined  \nWhich matter more?   \nThe Soft & Hard Skills pivotal to your industry  \nAutomation vs. Job Security  \nJob Search via Soft & Hard Skills   \nReweighting   \nEmployability  \nObtaining the Soft & Hard Skills you don’t have yet  \nSoft Skills & Hard Skills – You Have Them. We’ll Help You Find Them.  \nWe’re delighted to have you join us online. Registration for this event will close 2 business days prior to start time. After signing up in Jobquest\, you’ll receive an email from Bschneider@mhmncc.com that will provide directions on registering in Webex for the event 24-48 hours prior to the event.   \nPlease register 24 hours prior to event. Webex is the virtual platform Metro North Career Center uses.\nDetailed Instructions
URL:https://masshiremncareers.com/event/hard-soft-skills-live-q-a-2/
CATEGORIES:Webinar,Workshops
END:VEVENT
BEGIN:VEVENT
DTSTART;TZID=America/New_York:20210811T130000
DTEND;TZID=America/New_York:20210811T143000
DTSTAMP:20260421T005946
CREATED:20210726T153841Z
LAST-MODIFIED:20210726T153841Z
UID:22989-1628686800-1628692200@masshiremncareers.com
SUMMARY:PowerPoint Custom Slideshow
DESCRIPTION:Register in Jobquest \nPowerPoint Dynamic Slide Show! \nCustomize Slide Show… \nLearn how to: \nRun Slides Automatically \nLoop Continuously \nSlide Show Controls \nSlide Transitions  \nTimings \nMusic Continually Playing \nAfter registering though Jobquest\, you’ll be sent a link from jromano@mhmncc.com to get into the event via Webex 24-48 hours prior to the start of the event.Detailed Instructions
URL:https://masshiremncareers.com/event/powerpoint-custom-slideshow/
CATEGORIES:Webinar,Workshops
END:VEVENT
END:VCALENDAR