BEGIN:VCALENDAR
VERSION:2.0
PRODID:-//MassHire Metro North Career Center - ECPv6.15.20//NONSGML v1.0//EN
CALSCALE:GREGORIAN
METHOD:PUBLISH
X-ORIGINAL-URL:https://masshiremncareers.com
X-WR-CALDESC:Events for MassHire Metro North Career Center
REFRESH-INTERVAL;VALUE=DURATION:PT1H
X-Robots-Tag:noindex
X-PUBLISHED-TTL:PT1H
BEGIN:VTIMEZONE
TZID:UTC
BEGIN:STANDARD
TZOFFSETFROM:+0000
TZOFFSETTO:+0000
TZNAME:UTC
DTSTART:20210101T000000
END:STANDARD
END:VTIMEZONE
BEGIN:VEVENT
DTSTART;TZID=UTC:20220628T100000
DTEND;TZID=UTC:20220628T110000
DTSTAMP:20260420T162539
CREATED:20220225T213201Z
LAST-MODIFIED:20220523T141003Z
UID:23989-1656410400-1656414000@masshiremncareers.com
SUMMARY:Branding: Celebrate Yourself
DESCRIPTION:Register in Jobquest \nDo you need a personal brand? For today’s job search? You do. Let’s talk about your Brand! \n– What is a brand and why do I need one? \n– How to I capture my brand? \n– How does Social Media affect my brand? \n– How do I control my brand? \nLet’s review how to develop it\, when to use it\, where to place it and how to keep it relevant. \nWe’re delighted to have you join us online. Registration for this event will close 2 business days prior to start time. After signing up in Jobquest\, you’ll receive an email from nquinn@mhmncc.com that will provide directions on registering in Webex for the event 24-48 hours prior to the event. \nPlease register 24 hours prior to event. Webex is the virtual platform Metro North Career Center uses. \nDetailed Instructions
URL:https://masshiremncareers.com/event/branding-celebrate-yourself-3/
CATEGORIES:Webinar,Workshops
END:VEVENT
END:VCALENDAR