BEGIN:VCALENDAR
VERSION:2.0
PRODID:-//MassHire Metro North Career Center - ECPv6.15.20//NONSGML v1.0//EN
CALSCALE:GREGORIAN
METHOD:PUBLISH
X-ORIGINAL-URL:https://masshiremncareers.com
X-WR-CALDESC:Events for MassHire Metro North Career Center
REFRESH-INTERVAL;VALUE=DURATION:PT1H
X-Robots-Tag:noindex
X-PUBLISHED-TTL:PT1H
BEGIN:VTIMEZONE
TZID:America/New_York
BEGIN:DAYLIGHT
TZOFFSETFROM:-0500
TZOFFSETTO:-0400
TZNAME:EDT
DTSTART:20220313T070000
END:DAYLIGHT
BEGIN:STANDARD
TZOFFSETFROM:-0400
TZOFFSETTO:-0500
TZNAME:EST
DTSTART:20221106T060000
END:STANDARD
BEGIN:DAYLIGHT
TZOFFSETFROM:-0500
TZOFFSETTO:-0400
TZNAME:EDT
DTSTART:20230312T070000
END:DAYLIGHT
BEGIN:STANDARD
TZOFFSETFROM:-0400
TZOFFSETTO:-0500
TZNAME:EST
DTSTART:20231105T060000
END:STANDARD
BEGIN:DAYLIGHT
TZOFFSETFROM:-0500
TZOFFSETTO:-0400
TZNAME:EDT
DTSTART:20240310T070000
END:DAYLIGHT
BEGIN:STANDARD
TZOFFSETFROM:-0400
TZOFFSETTO:-0500
TZNAME:EST
DTSTART:20241103T060000
END:STANDARD
END:VTIMEZONE
BEGIN:VEVENT
DTSTART;TZID=America/New_York:20230828T110000
DTEND;TZID=America/New_York:20230828T130000
DTSTAMP:20260421T070829
CREATED:20230814T131457Z
LAST-MODIFIED:20230814T131457Z
UID:26256-1693220400-1693227600@masshiremncareers.com
SUMMARY:Basic Computer Skills 2
DESCRIPTION:Having general knowledge about computers is a great start! In this class\, enhance your skills by diving deeper into computer knowledge. Get more familiar with the keyboard\, learn to print\, and develop a better understanding of that mess of cords that flows out of the back of your computer. Most importantly\, learn to protect yourself with computer safety. \nRegister here
URL:https://masshiremncareers.com/event/basic-computer-skills-2/
CATEGORIES:Cambridge Center Event,Workshops
ATTACH;FMTTYPE=image/jpeg:https://masshiremncareers.com/wp-content/uploads/Basic-Computer-Skills-2-Flyer-1.jpg
END:VEVENT
BEGIN:VEVENT
DTSTART;TZID=America/New_York:20230828T140000
DTEND;TZID=America/New_York:20230828T150000
DTSTAMP:20260421T070829
CREATED:20230724T154547Z
LAST-MODIFIED:20230724T154834Z
UID:26163-1693231200-1693234800@masshiremncareers.com
SUMMARY:Transition: a webinar on career
DESCRIPTION:Time for a professional shift? How should you go about making that kind of decision? Join this session to learn about types of professional change\, how to assess your skills and revising your resume. \nRegister here
URL:https://masshiremncareers.com/event/transition-a-webinar-on-career/
CATEGORIES:Cambridge Center Event,Webinar,Workshops
ATTACH;FMTTYPE=image/jpeg:https://masshiremncareers.com/wp-content/uploads/Transition-Career-Change-20230828.jpg
END:VEVENT
END:VCALENDAR