BEGIN:VCALENDAR
VERSION:2.0
PRODID:-//MassHire Metro North Career Center - ECPv6.15.20//NONSGML v1.0//EN
CALSCALE:GREGORIAN
METHOD:PUBLISH
X-ORIGINAL-URL:https://masshiremncareers.com
X-WR-CALDESC:Events for MassHire Metro North Career Center
REFRESH-INTERVAL;VALUE=DURATION:PT1H
X-Robots-Tag:noindex
X-PUBLISHED-TTL:PT1H
BEGIN:VTIMEZONE
TZID:America/New_York
BEGIN:DAYLIGHT
TZOFFSETFROM:-0500
TZOFFSETTO:-0400
TZNAME:EDT
DTSTART:20230312T070000
END:DAYLIGHT
BEGIN:STANDARD
TZOFFSETFROM:-0400
TZOFFSETTO:-0500
TZNAME:EST
DTSTART:20231105T060000
END:STANDARD
BEGIN:DAYLIGHT
TZOFFSETFROM:-0500
TZOFFSETTO:-0400
TZNAME:EDT
DTSTART:20240310T070000
END:DAYLIGHT
BEGIN:STANDARD
TZOFFSETFROM:-0400
TZOFFSETTO:-0500
TZNAME:EST
DTSTART:20241103T060000
END:STANDARD
BEGIN:DAYLIGHT
TZOFFSETFROM:-0500
TZOFFSETTO:-0400
TZNAME:EDT
DTSTART:20250309T070000
END:DAYLIGHT
BEGIN:STANDARD
TZOFFSETFROM:-0400
TZOFFSETTO:-0500
TZNAME:EST
DTSTART:20251102T060000
END:STANDARD
END:VTIMEZONE
BEGIN:VEVENT
DTSTART;TZID=America/New_York:20240408T110000
DTEND;TZID=America/New_York:20240408T130000
DTSTAMP:20260421T123916
CREATED:20240325T190539Z
LAST-MODIFIED:20240325T190539Z
UID:27473-1712574000-1712581200@masshiremncareers.com
SUMMARY:Basic Computer Skills 1
DESCRIPTION:Are you new to the world of computers? Do you want to feel more comfortable using technology? This is the course for you! Learn the very basics about computers starting with the terminology. Practice navigating a desktop\, browsing the internet\, and even get an introduction to creating and saving documents using some of the most popular Microsoft Windows 11 applications: Word\, Excel\, and PowerPoint. \nRegister here.
URL:https://masshiremncareers.com/event/basic-computer-skills-1-10/
CATEGORIES:Cambridge Center Event,Workshops
ATTACH;FMTTYPE=image/jpeg:https://masshiremncareers.com/wp-content/uploads/BasicComputerSkills1.workshop.Flyer_.20240408.jpg
END:VEVENT
BEGIN:VEVENT
DTSTART;TZID=America/New_York:20240408T140000
DTEND;TZID=America/New_York:20240408T150000
DTSTAMP:20260421T123916
CREATED:20240325T190926Z
LAST-MODIFIED:20240325T190926Z
UID:27475-1712584800-1712588400@masshiremncareers.com
SUMMARY:Storytelling in Your Career Search
DESCRIPTION:Did you know the components of storytelling can assist you in your job search? We will explore: a story’s must-haves\, applying those to your target organization and drawing parallels between you and your target company. \nRegister here.
URL:https://masshiremncareers.com/event/storytelling-in-your-career-search-7/
CATEGORIES:Cambridge Center Event,Webinar,Workshops
END:VEVENT
END:VCALENDAR