BEGIN:VCALENDAR
VERSION:2.0
PRODID:-//MassHire Metro North Career Center - ECPv6.15.20//NONSGML v1.0//EN
CALSCALE:GREGORIAN
METHOD:PUBLISH
X-ORIGINAL-URL:https://masshiremncareers.com
X-WR-CALDESC:Events for MassHire Metro North Career Center
REFRESH-INTERVAL;VALUE=DURATION:PT1H
X-Robots-Tag:noindex
X-PUBLISHED-TTL:PT1H
BEGIN:VTIMEZONE
TZID:America/New_York
BEGIN:DAYLIGHT
TZOFFSETFROM:-0500
TZOFFSETTO:-0400
TZNAME:EDT
DTSTART:20230312T070000
END:DAYLIGHT
BEGIN:STANDARD
TZOFFSETFROM:-0400
TZOFFSETTO:-0500
TZNAME:EST
DTSTART:20231105T060000
END:STANDARD
BEGIN:DAYLIGHT
TZOFFSETFROM:-0500
TZOFFSETTO:-0400
TZNAME:EDT
DTSTART:20240310T070000
END:DAYLIGHT
BEGIN:STANDARD
TZOFFSETFROM:-0400
TZOFFSETTO:-0500
TZNAME:EST
DTSTART:20241103T060000
END:STANDARD
BEGIN:DAYLIGHT
TZOFFSETFROM:-0500
TZOFFSETTO:-0400
TZNAME:EDT
DTSTART:20250309T070000
END:DAYLIGHT
BEGIN:STANDARD
TZOFFSETFROM:-0400
TZOFFSETTO:-0500
TZNAME:EST
DTSTART:20251102T060000
END:STANDARD
END:VTIMEZONE
BEGIN:VEVENT
DTSTART;TZID=America/New_York:20240521T100000
DTEND;TZID=America/New_York:20240521T110000
DTSTAMP:20260420T124433
CREATED:20240417T181024Z
LAST-MODIFIED:20240417T181024Z
UID:27566-1716285600-1716289200@masshiremncareers.com
SUMMARY:New Strategies for Older Workers
DESCRIPTION:Is there ageism out there? There is. This workshop will help you fight it and level the battlefield. Let’s review hot to develop a job search that reflects ability\, not age! \nRegister here.
URL:https://masshiremncareers.com/event/new-strategies-for-older-workers-25/
CATEGORIES:Webinar,Woburn Center Event,Workshops
END:VEVENT
BEGIN:VEVENT
DTSTART;TZID=America/New_York:20240521T130000
DTEND;TZID=America/New_York:20240521T150000
DTSTAMP:20260420T124433
CREATED:20240423T172203Z
LAST-MODIFIED:20240423T172203Z
UID:27595-1716296400-1716303600@masshiremncareers.com
SUMMARY:Como Lograr un Habito
DESCRIPTION:MassHire te invita a que juntos descubramos la importancia de como lograr tener un buen habito en muchos aspectos de tu vida y mas aunen tu busquedad de empleo. \nRegistrarse aqui.
URL:https://masshiremncareers.com/event/como-lograr-un-habito-6/
CATEGORIES:Chelsea Center Event,Español,Webinar
ATTACH;FMTTYPE=image/jpeg:https://masshiremncareers.com/wp-content/uploads/How-to-achieve-a-habit-flyer-Spanish-2024may21-1.jpg
END:VEVENT
END:VCALENDAR