BEGIN:VCALENDAR
VERSION:2.0
PRODID:-//MassHire Metro North Career Center - ECPv6.15.20//NONSGML v1.0//EN
CALSCALE:GREGORIAN
METHOD:PUBLISH
X-WR-CALNAME:MassHire Metro North Career Center
X-ORIGINAL-URL:https://masshiremncareers.com
X-WR-CALDESC:Events for MassHire Metro North Career Center
REFRESH-INTERVAL;VALUE=DURATION:PT1H
X-Robots-Tag:noindex
X-PUBLISHED-TTL:PT1H
BEGIN:VTIMEZONE
TZID:America/New_York
BEGIN:DAYLIGHT
TZOFFSETFROM:-0500
TZOFFSETTO:-0400
TZNAME:EDT
DTSTART:20230312T070000
END:DAYLIGHT
BEGIN:STANDARD
TZOFFSETFROM:-0400
TZOFFSETTO:-0500
TZNAME:EST
DTSTART:20231105T060000
END:STANDARD
BEGIN:DAYLIGHT
TZOFFSETFROM:-0500
TZOFFSETTO:-0400
TZNAME:EDT
DTSTART:20240310T070000
END:DAYLIGHT
BEGIN:STANDARD
TZOFFSETFROM:-0400
TZOFFSETTO:-0500
TZNAME:EST
DTSTART:20241103T060000
END:STANDARD
BEGIN:DAYLIGHT
TZOFFSETFROM:-0500
TZOFFSETTO:-0400
TZNAME:EDT
DTSTART:20250309T070000
END:DAYLIGHT
BEGIN:STANDARD
TZOFFSETFROM:-0400
TZOFFSETTO:-0500
TZNAME:EST
DTSTART:20251102T060000
END:STANDARD
END:VTIMEZONE
BEGIN:VEVENT
DTSTART;TZID=America/New_York:20240530T100000
DTEND;TZID=America/New_York:20240530T110000
DTSTAMP:20260420T144415
CREATED:20240417T182419Z
LAST-MODIFIED:20240417T182419Z
UID:27573-1717063200-1717066800@masshiremncareers.com
SUMMARY:Remote Work: Is It For You?
DESCRIPTION:Does remote work sound like it would work for you? Let’s walk through the skills needed to be successful as well as your home set up and technology requirements. We’ll also examine how to avoid scams. Join us online! \nRegister here.
URL:https://masshiremncareers.com/event/remote-work-is-it-for-you-13/
CATEGORIES:Webinar,Woburn Center Event,Workshops
END:VEVENT
BEGIN:VEVENT
DTSTART;TZID=America/New_York:20240530T130000
DTEND;TZID=America/New_York:20240530T140000
DTSTAMP:20260420T144415
CREATED:20240423T172839Z
LAST-MODIFIED:20240423T172839Z
UID:27601-1717074000-1717077600@masshiremncareers.com
SUMMARY:Negociacion Salarial
DESCRIPTION:Únase a nosotros para una sesión integral sobre negociación\n¡Lo que mereces! \nCubriremos: \nInvestigación de mercado necesaria para encontrar el rango correcto\nDeclaraciones de logros\nQué hacer y qué no hacer en la negociación\nDeclaraciones de desviación\nAnalizando la oferta de trabajo.\nMantener viva la negociación\nLas otras piezas del pastel de negociación \nRegistrarse aqui.
URL:https://masshiremncareers.com/event/negociacion-salarial-13/
CATEGORIES:Chelsea Center Event,Español,Workshops
ATTACH;FMTTYPE=image/jpeg:https://masshiremncareers.com/wp-content/uploads/Salary-Negotiation-Spanish-20240530-1.jpg
END:VEVENT
END:VCALENDAR