BEGIN:VCALENDAR
VERSION:2.0
PRODID:-//MassHire Metro North Career Center - ECPv6.15.20//NONSGML v1.0//EN
CALSCALE:GREGORIAN
METHOD:PUBLISH
X-WR-CALNAME:MassHire Metro North Career Center
X-ORIGINAL-URL:https://masshiremncareers.com
X-WR-CALDESC:Events for MassHire Metro North Career Center
REFRESH-INTERVAL;VALUE=DURATION:PT1H
X-Robots-Tag:noindex
X-PUBLISHED-TTL:PT1H
BEGIN:VTIMEZONE
TZID:America/New_York
BEGIN:DAYLIGHT
TZOFFSETFROM:-0500
TZOFFSETTO:-0400
TZNAME:EDT
DTSTART:20230312T070000
END:DAYLIGHT
BEGIN:STANDARD
TZOFFSETFROM:-0400
TZOFFSETTO:-0500
TZNAME:EST
DTSTART:20231105T060000
END:STANDARD
BEGIN:DAYLIGHT
TZOFFSETFROM:-0500
TZOFFSETTO:-0400
TZNAME:EDT
DTSTART:20240310T070000
END:DAYLIGHT
BEGIN:STANDARD
TZOFFSETFROM:-0400
TZOFFSETTO:-0500
TZNAME:EST
DTSTART:20241103T060000
END:STANDARD
BEGIN:DAYLIGHT
TZOFFSETFROM:-0500
TZOFFSETTO:-0400
TZNAME:EDT
DTSTART:20250309T070000
END:DAYLIGHT
BEGIN:STANDARD
TZOFFSETFROM:-0400
TZOFFSETTO:-0500
TZNAME:EST
DTSTART:20251102T060000
END:STANDARD
END:VTIMEZONE
BEGIN:VEVENT
DTSTART;TZID=America/New_York:20240606T100000
DTEND;TZID=America/New_York:20240606T110000
DTSTAMP:20260420T192840
CREATED:20240515T145649Z
LAST-MODIFIED:20240515T145649Z
UID:27620-1717668000-1717671600@masshiremncareers.com
SUMMARY:Career Change: Second Act
DESCRIPTION:Are you stepping back in your career? Do you need to change your field? Please join us online to examine how to find your transferable skills\, convey value in a new field and more. \nRegister here.
URL:https://masshiremncareers.com/event/career-change-second-act-15/
CATEGORIES:Webinar,Woburn Center Event,Workshops
ATTACH;FMTTYPE=image/jpeg:https://masshiremncareers.com/wp-content/uploads/Career-Change-Second-Act-20240606.jpg
END:VEVENT
BEGIN:VEVENT
DTSTART;TZID=America/New_York:20240606T110000
DTEND;TZID=America/New_York:20240606T123000
DTSTAMP:20260420T192840
CREATED:20240515T145919Z
LAST-MODIFIED:20240515T145919Z
UID:27622-1717671600-1717677000@masshiremncareers.com
SUMMARY:Virtual Google Group 2
DESCRIPTION:Google Suite has so much to offer. In this workshop\, learn how to get started in each of the following apps: Contacts\, Photos\, Keep\, Forms\, Classroom\, Alerts\, and Saved. \nRegister here.
URL:https://masshiremncareers.com/event/virtual-google-group-2-3/
CATEGORIES:Webinar,Woburn Center Event,Workshops
ATTACH;FMTTYPE=image/jpeg:https://masshiremncareers.com/wp-content/uploads/GoogleGroup2.workshop.Flyer_.20240606.jpg
END:VEVENT
BEGIN:VEVENT
DTSTART;TZID=America/New_York:20240606T130000
DTEND;TZID=America/New_York:20240606T140000
DTSTAMP:20260420T192840
CREATED:20240515T151046Z
LAST-MODIFIED:20240515T151046Z
UID:27628-1717678800-1717682400@masshiremncareers.com
SUMMARY:Lo basico de la computadora
DESCRIPTION:
URL:https://masshiremncareers.com/event/lo-basico-de-la-computadora-12/
CATEGORIES:Chelsea Center Event,Español,Workshops
END:VEVENT
END:VCALENDAR