BEGIN:VCALENDAR
VERSION:2.0
PRODID:-//MassHire Metro North Career Center - ECPv6.15.20//NONSGML v1.0//EN
CALSCALE:GREGORIAN
METHOD:PUBLISH
X-WR-CALNAME:MassHire Metro North Career Center
X-ORIGINAL-URL:https://masshiremncareers.com
X-WR-CALDESC:Events for MassHire Metro North Career Center
REFRESH-INTERVAL;VALUE=DURATION:PT1H
X-Robots-Tag:noindex
X-PUBLISHED-TTL:PT1H
BEGIN:VTIMEZONE
TZID:America/New_York
BEGIN:DAYLIGHT
TZOFFSETFROM:-0500
TZOFFSETTO:-0400
TZNAME:EDT
DTSTART:20230312T070000
END:DAYLIGHT
BEGIN:STANDARD
TZOFFSETFROM:-0400
TZOFFSETTO:-0500
TZNAME:EST
DTSTART:20231105T060000
END:STANDARD
BEGIN:DAYLIGHT
TZOFFSETFROM:-0500
TZOFFSETTO:-0400
TZNAME:EDT
DTSTART:20240310T070000
END:DAYLIGHT
BEGIN:STANDARD
TZOFFSETFROM:-0400
TZOFFSETTO:-0500
TZNAME:EST
DTSTART:20241103T060000
END:STANDARD
BEGIN:DAYLIGHT
TZOFFSETFROM:-0500
TZOFFSETTO:-0400
TZNAME:EDT
DTSTART:20250309T070000
END:DAYLIGHT
BEGIN:STANDARD
TZOFFSETFROM:-0400
TZOFFSETTO:-0500
TZNAME:EST
DTSTART:20251102T060000
END:STANDARD
END:VTIMEZONE
BEGIN:VEVENT
DTSTART;TZID=America/New_York:20240618T100000
DTEND;TZID=America/New_York:20240618T110000
DTSTAMP:20260420T073816
CREATED:20240515T190741Z
LAST-MODIFIED:20240515T190741Z
UID:27643-1718704800-1718708400@masshiremncareers.com
SUMMARY:Staying Positive (Webinar)
DESCRIPTION:We can help you avoid job search pitfalls like depression\, anxiety and negativity. Join other job seekers who are in the trenches with you. Immediately put into practice stay-calm strategies so you can focus. Together\, we will learn and comprehend the steps to staying positive in the job search. \nRegister here.
URL:https://masshiremncareers.com/event/staying-positive-webinar-5/
CATEGORIES:Webinar,Woburn Center Event,Workshops
ATTACH;FMTTYPE=image/jpeg:https://masshiremncareers.com/wp-content/uploads/Stay-Pos-Event-Flyer20240618-1.jpg
END:VEVENT
BEGIN:VEVENT
DTSTART;TZID=America/New_York:20240618T130000
DTEND;TZID=America/New_York:20240618T140000
DTSTAMP:20260420T073816
CREATED:20240515T191315Z
LAST-MODIFIED:20240515T191315Z
UID:27645-1718715600-1718719200@masshiremncareers.com
SUMMARY:Descifrar el Mercado Oculto
DESCRIPTION:Hay todo un grupo de trabajos sin publicidad a los que puedes acceder. Hablaremos de cómo.\n* Algunos trabajos están justo debajo de la superficie\n* ¡Para algunos tienes que cavar!\n* ¡Hablaremos sobre cómo cavar!\n* Hablaremos de por qué las empresas hacen esto\n* Hablaremos sobre cómo conectarse para obtener acceso a esos trabajos. \nRegistrarse aqui
URL:https://masshiremncareers.com/event/descifrar-el-mercado-oculto-6/
CATEGORIES:Chelsea Center Event,Español,Webinar,Workshops
END:VEVENT
END:VCALENDAR