BEGIN:VCALENDAR
VERSION:2.0
PRODID:-//MassHire Metro North Career Center - ECPv6.15.20//NONSGML v1.0//EN
CALSCALE:GREGORIAN
METHOD:PUBLISH
X-WR-CALNAME:MassHire Metro North Career Center
X-ORIGINAL-URL:https://masshiremncareers.com
X-WR-CALDESC:Events for MassHire Metro North Career Center
REFRESH-INTERVAL;VALUE=DURATION:PT1H
X-Robots-Tag:noindex
X-PUBLISHED-TTL:PT1H
BEGIN:VTIMEZONE
TZID:America/New_York
BEGIN:DAYLIGHT
TZOFFSETFROM:-0500
TZOFFSETTO:-0400
TZNAME:EDT
DTSTART:20230312T070000
END:DAYLIGHT
BEGIN:STANDARD
TZOFFSETFROM:-0400
TZOFFSETTO:-0500
TZNAME:EST
DTSTART:20231105T060000
END:STANDARD
BEGIN:DAYLIGHT
TZOFFSETFROM:-0500
TZOFFSETTO:-0400
TZNAME:EDT
DTSTART:20240310T070000
END:DAYLIGHT
BEGIN:STANDARD
TZOFFSETFROM:-0400
TZOFFSETTO:-0500
TZNAME:EST
DTSTART:20241103T060000
END:STANDARD
BEGIN:DAYLIGHT
TZOFFSETFROM:-0500
TZOFFSETTO:-0400
TZNAME:EDT
DTSTART:20250309T070000
END:DAYLIGHT
BEGIN:STANDARD
TZOFFSETFROM:-0400
TZOFFSETTO:-0500
TZNAME:EST
DTSTART:20251102T060000
END:STANDARD
END:VTIMEZONE
BEGIN:VEVENT
DTSTART;TZID=America/New_York:20240710T100000
DTEND;TZID=America/New_York:20240710T110000
DTSTAMP:20260423T212411
CREATED:20240515T202046Z
LAST-MODIFIED:20240515T202046Z
UID:27668-1720605600-1720609200@masshiremncareers.com
SUMMARY:Salary Live Q & A
DESCRIPTION:Enjoyed the webinar on salary but had specific questions about how to negotiate your situation? Please join this live event and get answers. \nRegister here.
URL:https://masshiremncareers.com/event/salary-live-q-a-4/
CATEGORIES:Cambridge Center Event,Webinar,Workshops
END:VEVENT
BEGIN:VEVENT
DTSTART;TZID=America/New_York:20240710T110000
DTEND;TZID=America/New_York:20240710T120000
DTSTAMP:20260423T212411
CREATED:20240515T202223Z
LAST-MODIFIED:20240515T202223Z
UID:27669-1720609200-1720612800@masshiremncareers.com
SUMMARY:Advanced Computer Skills 2
DESCRIPTION:Personal computer skills are amazing to have. Learn how to apply your personal computer skills in order to adapt to organizational and business computer useage. Tackle using two monitors and learning keyboard shortcuts. Get an overview of the most popular Microsoft 365 apps for business use. Even learn email etiquette and how to add a custom signature to every email you send. \nRegister here.
URL:https://masshiremncareers.com/event/advanced-computer-skills-2-4/
CATEGORIES:Woburn Center Event,Workshops
END:VEVENT
BEGIN:VEVENT
DTSTART;TZID=America/New_York:20240710T140000
DTEND;TZID=America/New_York:20240710T153000
DTSTAMP:20260423T212411
CREATED:20240627T134217Z
LAST-MODIFIED:20240627T134217Z
UID:27706-1720620000-1720625400@masshiremncareers.com
SUMMARY:Cover letters
DESCRIPTION:Learn about the different types of cover letters. We’ll look into the mechanics of what makes an effective cover letter. You will learn how to effectively present your experience and skills to tailor to a job description to help land that next interview. \nRegister here.
URL:https://masshiremncareers.com/event/cover-letters-27/
CATEGORIES:Woburn Center Event,Workshops
END:VEVENT
END:VCALENDAR