BEGIN:VCALENDAR
VERSION:2.0
PRODID:-//MassHire Metro North Career Center - ECPv6.15.20//NONSGML v1.0//EN
CALSCALE:GREGORIAN
METHOD:PUBLISH
X-ORIGINAL-URL:https://masshiremncareers.com
X-WR-CALDESC:Events for MassHire Metro North Career Center
REFRESH-INTERVAL;VALUE=DURATION:PT1H
X-Robots-Tag:noindex
X-PUBLISHED-TTL:PT1H
BEGIN:VTIMEZONE
TZID:America/New_York
BEGIN:DAYLIGHT
TZOFFSETFROM:-0500
TZOFFSETTO:-0400
TZNAME:EDT
DTSTART:20230312T070000
END:DAYLIGHT
BEGIN:STANDARD
TZOFFSETFROM:-0400
TZOFFSETTO:-0500
TZNAME:EST
DTSTART:20231105T060000
END:STANDARD
BEGIN:DAYLIGHT
TZOFFSETFROM:-0500
TZOFFSETTO:-0400
TZNAME:EDT
DTSTART:20240310T070000
END:DAYLIGHT
BEGIN:STANDARD
TZOFFSETFROM:-0400
TZOFFSETTO:-0500
TZNAME:EST
DTSTART:20241103T060000
END:STANDARD
BEGIN:DAYLIGHT
TZOFFSETFROM:-0500
TZOFFSETTO:-0400
TZNAME:EDT
DTSTART:20250309T070000
END:DAYLIGHT
BEGIN:STANDARD
TZOFFSETFROM:-0400
TZOFFSETTO:-0500
TZNAME:EST
DTSTART:20251102T060000
END:STANDARD
END:VTIMEZONE
BEGIN:VEVENT
DTSTART;TZID=America/New_York:20241003T100000
DTEND;TZID=America/New_York:20241003T110000
DTSTAMP:20260423T150450
CREATED:20240726T173046Z
LAST-MODIFIED:20240726T173046Z
UID:27803-1727949600-1727953200@masshiremncareers.com
SUMMARY:Letter of Interest
DESCRIPTION:
URL:https://masshiremncareers.com/event/letter-of-interest-11/
CATEGORIES:Webinar,Workshops
END:VEVENT
BEGIN:VEVENT
DTSTART;TZID=America/New_York:20241003T110000
DTEND;TZID=America/New_York:20241003T120000
DTSTAMP:20260423T150450
CREATED:20240830T164542Z
LAST-MODIFIED:20240830T164542Z
UID:27839-1727953200-1727956800@masshiremncareers.com
SUMMARY:How to Apply to State Jobs
DESCRIPTION:
URL:https://masshiremncareers.com/event/how-to-apply-to-state-jobs/
CATEGORIES:Webinar,Workshops
ATTACH;FMTTYPE=image/jpeg:https://masshiremncareers.com/wp-content/uploads/How-to-Apply-to-State-Jobs-Info-Session-October-3-2024-1.jpg
END:VEVENT
END:VCALENDAR