BEGIN:VCALENDAR
VERSION:2.0
PRODID:-//MassHire Metro North Career Center - ECPv6.15.20//NONSGML v1.0//EN
CALSCALE:GREGORIAN
METHOD:PUBLISH
X-WR-CALNAME:MassHire Metro North Career Center
X-ORIGINAL-URL:https://masshiremncareers.com
X-WR-CALDESC:Events for MassHire Metro North Career Center
REFRESH-INTERVAL;VALUE=DURATION:PT1H
X-Robots-Tag:noindex
X-PUBLISHED-TTL:PT1H
BEGIN:VTIMEZONE
TZID:America/New_York
BEGIN:DAYLIGHT
TZOFFSETFROM:-0500
TZOFFSETTO:-0400
TZNAME:EDT
DTSTART:20240310T070000
END:DAYLIGHT
BEGIN:STANDARD
TZOFFSETFROM:-0400
TZOFFSETTO:-0500
TZNAME:EST
DTSTART:20241103T060000
END:STANDARD
BEGIN:DAYLIGHT
TZOFFSETFROM:-0500
TZOFFSETTO:-0400
TZNAME:EDT
DTSTART:20250309T070000
END:DAYLIGHT
BEGIN:STANDARD
TZOFFSETFROM:-0400
TZOFFSETTO:-0500
TZNAME:EST
DTSTART:20251102T060000
END:STANDARD
BEGIN:DAYLIGHT
TZOFFSETFROM:-0500
TZOFFSETTO:-0400
TZNAME:EDT
DTSTART:20260308T070000
END:DAYLIGHT
BEGIN:STANDARD
TZOFFSETFROM:-0400
TZOFFSETTO:-0500
TZNAME:EST
DTSTART:20261101T060000
END:STANDARD
END:VTIMEZONE
BEGIN:VEVENT
DTSTART;TZID=America/New_York:20251006T140000
DTEND;TZID=America/New_York:20251006T153000
DTSTAMP:20260421T101342
CREATED:20250916T181057Z
LAST-MODIFIED:20251007T140743Z
UID:28654-1759759200-1759764600@masshiremncareers.com
SUMMARY:In Person Career Assessment
DESCRIPTION:The next move in your career must be aligned with your skills\, accomplishments\, values and interests…But how do you find those opportunities? Join us for an in-person workshop in the computer lab as we examine the impactful online resource that is mynextmove.org! Register here
URL:https://masshiremncareers.com/event/in-person-career-assessment-4/
CATEGORIES:Cambridge Center Event,Career Center Seminars,Workshops
ATTACH;FMTTYPE=application/pdf:https://masshiremncareers.com/wp-content/uploads/Career-Assessment-My-Next-Move-20251006.pdf
END:VEVENT
BEGIN:VEVENT
DTSTART;TZID=America/New_York:20251007T130000
DTEND;TZID=America/New_York:20251007T150000
DTSTAMP:20260421T101342
CREATED:20250916T182144Z
LAST-MODIFIED:20251007T140511Z
UID:28711-1759842000-1759849200@masshiremncareers.com
SUMMARY:Microsoft Excel
DESCRIPTION:Microsoft Excel is a great tool for collecting\, managing\, and organizing data. In this workshop\, start from scratch and learn Excel beginning with the basics. Develop the skills necessary to feel comfortable opening Excel\, starting a workbook\, editing\, saving your file\, and even learn some basic functions to get you started. Register here
URL:https://masshiremncareers.com/event/microsoft-excel-12/
CATEGORIES:Cambridge Center Event,Career Center Seminars,Computer Class,Workshops
ATTACH;FMTTYPE=application/pdf:https://masshiremncareers.com/wp-content/uploads/Microsoft-Excel-20251007.pdf
END:VEVENT
BEGIN:VEVENT
DTSTART;TZID=America/New_York:20251008T100000
DTEND;TZID=America/New_York:20251008T110000
DTSTAMP:20260421T101342
CREATED:20250916T182239Z
LAST-MODIFIED:20251007T140836Z
UID:28712-1759917600-1759921200@masshiremncareers.com
SUMMARY:CAR/STAR webinar
DESCRIPTION:Applying to positions is all about professional accomplishments. Which ones should you use? Join us in this webinar as we explore what elements make for powerful statements about our abilities\, knowledge and experience to prove we are the best candidate for the job. Register here
URL:https://masshiremncareers.com/event/car-star-webinar-19/
CATEGORIES:Cambridge Center Event,Webinar,Workshops
ATTACH;FMTTYPE=application/pdf:https://masshiremncareers.com/wp-content/uploads/CARSTAR-20251008.pdf
END:VEVENT
BEGIN:VEVENT
DTSTART;TZID=America/New_York:20251015T100000
DTEND;TZID=America/New_York:20251015T110000
DTSTAMP:20260421T101342
CREATED:20250916T183913Z
LAST-MODIFIED:20251007T141053Z
UID:28717-1760522400-1760526000@masshiremncareers.com
SUMMARY:Salary Negotiation Webinar
DESCRIPTION:How do we successfully negotiate salary? How can we trade “me vs. them” for “mutually beneficial?”\nIn this session you’ll find out! Topics include the Do’s and Don’ts of compensation\, CAR Statements\,\nZOPA\, anchoring bias\, offer analysis\, and deflection tactics. Master your delivery\, fuse your experience\nwith industry know-how and ensure mutual value between you and your target employer.\nJoin us for this enlightening webinar. Register here
URL:https://masshiremncareers.com/event/salary-negotiation-webinar-11/
CATEGORIES:Cambridge Center Event,Webinar,Workshops
ATTACH;FMTTYPE=application/pdf:https://masshiremncareers.com/wp-content/uploads/Salary-Negotiation-20251015.pdf
END:VEVENT
BEGIN:VEVENT
DTSTART;TZID=America/New_York:20251016T100000
DTEND;TZID=America/New_York:20251016T113000
DTSTAMP:20260421T101342
CREATED:20250916T190911Z
LAST-MODIFIED:20251007T141315Z
UID:28724-1760608800-1760614200@masshiremncareers.com
SUMMARY:In Person Resume
DESCRIPTION:Join this in person workshop to learn the basics of resumes. What are the types? Dos and don’ts\, how long they should be and how far back in time to go. Register here
URL:https://masshiremncareers.com/event/in-person-resume-11/
CATEGORIES:Cambridge Center Event,Career Center Seminars,Workshops
ATTACH;FMTTYPE=application/pdf:https://masshiremncareers.com/wp-content/uploads/Resume-Basics-and-Beyond-20251016.pdf
END:VEVENT
BEGIN:VEVENT
DTSTART;TZID=America/New_York:20251020T130000
DTEND;TZID=America/New_York:20251020T150000
DTSTAMP:20260421T101342
CREATED:20250916T191049Z
LAST-MODIFIED:20251007T142222Z
UID:28725-1760965200-1760972400@masshiremncareers.com
SUMMARY:Microsoft PowerPoint
DESCRIPTION:Microsoft PowerPoint is a great tool for putting together impressive presentations. In this workshop\, start from scratch and learn PowerPoint beginning with the basics. Develop the skills necessary to feel comfortable opening PowerPoint\, starting a slideshow\, editing\, saving your file\, and even printing\, sharing\, and presenting your document. Register here
URL:https://masshiremncareers.com/event/microsoft-powerpoint-9/
CATEGORIES:Cambridge Center Event,Career Center Seminars,Computer Class,Workshops
ATTACH;FMTTYPE=application/pdf:https://masshiremncareers.com/wp-content/uploads/Microsoft-PowerPoint-flyer-inperson-Cambridge-20251020.pdf
END:VEVENT
BEGIN:VEVENT
DTSTART;TZID=America/New_York:20251022T100000
DTEND;TZID=America/New_York:20251022T110000
DTSTAMP:20260421T101342
CREATED:20250916T191337Z
LAST-MODIFIED:20251007T142256Z
UID:28727-1761127200-1761130800@masshiremncareers.com
SUMMARY:LMI: Job Seeker's Roadmap
DESCRIPTION:Join us for an exploration on Labor Market Information. This session will cover self-assessment\, salary ranges\, employment trends\, finding certifications for your industry and other valuable tools. Session especially designed for RESEA customers but open to all. Register here
URL:https://masshiremncareers.com/event/lmi-job-seekers-roadmap-5/
CATEGORIES:Cambridge Center Event,Webinar,Workshops
ATTACH;FMTTYPE=application/pdf:https://masshiremncareers.com/wp-content/uploads/LMI-The-Job-Seekers-Roadmap.webinar.Flyer_.20251022.pdf
END:VEVENT
BEGIN:VEVENT
DTSTART;TZID=America/New_York:20251027T140000
DTEND;TZID=America/New_York:20251027T153000
DTSTAMP:20260421T101342
CREATED:20250916T191802Z
LAST-MODIFIED:20251007T143456Z
UID:28730-1761573600-1761579000@masshiremncareers.com
SUMMARY:Interviewing Dos and Don'ts
DESCRIPTION:What makes a good job interview? Join MassHire in person as we discuss the mechanics behind that question! Let’s discuss Interview Questions to prepare for\, questions to ask\, questions you should not ask\, and signs the interview went well. Through lively discussion\, exercises\, and video clips\, we’ll examine the interview together to get you to the next round! Register here
URL:https://masshiremncareers.com/event/interviewing-dos-and-donts-9/
CATEGORIES:Cambridge Center Event,Career Center Seminars,Workshops
ATTACH;FMTTYPE=application/pdf:https://masshiremncareers.com/wp-content/uploads/Interviewing-Dos-and-Donts.workshop.flyer_.inperson.Cambridge.20251027.pdf
END:VEVENT
END:VCALENDAR