BEGIN:VCALENDAR
VERSION:2.0
PRODID:-//MassHire Metro North Career Center - ECPv6.15.20//NONSGML v1.0//EN
CALSCALE:GREGORIAN
METHOD:PUBLISH
X-WR-CALNAME:MassHire Metro North Career Center
X-ORIGINAL-URL:https://masshiremncareers.com
X-WR-CALDESC:Events for MassHire Metro North Career Center
REFRESH-INTERVAL;VALUE=DURATION:PT1H
X-Robots-Tag:noindex
X-PUBLISHED-TTL:PT1H
BEGIN:VTIMEZONE
TZID:America/New_York
BEGIN:DAYLIGHT
TZOFFSETFROM:-0500
TZOFFSETTO:-0400
TZNAME:EDT
DTSTART:20180311T070000
END:DAYLIGHT
BEGIN:STANDARD
TZOFFSETFROM:-0400
TZOFFSETTO:-0500
TZNAME:EST
DTSTART:20181104T060000
END:STANDARD
BEGIN:DAYLIGHT
TZOFFSETFROM:-0500
TZOFFSETTO:-0400
TZNAME:EDT
DTSTART:20190310T070000
END:DAYLIGHT
BEGIN:STANDARD
TZOFFSETFROM:-0400
TZOFFSETTO:-0500
TZNAME:EST
DTSTART:20191103T060000
END:STANDARD
BEGIN:DAYLIGHT
TZOFFSETFROM:-0500
TZOFFSETTO:-0400
TZNAME:EDT
DTSTART:20200308T070000
END:DAYLIGHT
BEGIN:STANDARD
TZOFFSETFROM:-0400
TZOFFSETTO:-0500
TZNAME:EST
DTSTART:20201101T060000
END:STANDARD
END:VTIMEZONE
BEGIN:VEVENT
DTSTART;TZID=America/New_York:20191121T090000
DTEND;TZID=America/New_York:20191121T123000
DTSTAMP:20260420T164633
CREATED:20191002T150114Z
LAST-MODIFIED:20191003T122428Z
UID:19319-1574326800-1574339400@masshiremncareers.com
SUMMARY:Excel 2 ($59)
DESCRIPTION:This Excel class is focused on working with 3D formulas using multi worksheets\, managing and analyzing data using data tables\, sorting\, and filtering. (3.5 hours) Recommended pre-requisite: Excel 1 $59
URL:https://masshiremncareers.com/event/excel-2-59-2/
LOCATION:Cambridge Career Center\, 186 Alewife Brook Parkway\, Cambridge\, MA\, 02138\, United States
CATEGORIES:Cambridge Center Event,Workshops
END:VEVENT
BEGIN:VEVENT
DTSTART;TZID=America/New_York:20191121T093000
DTEND;TZID=America/New_York:20191121T120000
DTSTAMP:20260420T164633
CREATED:20191003T124159Z
LAST-MODIFIED:20191003T124159Z
UID:19369-1574328600-1574337600@masshiremncareers.com
SUMMARY:What's Age Got To Do With It?
DESCRIPTION:Learn how to respond to age-related interview questions and why experience is an advantage in your job search. Topics include discrimination\, résumé tips and general strategies.  How do you tackle the label “overqualified” and demonstrate your professional attributes as a candidate? Sign up and find out!\n(2.5 Hours)
URL:https://masshiremncareers.com/event/whats-age-got-to-do-with-it-23/
LOCATION:Cambridge Career Center\, 186 Alewife Brook Parkway\, Cambridge\, MA\, 02138\, United States
CATEGORIES:Cambridge Center Event,Workshops
END:VEVENT
BEGIN:VEVENT
DTSTART;TZID=America/New_York:20191121T130000
DTEND;TZID=America/New_York:20191121T140000
DTSTAMP:20260420T164633
CREATED:20191003T124249Z
LAST-MODIFIED:20191003T124249Z
UID:19371-1574341200-1574344800@masshiremncareers.com
SUMMARY:Senior Community Service Employment Program (SCSEP)
DESCRIPTION:Information session that will introduce this return-to-work training program for unemployed job seekers age 55+ who meet low income guidelines. (1 Hour)
URL:https://masshiremncareers.com/event/senior-community-service-employment-program-scsep-3/
LOCATION:Cambridge Career Center\, 186 Alewife Brook Parkway\, Cambridge\, MA\, 02138\, United States
CATEGORIES:Cambridge Center Event,Workshops
END:VEVENT
END:VCALENDAR