BEGIN:VCALENDAR
VERSION:2.0
PRODID:-//MassHire Metro North Career Center - ECPv6.15.20//NONSGML v1.0//EN
CALSCALE:GREGORIAN
METHOD:PUBLISH
X-WR-CALNAME:MassHire Metro North Career Center
X-ORIGINAL-URL:https://masshiremncareers.com
X-WR-CALDESC:Events for MassHire Metro North Career Center
REFRESH-INTERVAL;VALUE=DURATION:PT1H
X-Robots-Tag:noindex
X-PUBLISHED-TTL:PT1H
BEGIN:VTIMEZONE
TZID:America/New_York
BEGIN:DAYLIGHT
TZOFFSETFROM:-0500
TZOFFSETTO:-0400
TZNAME:EDT
DTSTART:20240310T070000
END:DAYLIGHT
BEGIN:STANDARD
TZOFFSETFROM:-0400
TZOFFSETTO:-0500
TZNAME:EST
DTSTART:20241103T060000
END:STANDARD
BEGIN:DAYLIGHT
TZOFFSETFROM:-0500
TZOFFSETTO:-0400
TZNAME:EDT
DTSTART:20250309T070000
END:DAYLIGHT
BEGIN:STANDARD
TZOFFSETFROM:-0400
TZOFFSETTO:-0500
TZNAME:EST
DTSTART:20251102T060000
END:STANDARD
BEGIN:DAYLIGHT
TZOFFSETFROM:-0500
TZOFFSETTO:-0400
TZNAME:EDT
DTSTART:20260308T070000
END:DAYLIGHT
BEGIN:STANDARD
TZOFFSETFROM:-0400
TZOFFSETTO:-0500
TZNAME:EST
DTSTART:20261101T060000
END:STANDARD
END:VTIMEZONE
BEGIN:VEVENT
DTSTART;TZID=America/New_York:20250623T140000
DTEND;TZID=America/New_York:20250623T150000
DTSTAMP:20260422T084932
CREATED:20250603T155828Z
LAST-MODIFIED:20250603T155828Z
UID:28471-1750687200-1750690800@masshiremncareers.com
SUMMARY:Career Assessment Focus ONET
DESCRIPTION:Take a tour through O’net to examine all the data available to help you make career decisions. There are assessments to help find other careers that are a match. Join us for this webinar tour of a fantastic site. Register Here
URL:https://masshiremncareers.com/event/career-assessment-focus-onet-10/
CATEGORIES:Cambridge Center Event,Webinar,Workshops
ATTACH;FMTTYPE=application/pdf:https://masshiremncareers.com/wp-content/uploads/Career-AssessmentFocusOnONET.webinar.Flyer_.20250623.pdf
END:VEVENT
END:VCALENDAR