BEGIN:VCALENDAR
VERSION:2.0
PRODID:-//MassHire Metro North Career Center - ECPv6.15.20//NONSGML v1.0//EN
CALSCALE:GREGORIAN
METHOD:PUBLISH
X-WR-CALNAME:MassHire Metro North Career Center
X-ORIGINAL-URL:https://masshiremncareers.com
X-WR-CALDESC:Events for MassHire Metro North Career Center
REFRESH-INTERVAL;VALUE=DURATION:PT1H
X-Robots-Tag:noindex
X-PUBLISHED-TTL:PT1H
BEGIN:VTIMEZONE
TZID:America/New_York
BEGIN:DAYLIGHT
TZOFFSETFROM:-0500
TZOFFSETTO:-0400
TZNAME:EDT
DTSTART:20180311T070000
END:DAYLIGHT
BEGIN:STANDARD
TZOFFSETFROM:-0400
TZOFFSETTO:-0500
TZNAME:EST
DTSTART:20181104T060000
END:STANDARD
BEGIN:DAYLIGHT
TZOFFSETFROM:-0500
TZOFFSETTO:-0400
TZNAME:EDT
DTSTART:20190310T070000
END:DAYLIGHT
BEGIN:STANDARD
TZOFFSETFROM:-0400
TZOFFSETTO:-0500
TZNAME:EST
DTSTART:20191103T060000
END:STANDARD
BEGIN:DAYLIGHT
TZOFFSETFROM:-0500
TZOFFSETTO:-0400
TZNAME:EDT
DTSTART:20200308T070000
END:DAYLIGHT
BEGIN:STANDARD
TZOFFSETFROM:-0400
TZOFFSETTO:-0500
TZNAME:EST
DTSTART:20201101T060000
END:STANDARD
END:VTIMEZONE
BEGIN:VEVENT
DTSTART;TZID=America/New_York:20190926T130000
DTEND;TZID=America/New_York:20190926T150000
DTSTAMP:20260421T163319
CREATED:20190815T193231Z
LAST-MODIFIED:20190916T201825Z
UID:18955-1569502800-1569510000@masshiremncareers.com
SUMMARY:Multi-Industry Job Fair
DESCRIPTION:Come meet with the hiring managers from a variety of industries to learn about opportunities and your next position!
URL:https://masshiremncareers.com/event/multi-industry-job-fair-5/
LOCATION:Cambridge Career Center\, 186 Alewife Brook Parkway\, Cambridge\, MA\, 02138\, United States
CATEGORIES:Cambridge Center Event,Job Fairs
END:VEVENT
BEGIN:VEVENT
DTSTART;TZID=America/New_York:20190926T143000
DTEND;TZID=America/New_York:20190926T153000
DTSTAMP:20260421T163319
CREATED:20190724T134944Z
LAST-MODIFIED:20190724T134944Z
UID:18811-1569508200-1569511800@masshiremncareers.com
SUMMARY:15-Minute Resume Critique
DESCRIPTION:A 15-minute critique of your résumé. We will determine an appropriate format\, eliminate nonessential information\, and recommend additions to help you rewrite your self-marketing tool. Please bring your most recent résumé. (15 Minutes)
URL:https://masshiremncareers.com/event/15-minute-resume-critique-26-2019-09-26/
LOCATION:Cambridge Career Center\, 186 Alewife Brook Parkway\, Cambridge\, MA\, 02138\, United States
CATEGORIES:Cambridge Center Event
END:VEVENT
BEGIN:VEVENT
DTSTART;TZID=America/New_York:20190927T100000
DTEND;TZID=America/New_York:20190927T120000
DTSTAMP:20260421T163319
CREATED:20190724T150632Z
LAST-MODIFIED:20190724T150632Z
UID:18847-1569578400-1569585600@masshiremncareers.com
SUMMARY:Learning to Network
DESCRIPTION:Most jobs are found through networking (as high as 90%). Learn how to create an elevator pitch\, get the most out of networking meetings and master the steps of how to conduct a successful informational interview. Discover the best ways to grow your network and how to use it for a smart job search. Come with your ideas and be prepared to share!  (2 Hours)
URL:https://masshiremncareers.com/event/learning-to-network-13/
LOCATION:Cambridge Career Center\, 186 Alewife Brook Parkway\, Cambridge\, MA\, 02138\, United States
CATEGORIES:Cambridge Center Event,Workshops
END:VEVENT
BEGIN:VEVENT
DTSTART;TZID=America/New_York:20190927T100000
DTEND;TZID=America/New_York:20190927T120000
DTSTAMP:20260421T163319
CREATED:20190816T200326Z
LAST-MODIFIED:20190816T200326Z
UID:18971-1569578400-1569585600@masshiremncareers.com
SUMMARY:The Counselor Is In!
DESCRIPTION:Need to speak with a career counselor for next steps in your job search? Have a quick question about your resume\, job search strategy\, interview prep or networking? Come in and speak with the counselor during walk-in hours. Other times by appointment.
URL:https://masshiremncareers.com/event/the-counselor-is-in-2019-09-27/
LOCATION:Cambridge Career Center\, 186 Alewife Brook Parkway\, Cambridge\, MA\, 02138\, United States
CATEGORIES:Cambridge Center Event
END:VEVENT
BEGIN:VEVENT
DTSTART;TZID=America/New_York:20190927T100000
DTEND;TZID=America/New_York:20190927T133000
DTSTAMP:20260421T163319
CREATED:20190724T152437Z
LAST-MODIFIED:20190807T183406Z
UID:18872-1569578400-1569591000@masshiremncareers.com
SUMMARY:Outlook 2 ($69)
DESCRIPTION:In this course you will learn to create appointments\, meetings\, and events in the Outlook Calendar.  Manage and share calendars within Outlook. Recommended pre-requisite: Outlook I (3.5 hours) $69
URL:https://masshiremncareers.com/event/outlook-2-69-8/
LOCATION:Cambridge Career Center\, 186 Alewife Brook Parkway\, Cambridge\, MA\, 02138\, United States
CATEGORIES:Cambridge Center Event,Workshops
END:VEVENT
BEGIN:VEVENT
DTSTART;TZID=America/New_York:20190930T130000
DTEND;TZID=America/New_York:20190930T150000
DTSTAMP:20260421T163319
CREATED:20190724T150810Z
LAST-MODIFIED:20190724T150810Z
UID:18849-1569848400-1569855600@masshiremncareers.com
SUMMARY:Interview Drills
DESCRIPTION:In Interviewing Fundamentals 1.0\, you learned the dos and don’ts of the job interview. Now\, put those skills to work in this small group\, big impact session! What’s a good interview?  What’s a poor interview? What are the signs that an interview went well? Through video clips\, mock interviews\, and in-class feedback\, we will examine what it takes to be successful in your next job interview! (2 Hours) Pre-requisite: Attendees have taken the Interviewing Fundamentals workshop. Please Note: all participants will be expected to engage in mock interviews in front of the class.
URL:https://masshiremncareers.com/event/interview-drills-7/
LOCATION:Cambridge Career Center\, 186 Alewife Brook Parkway\, Cambridge\, MA\, 02138\, United States
CATEGORIES:Cambridge Center Event,Workshops
END:VEVENT
BEGIN:VEVENT
DTSTART;TZID=America/New_York:20190930T133000
DTEND;TZID=America/New_York:20190930T150000
DTSTAMP:20260421T163319
CREATED:20190724T145951Z
LAST-MODIFIED:20190724T145951Z
UID:18838-1569850200-1569855600@masshiremncareers.com
SUMMARY:Career Development Options
DESCRIPTION:Interested in getting one-on-one career counseling to help with your job search? Need grant funds for schooling or training? Come learn about your career path options and how we can help you in your job search. This information session explains in detail about the eligibility requirements for accessing these grant-funded services through WIOA. (1.5 Hours)
URL:https://masshiremncareers.com/event/career-development-options-55-2019-09-30/
LOCATION:Cambridge Career Center\, 186 Alewife Brook Parkway\, Cambridge\, MA\, 02138\, United States
CATEGORIES:Cambridge Center Event,Workshops
END:VEVENT
BEGIN:VEVENT
DTSTART;TZID=America/New_York:20191001T090000
DTEND;TZID=America/New_York:20191001T160000
DTSTAMP:20260421T163319
CREATED:20190910T141717Z
LAST-MODIFIED:20190910T141717Z
UID:19020-1569920400-1569945600@masshiremncareers.com
SUMMARY:Unemployment Representative Onsite
DESCRIPTION:A representative from the Department of Unemployment Assistance will be onsite to answer customers’ questions about their claims.
URL:https://masshiremncareers.com/event/unemployment-representative-onsite-17/
LOCATION:Cambridge Career Center\, 186 Alewife Brook Parkway\, Cambridge\, MA\, 02138\, United States
CATEGORIES:Cambridge Center Event
END:VEVENT
BEGIN:VEVENT
DTSTART;TZID=America/New_York:20191001T100000
DTEND;TZID=America/New_York:20191001T120000
DTSTAMP:20260421T163319
CREATED:20190816T200326Z
LAST-MODIFIED:20190816T200326Z
UID:18972-1569924000-1569931200@masshiremncareers.com
SUMMARY:The Counselor Is In!
DESCRIPTION:Need to speak with a career counselor for next steps in your job search? Have a quick question about your resume\, job search strategy\, interview prep or networking? Come in and speak with the counselor during walk-in hours. Other times by appointment.
URL:https://masshiremncareers.com/event/the-counselor-is-in-2019-10-01/
LOCATION:Cambridge Career Center\, 186 Alewife Brook Parkway\, Cambridge\, MA\, 02138\, United States
CATEGORIES:Cambridge Center Event
END:VEVENT
BEGIN:VEVENT
DTSTART;TZID=America/New_York:20191001T100000
DTEND;TZID=America/New_York:20191001T120000
DTSTAMP:20260421T163319
CREATED:20190910T142835Z
LAST-MODIFIED:20190910T142835Z
UID:19030-1569924000-1569931200@masshiremncareers.com
SUMMARY:Conveying Your Skills
DESCRIPTION:If the job search is your recipe\, this workshop is the secret ingredient! We will identify and write out transferable skills that can be used for resumes\, cover letters\, networking and job interviews. We will then discuss body language and how verbiage changes from the resume to the interview. Finally\, attendees will deliver their C-A-R and S-T-A-R Statements during class\, taking advantage of in-class feedback. Through mastery of these components\, participants will learn how to apply their accomplishments to a smart job search.  Please Note: all participants will be expected to stand and deliver accomplishment statements in front of the class. (2 hours)
URL:https://masshiremncareers.com/event/conveying-your-skills-12/
LOCATION:Cambridge Career Center\, 186 Alewife Brook Parkway\, Cambridge\, MA\, 02138\, United States
CATEGORIES:Cambridge Center Event,Workshops
END:VEVENT
BEGIN:VEVENT
DTSTART;TZID=America/New_York:20191003T090000
DTEND;TZID=America/New_York:20191003T160000
DTSTAMP:20260421T163319
CREATED:20190910T141717Z
LAST-MODIFIED:20190910T141717Z
UID:19022-1570093200-1570118400@masshiremncareers.com
SUMMARY:Unemployment Representative Onsite
DESCRIPTION:A representative from the Department of Unemployment Assistance will be onsite to answer customers’ questions about their claims.
URL:https://masshiremncareers.com/event/unemployment-representative-onsite-17-2019-10-03/
LOCATION:Cambridge Career Center\, 186 Alewife Brook Parkway\, Cambridge\, MA\, 02138\, United States
CATEGORIES:Cambridge Center Event
END:VEVENT
BEGIN:VEVENT
DTSTART;TZID=America/New_York:20191003T100000
DTEND;TZID=America/New_York:20191003T123000
DTSTAMP:20260421T163319
CREATED:20190910T143012Z
LAST-MODIFIED:20190910T143012Z
UID:19032-1570096800-1570105800@masshiremncareers.com
SUMMARY:Resumes/Cover Letter Fundamentals
DESCRIPTION:Learn the résumé styles used by professional résumé writers and how to get yours noticed. You’ll be given the tools to determine which style suits your job search best! We’ll look into the mechanics of what makes an effective cover letter. You will learn how to effectively present your experience and skills to tailor to a job description to help land that next interview. (2.5 Hours)
URL:https://masshiremncareers.com/event/resumes-cover-letter-fundamentals/
LOCATION:Cambridge Career Center\, 186 Alewife Brook Parkway\, Cambridge\, MA\, 02138\, United States
CATEGORIES:Cambridge Center Event,Workshops
END:VEVENT
BEGIN:VEVENT
DTSTART;TZID=America/New_York:20191004T100000
DTEND;TZID=America/New_York:20191004T120000
DTSTAMP:20260421T163319
CREATED:20190816T200326Z
LAST-MODIFIED:20190816T200326Z
UID:18973-1570183200-1570190400@masshiremncareers.com
SUMMARY:The Counselor Is In!
DESCRIPTION:Need to speak with a career counselor for next steps in your job search? Have a quick question about your resume\, job search strategy\, interview prep or networking? Come in and speak with the counselor during walk-in hours. Other times by appointment.
URL:https://masshiremncareers.com/event/the-counselor-is-in-2019-10-04/
LOCATION:Cambridge Career Center\, 186 Alewife Brook Parkway\, Cambridge\, MA\, 02138\, United States
CATEGORIES:Cambridge Center Event
END:VEVENT
BEGIN:VEVENT
DTSTART;TZID=America/New_York:20191004T100000
DTEND;TZID=America/New_York:20191004T120000
DTSTAMP:20260421T163319
CREATED:20190910T143219Z
LAST-MODIFIED:20190910T143219Z
UID:19035-1570183200-1570190400@masshiremncareers.com
SUMMARY:Staying Positive on the Job Search
DESCRIPTION:We can help you avoid job search pitfalls like depression\, anxiety and negativity. Join other job seekers who are in the trenches with you. Immediately put into practice stay-calm strategies so you can focus. Together\, we will learn and comprehend the steps to staying positive in the job search. (2 hours)
URL:https://masshiremncareers.com/event/staying-positive-on-the-job-search-4/
LOCATION:Cambridge Career Center\, 186 Alewife Brook Parkway\, Cambridge\, MA\, 02138\, United States
CATEGORIES:Cambridge Center Event,Workshops
END:VEVENT
BEGIN:VEVENT
DTSTART;TZID=America/New_York:20191007T110000
DTEND;TZID=America/New_York:20191007T123000
DTSTAMP:20260421T163319
CREATED:20190910T143336Z
LAST-MODIFIED:20190910T143336Z
UID:19037-1570446000-1570451400@masshiremncareers.com
SUMMARY:Career Development Options
DESCRIPTION:Interested in getting one-on-one career counseling to help with your job search? Need grant funds for schooling or training? Come learn about your career path options and how we can help you in your job search. This information session explains in detail about the eligibility requirements for accessing these grant-funded services through WIOA. (1.5 Hours)
URL:https://masshiremncareers.com/event/career-development-options-60/
LOCATION:Cambridge Career Center\, 186 Alewife Brook Parkway\, Cambridge\, MA\, 02138\, United States
CATEGORIES:Cambridge Center Event,Workshops
END:VEVENT
BEGIN:VEVENT
DTSTART;TZID=America/New_York:20191008T090000
DTEND;TZID=America/New_York:20191008T160000
DTSTAMP:20260421T163319
CREATED:20190910T141717Z
LAST-MODIFIED:20190910T141717Z
UID:19023-1570525200-1570550400@masshiremncareers.com
SUMMARY:Unemployment Representative Onsite
DESCRIPTION:A representative from the Department of Unemployment Assistance will be onsite to answer customers’ questions about their claims.
URL:https://masshiremncareers.com/event/unemployment-representative-onsite-17-2019-10-08/
LOCATION:Cambridge Career Center\, 186 Alewife Brook Parkway\, Cambridge\, MA\, 02138\, United States
CATEGORIES:Cambridge Center Event
END:VEVENT
BEGIN:VEVENT
DTSTART;TZID=America/New_York:20191008T100000
DTEND;TZID=America/New_York:20191008T120000
DTSTAMP:20260421T163319
CREATED:20190816T200326Z
LAST-MODIFIED:20190816T200326Z
UID:18974-1570528800-1570536000@masshiremncareers.com
SUMMARY:The Counselor Is In!
DESCRIPTION:Need to speak with a career counselor for next steps in your job search? Have a quick question about your resume\, job search strategy\, interview prep or networking? Come in and speak with the counselor during walk-in hours. Other times by appointment.
URL:https://masshiremncareers.com/event/the-counselor-is-in-2019-10-08/
LOCATION:Cambridge Career Center\, 186 Alewife Brook Parkway\, Cambridge\, MA\, 02138\, United States
CATEGORIES:Cambridge Center Event
END:VEVENT
BEGIN:VEVENT
DTSTART;TZID=America/New_York:20191008T130000
DTEND;TZID=America/New_York:20191008T150000
DTSTAMP:20260421T163319
CREATED:20190910T143503Z
LAST-MODIFIED:20190910T143503Z
UID:19040-1570539600-1570546800@masshiremncareers.com
SUMMARY:LinkedIn Basics
DESCRIPTION:“What is LinkedIn?”  “How can it help me in my job search?”  Learn why LinkedIn is pivotal to your job search. Gain the attributes of a stronger LinkedIn profile. Master the skills of navigation needed for networking\, interview prep\, and researching your target industries and organizations. We’ll also talk about how the core competencies of your resume can be pulled directly from your LinkedIn account. Come with your questions\, leave with confidence. (2 hours)
URL:https://masshiremncareers.com/event/linkedin-basics-24/
LOCATION:Cambridge Career Center\, 186 Alewife Brook Parkway\, Cambridge\, MA\, 02138\, United States
CATEGORIES:Cambridge Center Event,Workshops
END:VEVENT
BEGIN:VEVENT
DTSTART;TZID=America/New_York:20191009T100000
DTEND;TZID=America/New_York:20191009T120000
DTSTAMP:20260421T163319
CREATED:20190910T143621Z
LAST-MODIFIED:20190910T143621Z
UID:19042-1570615200-1570622400@masshiremncareers.com
SUMMARY:Understanding Retirement Benefits
DESCRIPTION:Are you considering retiring? Wondering when can I start collecting Social Security? Can I withdraw funds from my 401K? At what age must I start drawing down from my IRA? What’s defined benefit? You’ve got a lot of questions—get them answered and put your financial future in order! (2 Hours)
URL:https://masshiremncareers.com/event/understanding-retirement-benefits-21/
LOCATION:Cambridge Career Center\, 186 Alewife Brook Parkway\, Cambridge\, MA\, 02138\, United States
CATEGORIES:Cambridge Center Event,Workshops
END:VEVENT
BEGIN:VEVENT
DTSTART;VALUE=DATE:20191010
DTEND;VALUE=DATE:20191011
DTSTAMP:20260421T163319
CREATED:20190910T143859Z
LAST-MODIFIED:20190910T143859Z
UID:19046-1570665600-1570751999@masshiremncareers.com
SUMMARY:Office Closed - Staff Training
DESCRIPTION:MassHire Metro North Career Centers will be closed all day for staff training.
URL:https://masshiremncareers.com/event/office-closed-staff-training/
LOCATION:Cambridge Career Center\, 186 Alewife Brook Parkway\, Cambridge\, MA\, 02138\, United States
CATEGORIES:Cambridge Center Event,Chelsea Center Event,Woburn Center Event
END:VEVENT
BEGIN:VEVENT
DTSTART;TZID=America/New_York:20191011T100000
DTEND;TZID=America/New_York:20191011T120000
DTSTAMP:20260421T163319
CREATED:20190816T200326Z
LAST-MODIFIED:20190816T200326Z
UID:18975-1570788000-1570795200@masshiremncareers.com
SUMMARY:The Counselor Is In!
DESCRIPTION:Need to speak with a career counselor for next steps in your job search? Have a quick question about your resume\, job search strategy\, interview prep or networking? Come in and speak with the counselor during walk-in hours. Other times by appointment.
URL:https://masshiremncareers.com/event/the-counselor-is-in-2019-10-11/
LOCATION:Cambridge Career Center\, 186 Alewife Brook Parkway\, Cambridge\, MA\, 02138\, United States
CATEGORIES:Cambridge Center Event
END:VEVENT
BEGIN:VEVENT
DTSTART;TZID=America/New_York:20191011T100000
DTEND;TZID=America/New_York:20191011T120000
DTSTAMP:20260421T163319
CREATED:20190910T144020Z
LAST-MODIFIED:20190910T144020Z
UID:19048-1570788000-1570795200@masshiremncareers.com
SUMMARY:Entrepreneurial Think Tank
DESCRIPTION:Are you ready to run your own business? We’ll help you take the first step. Entrepreneurial Think Tank is a forum for budding entrepreneurs. We will discuss the basics of starting a small business. Is entrepreneurship right for you? Sign up and find out! (2 hours)
URL:https://masshiremncareers.com/event/entrepreneurial-think-tank-13/
LOCATION:Cambridge Career Center\, 186 Alewife Brook Parkway\, Cambridge\, MA\, 02138\, United States
CATEGORIES:Cambridge Center Event,Workshops
END:VEVENT
BEGIN:VEVENT
DTSTART;TZID=America/New_York:20191011T103000
DTEND;TZID=America/New_York:20191011T130000
DTSTAMP:20260421T163319
CREATED:20190910T144150Z
LAST-MODIFIED:20190910T144150Z
UID:19051-1570789800-1570798800@masshiremncareers.com
SUMMARY:Interviewing Fundamentals
DESCRIPTION:Is your resume getting your foot in the door but you’re not advancing beyond the interview? Come and learn the best practices of a successful in-person job interview!  We will discuss research\, CAR Statements\, post-interview follow-up and the importance of non-work related activities.  We will also explore how best to navigate an interview’s behavioral and traditional questions. (2.5 Hours)
URL:https://masshiremncareers.com/event/interviewing-fundamentals-23/
LOCATION:Cambridge Career Center\, 186 Alewife Brook Parkway\, Cambridge\, MA\, 02138\, United States
CATEGORIES:Cambridge Center Event,Workshops
END:VEVENT
BEGIN:VEVENT
DTSTART;VALUE=DATE:20191014
DTEND;VALUE=DATE:20191015
DTSTAMP:20260421T163319
CREATED:20190815T192930Z
LAST-MODIFIED:20190815T192958Z
UID:18952-1571011200-1571097599@masshiremncareers.com
SUMMARY:Columbus Day - Centers Closed
DESCRIPTION:
URL:https://masshiremncareers.com/event/centers-closed-columbus-day/
LOCATION:Cambridge Career Center\, 186 Alewife Brook Parkway\, Cambridge\, MA\, 02138\, United States
CATEGORIES:Cambridge Center Event,Chelsea Center Event,Woburn Center Event
END:VEVENT
BEGIN:VEVENT
DTSTART;TZID=America/New_York:20191015T090000
DTEND;TZID=America/New_York:20191015T160000
DTSTAMP:20260421T163319
CREATED:20190910T141717Z
LAST-MODIFIED:20190910T141717Z
UID:19024-1571130000-1571155200@masshiremncareers.com
SUMMARY:Unemployment Representative Onsite
DESCRIPTION:A representative from the Department of Unemployment Assistance will be onsite to answer customers’ questions about their claims.
URL:https://masshiremncareers.com/event/unemployment-representative-onsite-17-2019-10-15/
LOCATION:Cambridge Career Center\, 186 Alewife Brook Parkway\, Cambridge\, MA\, 02138\, United States
CATEGORIES:Cambridge Center Event
END:VEVENT
BEGIN:VEVENT
DTSTART;TZID=America/New_York:20191015T100000
DTEND;TZID=America/New_York:20191015T120000
DTSTAMP:20260421T163319
CREATED:20190816T200326Z
LAST-MODIFIED:20190816T200326Z
UID:18976-1571133600-1571140800@masshiremncareers.com
SUMMARY:The Counselor Is In!
DESCRIPTION:Need to speak with a career counselor for next steps in your job search? Have a quick question about your resume\, job search strategy\, interview prep or networking? Come in and speak with the counselor during walk-in hours. Other times by appointment.
URL:https://masshiremncareers.com/event/the-counselor-is-in-2019-10-15/
LOCATION:Cambridge Career Center\, 186 Alewife Brook Parkway\, Cambridge\, MA\, 02138\, United States
CATEGORIES:Cambridge Center Event
END:VEVENT
BEGIN:VEVENT
DTSTART;TZID=America/New_York:20191015T130000
DTEND;TZID=America/New_York:20191015T150000
DTSTAMP:20260421T163319
CREATED:20190910T144334Z
LAST-MODIFIED:20190910T144334Z
UID:19053-1571144400-1571151600@masshiremncareers.com
SUMMARY:Salary Negotiation
DESCRIPTION:How do we successfully negotiate salary? How can we trade “me vs. them” for “mutually beneficial?”  In this session you’ll find out! Topics include the Do’s and Don’ts of compensation\, CAR Statements\, ZOPA\, anchoring bias\, offer analysis\, and deflection tactics. Master your delivery\, fuse your experience with industry know-how and ensure mutual value between you and your target employer. (2 Hours)
URL:https://masshiremncareers.com/event/salary-negotiation-17/
LOCATION:Cambridge Career Center\, 186 Alewife Brook Parkway\, Cambridge\, MA\, 02138\, United States
CATEGORIES:Cambridge Center Event,Workshops
END:VEVENT
BEGIN:VEVENT
DTSTART;TZID=America/New_York:20191017T090000
DTEND;TZID=America/New_York:20191017T160000
DTSTAMP:20260421T163319
CREATED:20190910T141717Z
LAST-MODIFIED:20190910T141717Z
UID:19025-1571302800-1571328000@masshiremncareers.com
SUMMARY:Unemployment Representative Onsite
DESCRIPTION:A representative from the Department of Unemployment Assistance will be onsite to answer customers’ questions about their claims.
URL:https://masshiremncareers.com/event/unemployment-representative-onsite-17-2019-10-17/
LOCATION:Cambridge Career Center\, 186 Alewife Brook Parkway\, Cambridge\, MA\, 02138\, United States
CATEGORIES:Cambridge Center Event
END:VEVENT
BEGIN:VEVENT
DTSTART;TZID=America/New_York:20191017T130000
DTEND;TZID=America/New_York:20191017T150000
DTSTAMP:20260421T163319
CREATED:20190910T144530Z
LAST-MODIFIED:20190910T144530Z
UID:19056-1571317200-1571324400@masshiremncareers.com
SUMMARY:JobQuest: Completing Your Profile
DESCRIPTION:Let’s look under the hood of JobQuest\, Massachusetts’ job search engine. What are the keys to connecting to employers?  How can hiring managers and industry insiders find you? Join us for this computer-based hands-on workshop and get back to work that much faster! (2 hours)
URL:https://masshiremncareers.com/event/jobquest-completing-your-profile-31/
LOCATION:Cambridge Career Center\, 186 Alewife Brook Parkway\, Cambridge\, MA\, 02138\, United States
CATEGORIES:Cambridge Center Event,Workshops
END:VEVENT
BEGIN:VEVENT
DTSTART;TZID=America/New_York:20191018T100000
DTEND;TZID=America/New_York:20191018T120000
DTSTAMP:20260421T163319
CREATED:20190816T200326Z
LAST-MODIFIED:20190816T200326Z
UID:18977-1571392800-1571400000@masshiremncareers.com
SUMMARY:The Counselor Is In!
DESCRIPTION:Need to speak with a career counselor for next steps in your job search? Have a quick question about your resume\, job search strategy\, interview prep or networking? Come in and speak with the counselor during walk-in hours. Other times by appointment.
URL:https://masshiremncareers.com/event/the-counselor-is-in-2019-10-18/
LOCATION:Cambridge Career Center\, 186 Alewife Brook Parkway\, Cambridge\, MA\, 02138\, United States
CATEGORIES:Cambridge Center Event
END:VEVENT
END:VCALENDAR