BEGIN:VCALENDAR
VERSION:2.0
PRODID:-//MassHire Metro North Career Center - ECPv6.15.20//NONSGML v1.0//EN
CALSCALE:GREGORIAN
METHOD:PUBLISH
X-WR-CALNAME:MassHire Metro North Career Center
X-ORIGINAL-URL:https://masshiremncareers.com
X-WR-CALDESC:Events for MassHire Metro North Career Center
REFRESH-INTERVAL;VALUE=DURATION:PT1H
X-Robots-Tag:noindex
X-PUBLISHED-TTL:PT1H
BEGIN:VTIMEZONE
TZID:America/New_York
BEGIN:DAYLIGHT
TZOFFSETFROM:-0500
TZOFFSETTO:-0400
TZNAME:EDT
DTSTART:20190310T070000
END:DAYLIGHT
BEGIN:STANDARD
TZOFFSETFROM:-0400
TZOFFSETTO:-0500
TZNAME:EST
DTSTART:20191103T060000
END:STANDARD
BEGIN:DAYLIGHT
TZOFFSETFROM:-0500
TZOFFSETTO:-0400
TZNAME:EDT
DTSTART:20200308T070000
END:DAYLIGHT
BEGIN:STANDARD
TZOFFSETFROM:-0400
TZOFFSETTO:-0500
TZNAME:EST
DTSTART:20201101T060000
END:STANDARD
BEGIN:DAYLIGHT
TZOFFSETFROM:-0500
TZOFFSETTO:-0400
TZNAME:EDT
DTSTART:20210314T070000
END:DAYLIGHT
BEGIN:STANDARD
TZOFFSETFROM:-0400
TZOFFSETTO:-0500
TZNAME:EST
DTSTART:20211107T060000
END:STANDARD
END:VTIMEZONE
BEGIN:VEVENT
DTSTART;VALUE=DATE:20200101
DTEND;VALUE=DATE:20200102
DTSTAMP:20260419T100126
CREATED:20191202T151221Z
LAST-MODIFIED:20191202T151221Z
UID:19633-1577836800-1577923199@masshiremncareers.com
SUMMARY:New Year's Day - Centers Closed
DESCRIPTION:
URL:https://masshiremncareers.com/event/new-years-day-centers-closed-2/
LOCATION:Woburn Career Center\, 100 Trade Center\, Suite G100\, Woburn\, MA\, 01801\, United States
CATEGORIES:Cambridge Center Event,Chelsea Center Event,Woburn Center Event
END:VEVENT
BEGIN:VEVENT
DTSTART;TZID=America/New_York:20200108T100000
DTEND;TZID=America/New_York:20200108T120000
DTSTAMP:20260419T100126
CREATED:20191202T172503Z
LAST-MODIFIED:20191202T172503Z
UID:19743-1578477600-1578484800@masshiremncareers.com
SUMMARY:Department of Transitional Assistance
DESCRIPTION:A representative from the department of transitional assistance will be onsite to answer questions about their programs.
URL:https://masshiremncareers.com/event/department-of-transitional-assistance-14/
LOCATION:Chelsea Career Center\, 4 Gerrish Ave\, Chelsea\, MA\, 02150\, United States
CATEGORIES:Chelsea Center Event
END:VEVENT
BEGIN:VEVENT
DTSTART;TZID=America/New_York:20200108T140000
DTEND;TZID=America/New_York:20200108T153000
DTSTAMP:20260419T100126
CREATED:20191202T172921Z
LAST-MODIFIED:20191202T172921Z
UID:19751-1578492000-1578497400@masshiremncareers.com
SUMMARY:Career Development Options
DESCRIPTION:Interested in getting one-on-one career counseling to help with your job search? Need grant funds for schooling or training? Come learn about your career path options and how we can help you in your job search. This information session explains in detail about the eligibility requirements for accessing these grant-funded services through WIOA. (1.5 Hours)
URL:https://masshiremncareers.com/event/career-development-options-76/
LOCATION:Chelsea Career Center\, 4 Gerrish Ave\, Chelsea\, MA\, 02150\, United States
CATEGORIES:Chelsea Center Event,Workshops
END:VEVENT
BEGIN:VEVENT
DTSTART;VALUE=DATE:20200109
DTEND;VALUE=DATE:20200110
DTSTAMP:20260419T100126
CREATED:20191202T154100Z
LAST-MODIFIED:20191202T154100Z
UID:19669-1578528000-1578614399@masshiremncareers.com
SUMMARY:Office Closed for Training
DESCRIPTION:
URL:https://masshiremncareers.com/event/office-closed-for-training/
LOCATION:Woburn Career Center\, 100 Trade Center\, Suite G100\, Woburn\, MA\, 01801\, United States
CATEGORIES:Cambridge Center Event,Chelsea Center Event,Woburn Center Event
END:VEVENT
BEGIN:VEVENT
DTSTART;TZID=America/New_York:20200115T100000
DTEND;TZID=America/New_York:20200115T120000
DTSTAMP:20260419T100126
CREATED:20191202T172629Z
LAST-MODIFIED:20191202T172629Z
UID:19745-1579082400-1579089600@masshiremncareers.com
SUMMARY:Department of Transitional Assistance
DESCRIPTION:A representative from the department of transitional assistance will be onsite to answer questions about their programs.
URL:https://masshiremncareers.com/event/department-of-transitional-assistance-15/
LOCATION:Chelsea Career Center\, 4 Gerrish Ave\, Chelsea\, MA\, 02150\, United States
CATEGORIES:Chelsea Center Event
END:VEVENT
BEGIN:VEVENT
DTSTART;TZID=America/New_York:20200116T130000
DTEND;TZID=America/New_York:20200116T150000
DTSTAMP:20260419T100126
CREATED:20191202T173620Z
LAST-MODIFIED:20191202T173620Z
UID:19755-1579179600-1579186800@masshiremncareers.com
SUMMARY:Interviewing for New English Speakers
DESCRIPTION:Do you have an interview? Is English not your first language? Are you scared about what to say? Come learn how to give the right answers to common interview questions. We’ll practice in class with each other to make you more confident! (2 Hours)
URL:https://masshiremncareers.com/event/interviewing-for-new-english-speakers-6/
LOCATION:Chelsea Career Center\, 4 Gerrish Ave\, Chelsea\, MA\, 02150\, United States
CATEGORIES:Chelsea Center Event,Workshops
END:VEVENT
BEGIN:VEVENT
DTSTART;VALUE=DATE:20200120
DTEND;VALUE=DATE:20200121
DTSTAMP:20260419T100126
CREATED:20191202T165237Z
LAST-MODIFIED:20191202T165237Z
UID:19724-1579478400-1579564799@masshiremncareers.com
SUMMARY:MLK Jr. Day - Offices Closed
DESCRIPTION:
URL:https://masshiremncareers.com/event/mlk-jr-day-offices-closed/
LOCATION:Cambridge Career Center\, 186 Alewife Brook Parkway\, Cambridge\, MA\, 02138\, United States
CATEGORIES:Cambridge Center Event,Chelsea Center Event,Woburn Center Event
END:VEVENT
BEGIN:VEVENT
DTSTART;TZID=America/New_York:20200122T100000
DTEND;TZID=America/New_York:20200122T120000
DTSTAMP:20260419T100126
CREATED:20191202T172726Z
LAST-MODIFIED:20191202T172726Z
UID:19747-1579687200-1579694400@masshiremncareers.com
SUMMARY:Department of Transitional Assistance
DESCRIPTION:A representative from the department of transitional assistance will be onsite to answer questions about their programs.
URL:https://masshiremncareers.com/event/department-of-transitional-assistance-16/
LOCATION:Chelsea Career Center\, 4 Gerrish Ave\, Chelsea\, MA\, 02150\, United States
CATEGORIES:Chelsea Center Event
END:VEVENT
BEGIN:VEVENT
DTSTART;TZID=America/New_York:20200122T140000
DTEND;TZID=America/New_York:20200122T153000
DTSTAMP:20260419T100126
CREATED:20191202T173043Z
LAST-MODIFIED:20191202T173043Z
UID:19753-1579701600-1579707000@masshiremncareers.com
SUMMARY:Career Development Options (Español)
DESCRIPTION:Interesado en obtener asesoramiento profesional individual? ¿Buscas fondos para pagar la escolarización o entrenamiento? Venga y aprenda sobre las opciones de su trayectoria profesional y cómo podemos ayudarlo en su búsqueda de trabajo. Esta sesión de información explica en detalle los requisitos de elegibilidad para acceder a estos servicios financiados a través del programa WIOA. (1.5 Horas) \nInterested in getting one-on-one career counseling to help with your job search? Need grant funds for schooling or training? Come learn about your career path options and how we can help you in your job search. This information session explains in detail about the eligibility requirements for accessing these grant-funded services through WIOA. (1.5 Hours)
URL:https://masshiremncareers.com/event/career-development-options-espanol-12/
LOCATION:Chelsea Career Center\, 4 Gerrish Ave\, Chelsea\, MA\, 02150\, United States
CATEGORIES:Chelsea Center Event
END:VEVENT
BEGIN:VEVENT
DTSTART;TZID=America/New_York:20200123T130000
DTEND;TZID=America/New_York:20200123T150000
DTSTAMP:20260419T100126
CREATED:20191202T173717Z
LAST-MODIFIED:20191202T173717Z
UID:19757-1579784400-1579791600@masshiremncareers.com
SUMMARY:Interviewing Fundamentals
DESCRIPTION:Is your resume getting your foot in the door but you’re not advancing beyond the interview? Come and learn the best practices of a successful in-person job interview!  We will discuss research\, CAR Statements\, post-interview follow-up and the importance of non-work related activities.  We will also explore how best to navigate an interview’s behavioral and traditional questions. (2.5 Hours)
URL:https://masshiremncareers.com/event/interviewing-fundamentals-32/
LOCATION:Chelsea Career Center\, 4 Gerrish Ave\, Chelsea\, MA\, 02150\, United States
CATEGORIES:Chelsea Center Event,Workshops
END:VEVENT
BEGIN:VEVENT
DTSTART;TZID=America/New_York:20200129T100000
DTEND;TZID=America/New_York:20200129T120000
DTSTAMP:20260419T100126
CREATED:20191202T172822Z
LAST-MODIFIED:20191202T172822Z
UID:19749-1580292000-1580299200@masshiremncareers.com
SUMMARY:Department of Transistional Assistance
DESCRIPTION:A representative from the department of transitional assistance will be onsite to answer questions about their programs.
URL:https://masshiremncareers.com/event/department-of-transistional-assistance-2/
LOCATION:Chelsea Career Center\, 4 Gerrish Ave\, Chelsea\, MA\, 02150\, United States
CATEGORIES:Chelsea Center Event
END:VEVENT
END:VCALENDAR