BEGIN:VCALENDAR
VERSION:2.0
PRODID:-//MassHire Metro North Career Center - ECPv6.15.20//NONSGML v1.0//EN
CALSCALE:GREGORIAN
METHOD:PUBLISH
X-ORIGINAL-URL:https://masshiremncareers.com
X-WR-CALDESC:Events for MassHire Metro North Career Center
REFRESH-INTERVAL;VALUE=DURATION:PT1H
X-Robots-Tag:noindex
X-PUBLISHED-TTL:PT1H
BEGIN:VTIMEZONE
TZID:America/New_York
BEGIN:DAYLIGHT
TZOFFSETFROM:-0500
TZOFFSETTO:-0400
TZNAME:EDT
DTSTART:20240310T070000
END:DAYLIGHT
BEGIN:STANDARD
TZOFFSETFROM:-0400
TZOFFSETTO:-0500
TZNAME:EST
DTSTART:20241103T060000
END:STANDARD
BEGIN:DAYLIGHT
TZOFFSETFROM:-0500
TZOFFSETTO:-0400
TZNAME:EDT
DTSTART:20250309T070000
END:DAYLIGHT
BEGIN:STANDARD
TZOFFSETFROM:-0400
TZOFFSETTO:-0500
TZNAME:EST
DTSTART:20251102T060000
END:STANDARD
BEGIN:DAYLIGHT
TZOFFSETFROM:-0500
TZOFFSETTO:-0400
TZNAME:EDT
DTSTART:20260308T070000
END:DAYLIGHT
BEGIN:STANDARD
TZOFFSETFROM:-0400
TZOFFSETTO:-0500
TZNAME:EST
DTSTART:20261101T060000
END:STANDARD
END:VTIMEZONE
BEGIN:VEVENT
DTSTART;TZID=America/New_York:20250505T130000
DTEND;TZID=America/New_York:20250505T143000
DTSTAMP:20260420T161702
CREATED:20250416T135654Z
LAST-MODIFIED:20250424T145927Z
UID:28372-1746450000-1746455400@masshiremncareers.com
SUMMARY:Google Sheets
DESCRIPTION:Google Sheets is an efficient tool for working with data. In this workshop\, become familiar with Sheets starting from the very beginning. Learn to create a workbook\, edit\, analyze\, and share. Leave feeling like you can successfully create and use a Google Sheets workbook. Register here
URL:https://masshiremncareers.com/event/google-sheets-4/
CATEGORIES:Cambridge Center Event,Career Center Seminars,Computer Class,Workshops
ATTACH;FMTTYPE=application/pdf:https://masshiremncareers.com/wp-content/uploads/Google-Sheets-flyer-inperson-Cambridge-20250505.pdf
END:VEVENT
BEGIN:VEVENT
DTSTART;TZID=America/New_York:20250506T130000
DTEND;TZID=America/New_York:20250506T150000
DTSTAMP:20260420T161702
CREATED:20250416T135839Z
LAST-MODIFIED:20250424T150249Z
UID:28373-1746536400-1746543600@masshiremncareers.com
SUMMARY:Microsoft Word
DESCRIPTION:Microsoft Word is a great tool for creating and editing text documents. In this workshop\, start from scratch and learn Word beginning with the basics. Develop the skills necessary to feel comfortable opening Word\, starting a document\, editing\, saving your file\, and even printing and sharing your document. Register here
URL:https://masshiremncareers.com/event/microsoft-word-11/
CATEGORIES:Career Center Seminars,Computer Class,Woburn Center Event
ATTACH;FMTTYPE=application/pdf:https://masshiremncareers.com/wp-content/uploads/Microsoft-Word-flyer-inperson-Woburn-20250506.pdf
END:VEVENT
BEGIN:VEVENT
DTSTART;TZID=America/New_York:20250507T130000
DTEND;TZID=America/New_York:20250507T150000
DTSTAMP:20260420T161702
CREATED:20250416T140029Z
LAST-MODIFIED:20250424T150607Z
UID:28374-1746622800-1746630000@masshiremncareers.com
SUMMARY:Basic Computer Skills 2
DESCRIPTION:Having general knowledge about computers is a great start! In this class\, enhance your skills by diving deeper into computer knowledge. Register here
URL:https://masshiremncareers.com/event/basic-computer-skills-2-16/
CATEGORIES:Computer Class,Malden Career Center,Workshops
ATTACH;FMTTYPE=application/pdf:https://masshiremncareers.com/wp-content/uploads/Basic-Computer-Skills-2-flyer-inperson-Malden-20250507.pdf
END:VEVENT
END:VCALENDAR