BEGIN:VCALENDAR
VERSION:2.0
PRODID:-//MassHire Metro North Career Center - ECPv6.15.20//NONSGML v1.0//EN
CALSCALE:GREGORIAN
METHOD:PUBLISH
X-ORIGINAL-URL:https://masshiremncareers.com
X-WR-CALDESC:Events for MassHire Metro North Career Center
REFRESH-INTERVAL;VALUE=DURATION:PT1H
X-Robots-Tag:noindex
X-PUBLISHED-TTL:PT1H
BEGIN:VTIMEZONE
TZID:America/New_York
BEGIN:DAYLIGHT
TZOFFSETFROM:-0500
TZOFFSETTO:-0400
TZNAME:EDT
DTSTART:20240310T070000
END:DAYLIGHT
BEGIN:STANDARD
TZOFFSETFROM:-0400
TZOFFSETTO:-0500
TZNAME:EST
DTSTART:20241103T060000
END:STANDARD
BEGIN:DAYLIGHT
TZOFFSETFROM:-0500
TZOFFSETTO:-0400
TZNAME:EDT
DTSTART:20250309T070000
END:DAYLIGHT
BEGIN:STANDARD
TZOFFSETFROM:-0400
TZOFFSETTO:-0500
TZNAME:EST
DTSTART:20251102T060000
END:STANDARD
BEGIN:DAYLIGHT
TZOFFSETFROM:-0500
TZOFFSETTO:-0400
TZNAME:EDT
DTSTART:20260308T070000
END:DAYLIGHT
BEGIN:STANDARD
TZOFFSETFROM:-0400
TZOFFSETTO:-0500
TZNAME:EST
DTSTART:20261101T060000
END:STANDARD
END:VTIMEZONE
BEGIN:VEVENT
DTSTART;TZID=America/New_York:20250805T130000
DTEND;TZID=America/New_York:20250805T150000
DTSTAMP:20260421T230635
CREATED:20250716T133909Z
LAST-MODIFIED:20250716T145352Z
UID:28557-1754398800-1754406000@masshiremncareers.com
SUMMARY:Advanced Computer Skills 2
DESCRIPTION:Personal computer skills are amazing to have. Learn how to apply your personal computer skills in order to adapt to organizational and business computer usage. Tackle using two monitors and learning keyboard shortcuts. Get an overview of the most popular Microsoft 365 apps for business use. Even learn email etiquette and how to add a custom signature to every email you send. Register here
URL:https://masshiremncareers.com/event/advanced-computer-skills-2-8/
CATEGORIES:Career Center Seminars,Computer Class,Woburn Center Event,Workshops
ATTACH;FMTTYPE=application/pdf:https://masshiremncareers.com/wp-content/uploads/Advanced-Computer-Skills-2-flyer-inperson-Woburn-20250805.pdf
END:VEVENT
BEGIN:VEVENT
DTSTART;TZID=America/New_York:20250811T130000
DTEND;TZID=America/New_York:20250811T150000
DTSTAMP:20260421T230635
CREATED:20250716T134846Z
LAST-MODIFIED:20250716T151729Z
UID:28563-1754917200-1754924400@masshiremncareers.com
SUMMARY:Basic Computer Skills 1
DESCRIPTION:Are you new to the world of computers? Do you want to feel more comfortable using technology? This is the course for you! Learn the very basics about computers starting with the terminology. Practice navigating a desktop\, browsing the internet\, and even get an introduction to creating and saving documents using some of the most popular Microsoft Windows 11 applications: Word\, Excel\, and PowerPoint. Register here
URL:https://masshiremncareers.com/event/basic-computer-skills-1-20/
CATEGORIES:Cambridge Center Event,Career Center Seminars,Computer Class,Workshops
ATTACH;FMTTYPE=application/pdf:https://masshiremncareers.com/wp-content/uploads/Basic-Computer-Skills-1-flyer-inperson-Cambridge-20250811.pdf
END:VEVENT
BEGIN:VEVENT
DTSTART;TZID=America/New_York:20250813T130000
DTEND;TZID=America/New_York:20250813T140000
DTSTAMP:20260421T230635
CREATED:20250716T135139Z
LAST-MODIFIED:20250716T135139Z
UID:28565-1755090000-1755093600@masshiremncareers.com
SUMMARY:Share\, Collaborate in Google Docs
DESCRIPTION:Need to know how to share files with others using Google Docs? Please join this live demonstration and learn about real time sharing\, comments\, version history and collaborating with others. Register here
URL:https://masshiremncareers.com/event/share-collaborate-in-google-docs-4/
CATEGORIES:Computer Class,Webinar,Woburn Center Event,Workshops
END:VEVENT
BEGIN:VEVENT
DTSTART;TZID=America/New_York:20250814T130000
DTEND;TZID=America/New_York:20250814T150000
DTSTAMP:20260421T230635
CREATED:20250716T135340Z
LAST-MODIFIED:20250716T152235Z
UID:28566-1755176400-1755183600@masshiremncareers.com
SUMMARY:Microsoft Word
DESCRIPTION:Should be comfortable using a computer; have general computer knowledge. Can recognize Microsoft Word on the Desktop and be able to open the application. If the customer has attended any previous Basic or Advanced Computer Skills workshop\, then they will have the necessary skills needed for this workshop. Register here
URL:https://masshiremncareers.com/event/microsoft-word-13/
CATEGORIES:Career Center Seminars,Computer Class,Malden Career Center,Workshops
ATTACH;FMTTYPE=application/pdf:https://masshiremncareers.com/wp-content/uploads/Microsoft-Word-flyer-inperson-Malden-20250814.pdf
END:VEVENT
BEGIN:VEVENT
DTSTART;TZID=America/New_York:20250818T100000
DTEND;TZID=America/New_York:20250818T120000
DTSTAMP:20260421T230635
CREATED:20250716T140356Z
LAST-MODIFIED:20250716T153047Z
UID:28567-1755511200-1755518400@masshiremncareers.com
SUMMARY:Basic Computer Skills 2
DESCRIPTION:Having general knowledge about computers is a great start! In this class\, enhance your skills by diving deeper into computer knowledge. Get more familiar with the keyboard\, learn to print\, and develop a better understanding of that mess of cords that flows out of the back of your computer. Most importantly\, learn to protect yourself with computer safety. Register here
URL:https://masshiremncareers.com/event/basic-computer-skills-2-19/
CATEGORIES:Cambridge Center Event,Career Center Seminars,Computer Class,Workshops
ATTACH;FMTTYPE=application/pdf:https://masshiremncareers.com/wp-content/uploads/Basic-Computer-Skills-2-flyer-inperson-Cambridge-20250818.pdf
END:VEVENT
BEGIN:VEVENT
DTSTART;TZID=America/New_York:20250819T100000
DTEND;TZID=America/New_York:20250819T120000
DTSTAMP:20260421T230635
CREATED:20250716T140908Z
LAST-MODIFIED:20250716T153514Z
UID:28570-1755597600-1755604800@masshiremncareers.com
SUMMARY:Microsoft Word
DESCRIPTION:Microsoft Word is a great tool for creating and editing text documents. In this workshop\, start from scratch and learn Word beginning with the basics. Develop the skills necessary to feel comfortable opening Word\, starting a document\, editing\, saving your file\, and even printing and sharing your document. Register here
URL:https://masshiremncareers.com/event/microsoft-word-14/
CATEGORIES:Career Center Seminars,Computer Class,Woburn Center Event,Workshops
ATTACH;FMTTYPE=application/pdf:https://masshiremncareers.com/wp-content/uploads/Microsoft-Word-flyer-inperson-Woburn-20250819.pdf
END:VEVENT
BEGIN:VEVENT
DTSTART;TZID=America/New_York:20250821T130000
DTEND;TZID=America/New_York:20250821T150000
DTSTAMP:20260421T230635
CREATED:20250716T141100Z
LAST-MODIFIED:20250716T143614Z
UID:28571-1755781200-1755788400@masshiremncareers.com
SUMMARY:Internet for Beginners in Spanish
DESCRIPTION:Learn about Internet basics: Functionality\, Web Browsing\, Online Security\, and Social Media. Register here
URL:https://masshiremncareers.com/event/internet-for-beginners-in-spanish-2/
CATEGORIES:Career Center Seminars,Chelsea Center Event,Computer Class,Workshops
END:VEVENT
BEGIN:VEVENT
DTSTART;TZID=America/New_York:20250825T130000
DTEND;TZID=America/New_York:20250825T150000
DTSTAMP:20260421T230635
CREATED:20250716T141617Z
LAST-MODIFIED:20250716T154338Z
UID:28574-1756126800-1756134000@masshiremncareers.com
SUMMARY:Microsoft PowerPoint
DESCRIPTION:Microsoft PowerPoint is a great tool for putting together impressive presentations. In this workshop\, start from scratch and learn PowerPoint beginning with the basics. Develop the skills necessary to feel comfortable opening PowerPoint\, starting a slideshow\, editing\, saving your file\, and even printing\, sharing\, and presenting your document. Register here
URL:https://masshiremncareers.com/event/microsoft-powerpoint-7/
CATEGORIES:Cambridge Center Event,Career Center Seminars,Computer Class,Workshops
ATTACH;FMTTYPE=application/pdf:https://masshiremncareers.com/wp-content/uploads/Microsoft-PowerPoint-flyer-inperson-Cambridge-20250825.pdf
END:VEVENT
BEGIN:VEVENT
DTSTART;TZID=America/New_York:20250826T100000
DTEND;TZID=America/New_York:20250826T120000
DTSTAMP:20260421T230635
CREATED:20250716T141734Z
LAST-MODIFIED:20250716T155015Z
UID:28575-1756202400-1756209600@masshiremncareers.com
SUMMARY:Microsoft Excel
DESCRIPTION:Microsoft Excel is a great tool for collecting\, managing\, and organizing data. In this workshop\, start from scratch and learn Excel beginning with the basics. Develop the skills necessary to feel comfortable opening Excel\, starting a workbook\, editing\, saving your file\, and even learn some basic functions to get you started.  Register here
URL:https://masshiremncareers.com/event/microsoft-excel-10/
CATEGORIES:Career Center Seminars,Computer Class,Woburn Center Event,Workshops
ATTACH;FMTTYPE=application/pdf:https://masshiremncareers.com/wp-content/uploads/Microsoft-Excel-flyer-inperson-Woburn-20250826.pdf
END:VEVENT
BEGIN:VEVENT
DTSTART;TZID=America/New_York:20250828T130000
DTEND;TZID=America/New_York:20250828T150000
DTSTAMP:20260421T230635
CREATED:20250716T142143Z
LAST-MODIFIED:20250716T155621Z
UID:28577-1756386000-1756393200@masshiremncareers.com
SUMMARY:Basic Computer Skills 1
DESCRIPTION:Are you new to the world of computers? Do you want to feel more comfortable using technology? This is the course for you! Learn the very basics about computers starting with the terminology. Practice navigating a desktop\, browsing the internet\, and even get an introduction to creating and saving documents using some of the most popular Microsoft Windows 11 applications: Word\, Excel\, and PowerPoint.   Register here
URL:https://masshiremncareers.com/event/basic-computer-skills-1-21/
CATEGORIES:Career Center Seminars,Computer Class,Malden Career Center,Workshops
ATTACH;FMTTYPE=application/pdf:https://masshiremncareers.com/wp-content/uploads/Basic-Computer-Skills-I-flyer-inperson-Malden-20250828.pdf
END:VEVENT
END:VCALENDAR