BEGIN:VCALENDAR
VERSION:2.0
PRODID:-//MassHire Metro North Career Center - ECPv6.15.20//NONSGML v1.0//EN
CALSCALE:GREGORIAN
METHOD:PUBLISH
X-ORIGINAL-URL:https://masshiremncareers.com
X-WR-CALDESC:Events for MassHire Metro North Career Center
REFRESH-INTERVAL;VALUE=DURATION:PT1H
X-Robots-Tag:noindex
X-PUBLISHED-TTL:PT1H
BEGIN:VTIMEZONE
TZID:America/New_York
BEGIN:DAYLIGHT
TZOFFSETFROM:-0500
TZOFFSETTO:-0400
TZNAME:EDT
DTSTART:20250309T070000
END:DAYLIGHT
BEGIN:STANDARD
TZOFFSETFROM:-0400
TZOFFSETTO:-0500
TZNAME:EST
DTSTART:20251102T060000
END:STANDARD
BEGIN:DAYLIGHT
TZOFFSETFROM:-0500
TZOFFSETTO:-0400
TZNAME:EDT
DTSTART:20260308T070000
END:DAYLIGHT
BEGIN:STANDARD
TZOFFSETFROM:-0400
TZOFFSETTO:-0500
TZNAME:EST
DTSTART:20261101T060000
END:STANDARD
BEGIN:DAYLIGHT
TZOFFSETFROM:-0500
TZOFFSETTO:-0400
TZNAME:EDT
DTSTART:20270314T070000
END:DAYLIGHT
BEGIN:STANDARD
TZOFFSETFROM:-0400
TZOFFSETTO:-0500
TZNAME:EST
DTSTART:20271107T060000
END:STANDARD
END:VTIMEZONE
BEGIN:VEVENT
DTSTART;TZID=America/New_York:20260121T100000
DTEND;TZID=America/New_York:20260121T120000
DTSTAMP:20260421T075001
CREATED:20251229T151417Z
LAST-MODIFIED:20251229T151417Z
UID:29041-1768989600-1768996800@masshiremncareers.com
SUMMARY:Basic Computer Skills 1 (Malden)
DESCRIPTION:Are you new to the world of computers? Do you want to feel more comfortable using technology? This is the course for you! Learn the very basics about computers starting with the terminology. Practice navigating a desktop\, browsing the internet\, and even get an introduction to creating and saving documents using some of the most popular Microsoft Windows 11 applications: Word\, Excel\, and PowerPoint.
URL:https://masshiremncareers.com/event/basic-computer-skills-1-malden/
CATEGORIES:Computer Class,Malden Career Center,Workshops
END:VEVENT
BEGIN:VEVENT
DTSTART;TZID=America/New_York:20260121T130000
DTEND;TZID=America/New_York:20260121T140000
DTSTAMP:20260421T075001
CREATED:20251229T151549Z
LAST-MODIFIED:20251229T151549Z
UID:29042-1769000400-1769004000@masshiremncareers.com
SUMMARY:Share\, Collaborate in Google Docs
DESCRIPTION:Need to know how to share files with others using Google Docs? Please join this live demonstration and learn about real time sharing\, comments\, version history and collaborating with others. Register Here
URL:https://masshiremncareers.com/event/share-collaborate-in-google-docs-7/
CATEGORIES:Computer Class,Webinar,Woburn Center Event,Workshops
END:VEVENT
END:VCALENDAR