BEGIN:VCALENDAR
VERSION:2.0
PRODID:-//MassHire Metro North Career Center - ECPv6.15.20//NONSGML v1.0//EN
CALSCALE:GREGORIAN
METHOD:PUBLISH
X-ORIGINAL-URL:https://masshiremncareers.com
X-WR-CALDESC:Events for MassHire Metro North Career Center
REFRESH-INTERVAL;VALUE=DURATION:PT1H
X-Robots-Tag:noindex
X-PUBLISHED-TTL:PT1H
BEGIN:VTIMEZONE
TZID:America/New_York
BEGIN:DAYLIGHT
TZOFFSETFROM:-0500
TZOFFSETTO:-0400
TZNAME:EDT
DTSTART:20240310T070000
END:DAYLIGHT
BEGIN:STANDARD
TZOFFSETFROM:-0400
TZOFFSETTO:-0500
TZNAME:EST
DTSTART:20241103T060000
END:STANDARD
BEGIN:DAYLIGHT
TZOFFSETFROM:-0500
TZOFFSETTO:-0400
TZNAME:EDT
DTSTART:20250309T070000
END:DAYLIGHT
BEGIN:STANDARD
TZOFFSETFROM:-0400
TZOFFSETTO:-0500
TZNAME:EST
DTSTART:20251102T060000
END:STANDARD
BEGIN:DAYLIGHT
TZOFFSETFROM:-0500
TZOFFSETTO:-0400
TZNAME:EDT
DTSTART:20260308T070000
END:DAYLIGHT
BEGIN:STANDARD
TZOFFSETFROM:-0400
TZOFFSETTO:-0500
TZNAME:EST
DTSTART:20261101T060000
END:STANDARD
END:VTIMEZONE
BEGIN:VEVENT
DTSTART;TZID=America/New_York:20250422T130000
DTEND;TZID=America/New_York:20250422T140000
DTSTAMP:20260422T135229
CREATED:20250318T141737Z
LAST-MODIFIED:20250326T131521Z
UID:28314-1745326800-1745330400@masshiremncareers.com
SUMMARY:Advanced Computer Skills 1
DESCRIPTION:Computers are designed to make our lives easier. Learn how in this workshop. Multitask with tabs and split screen. Keep organized with bookmarks\, files\, and folders. Get an intro to email so that you can stay connected with family\, friends\, and potential or current employers and colleagues. Register here
URL:https://masshiremncareers.com/event/advanced-computer-skills-1-8/
CATEGORIES:Career Center Seminars,Computer Class,Woburn Center Event,Workshops
ATTACH;FMTTYPE=application/pdf:https://masshiremncareers.com/wp-content/uploads/Advanced-Computer-Skills-1-flyer-inperson-Woburn-20250422.pdf
END:VEVENT
BEGIN:VEVENT
DTSTART;TZID=America/New_York:20250423T130000
DTEND;TZID=America/New_York:20250423T140000
DTSTAMP:20260422T135229
CREATED:20250325T195123Z
LAST-MODIFIED:20250325T195123Z
UID:28334-1745413200-1745416800@masshiremncareers.com
SUMMARY:Microsoft Outlook
DESCRIPTION:Microsoft Outlook is your hub for all things email communication. In this workshop\, learn the ins and outs of Outlook so that you can communicate efficiently with others via email\, stay up to date and organized\, and even connect Outlook to other applications so that everything you need is right at your fingertips. Register here
URL:https://masshiremncareers.com/event/microsoft-outlook-4/
CATEGORIES:Career Center Seminars,Computer Class,Malden Career Center,Workshops
ATTACH;FMTTYPE=application/pdf:https://masshiremncareers.com/wp-content/uploads/Microsoft-Outlook-flyer-inperson-Malden-20250423.pdf
END:VEVENT
BEGIN:VEVENT
DTSTART;TZID=America/New_York:20250428T110000
DTEND;TZID=America/New_York:20250428T130000
DTSTAMP:20260422T135229
CREATED:20250318T141954Z
LAST-MODIFIED:20250326T131843Z
UID:28315-1745838000-1745845200@masshiremncareers.com
SUMMARY:Google Slides
DESCRIPTION:Google Slides is an efficient tool for creating presentations. In this workshop\, become familiar with Slides starting from the very beginning. Learn to create a presentation\, edit\, and share. Leave feeling like you can successfully create and use a Google Slides presentation. Register here
URL:https://masshiremncareers.com/event/google-slides-4/
CATEGORIES:Cambridge Center Event,Career Center Seminars,Computer Class,Workshops
ATTACH;FMTTYPE=application/pdf:https://masshiremncareers.com/wp-content/uploads/Google-Slide-flyer-inperson-cambridge-20250428.pdf
END:VEVENT
BEGIN:VEVENT
DTSTART;TZID=America/New_York:20250429T130000
DTEND;TZID=America/New_York:20250429T140000
DTSTAMP:20260422T135229
CREATED:20250318T142155Z
LAST-MODIFIED:20250326T132105Z
UID:28316-1745931600-1745935200@masshiremncareers.com
SUMMARY:Advanced Computer Skills 2
DESCRIPTION:Personal computer skills are amazing to have. Learn how to apply your personal computer skills in order to adapt to organizational and business computer usage. Tackle using two monitors and learning keyboard shortcuts. Get an overview of the most popular Microsoft 365 apps for business use. Even learn email etiquette and how to add a custom signature to every email you send. Register here
URL:https://masshiremncareers.com/event/advanced-computer-skills-2-7/
CATEGORIES:Career Center Seminars,Computer Class,Woburn Center Event,Workshops
ATTACH;FMTTYPE=application/pdf:https://masshiremncareers.com/wp-content/uploads/Advanced-Computer-Skills-2-flyer-inperson-Woburn-20250429.pdf
END:VEVENT
BEGIN:VEVENT
DTSTART;TZID=America/New_York:20250430T130000
DTEND;TZID=America/New_York:20250430T150000
DTSTAMP:20260422T135229
CREATED:20250318T142632Z
LAST-MODIFIED:20250326T132618Z
UID:28318-1746018000-1746025200@masshiremncareers.com
SUMMARY:Basic Computer Skills 1
DESCRIPTION:Are you new to the world of computers? Do you want to feel more comfortable using technology? This is the course for you! Learn the very basics about computers starting with the terminology. Practice navigating a desktop and browsing the internet. Register here
URL:https://masshiremncareers.com/event/basic-computer-skills-1-16/
CATEGORIES:Career Center Seminars,Computer Class,Malden Career Center,Workshops
ATTACH;FMTTYPE=application/pdf:https://masshiremncareers.com/wp-content/uploads/Basic-Computer-Skills-I-flyer-inperson-Malden-20250430.pdf
END:VEVENT
BEGIN:VEVENT
DTSTART;TZID=America/New_York:20250505T130000
DTEND;TZID=America/New_York:20250505T143000
DTSTAMP:20260422T135229
CREATED:20250416T135654Z
LAST-MODIFIED:20250424T145927Z
UID:28372-1746450000-1746455400@masshiremncareers.com
SUMMARY:Google Sheets
DESCRIPTION:Google Sheets is an efficient tool for working with data. In this workshop\, become familiar with Sheets starting from the very beginning. Learn to create a workbook\, edit\, analyze\, and share. Leave feeling like you can successfully create and use a Google Sheets workbook. Register here
URL:https://masshiremncareers.com/event/google-sheets-4/
CATEGORIES:Cambridge Center Event,Career Center Seminars,Computer Class,Workshops
ATTACH;FMTTYPE=application/pdf:https://masshiremncareers.com/wp-content/uploads/Google-Sheets-flyer-inperson-Cambridge-20250505.pdf
END:VEVENT
BEGIN:VEVENT
DTSTART;TZID=America/New_York:20250506T130000
DTEND;TZID=America/New_York:20250506T150000
DTSTAMP:20260422T135229
CREATED:20250416T135839Z
LAST-MODIFIED:20250424T150249Z
UID:28373-1746536400-1746543600@masshiremncareers.com
SUMMARY:Microsoft Word
DESCRIPTION:Microsoft Word is a great tool for creating and editing text documents. In this workshop\, start from scratch and learn Word beginning with the basics. Develop the skills necessary to feel comfortable opening Word\, starting a document\, editing\, saving your file\, and even printing and sharing your document. Register here
URL:https://masshiremncareers.com/event/microsoft-word-11/
CATEGORIES:Career Center Seminars,Computer Class,Woburn Center Event
ATTACH;FMTTYPE=application/pdf:https://masshiremncareers.com/wp-content/uploads/Microsoft-Word-flyer-inperson-Woburn-20250506.pdf
END:VEVENT
BEGIN:VEVENT
DTSTART;TZID=America/New_York:20250507T130000
DTEND;TZID=America/New_York:20250507T150000
DTSTAMP:20260422T135229
CREATED:20250416T140029Z
LAST-MODIFIED:20250424T150607Z
UID:28374-1746622800-1746630000@masshiremncareers.com
SUMMARY:Basic Computer Skills 2
DESCRIPTION:Having general knowledge about computers is a great start! In this class\, enhance your skills by diving deeper into computer knowledge. Register here
URL:https://masshiremncareers.com/event/basic-computer-skills-2-16/
CATEGORIES:Computer Class,Malden Career Center,Workshops
ATTACH;FMTTYPE=application/pdf:https://masshiremncareers.com/wp-content/uploads/Basic-Computer-Skills-2-flyer-inperson-Malden-20250507.pdf
END:VEVENT
BEGIN:VEVENT
DTSTART;TZID=America/New_York:20250709T100000
DTEND;TZID=America/New_York:20250709T120000
DTSTAMP:20260422T135229
CREATED:20250624T151850Z
LAST-MODIFIED:20250624T151850Z
UID:28528-1752055200-1752062400@masshiremncareers.com
SUMMARY:Basic Computer Skills 2
DESCRIPTION:Having general knowledge about computers is a great start! In this class\, enhance your skills by diving deeper into computer knowledge. Get more familiar with the keyboard\, learn to print\, and develop a better understanding of that mess of cords that flows out of the back of your computer. Most importantly\, learn to protect yourself with computer safety. Register here
URL:https://masshiremncareers.com/event/basic-computer-skills-2-17/
CATEGORIES:Career Center Seminars,Computer Class,Woburn Center Event,Workshops
END:VEVENT
BEGIN:VEVENT
DTSTART;TZID=America/New_York:20250710T100000
DTEND;TZID=America/New_York:20250710T120000
DTSTAMP:20260422T135229
CREATED:20250624T182619Z
LAST-MODIFIED:20250624T182649Z
UID:28531-1752141600-1752148800@masshiremncareers.com
SUMMARY:Basic Computer Skills 1
DESCRIPTION:Are you new to the world of computers? Do you want to feel more comfortable using technology? This is the course for you! Learn the very basics about computers starting with the terminology. Practice navigating a desktop\, browsing the internet and experience some common Microsoft applications. Register here
URL:https://masshiremncareers.com/event/basic-computer-skills-1-19/
CATEGORIES:Career Center Seminars,Computer Class,Malden Career Center,Workshops
END:VEVENT
BEGIN:VEVENT
DTSTART;TZID=America/New_York:20250714T130000
DTEND;TZID=America/New_York:20250714T150000
DTSTAMP:20260422T135229
CREATED:20250624T182915Z
LAST-MODIFIED:20250624T182915Z
UID:28532-1752498000-1752505200@masshiremncareers.com
SUMMARY:Microsoft Word
DESCRIPTION:Microsoft Word is a great tool for creating and editing text documents. In this workshop\, start from scratch and learn Word beginning with the basics. Develop the skills necessary to feel comfortable opening Word\, starting a document\, editing\, saving your file\, and even printing and sharing your document. Register here
URL:https://masshiremncareers.com/event/microsoft-word-12/
CATEGORIES:Cambridge Center Event,Career Center Seminars,Computer Class,Workshops
END:VEVENT
BEGIN:VEVENT
DTSTART;TZID=America/New_York:20250715T100000
DTEND;TZID=America/New_York:20250715T120000
DTSTAMP:20260422T135229
CREATED:20250624T183437Z
LAST-MODIFIED:20250624T183437Z
UID:28533-1752573600-1752580800@masshiremncareers.com
SUMMARY:Basic Computer Skills 2
DESCRIPTION:Having general knowledge about computers is a great start! In this class\, enhance your skills by diving deeper into computer knowledge. Get more familiar with the keyboard\, learn to print\, and develop a better understanding of file management. Register here
URL:https://masshiremncareers.com/event/basic-computer-skills-2-18/
CATEGORIES:Career Center Seminars,Computer Class,Malden Career Center,Workshops
END:VEVENT
BEGIN:VEVENT
DTSTART;TZID=America/New_York:20250722T130000
DTEND;TZID=America/New_York:20250722T140000
DTSTAMP:20260422T135229
CREATED:20250624T184039Z
LAST-MODIFIED:20250624T184039Z
UID:28535-1753189200-1753192800@masshiremncareers.com
SUMMARY:Google Docs
DESCRIPTION:Google Do cs is an efficient tool for creating word documents. In this workshop\, become familiar with Docs starting from the very beginning. Learn to create a document\, edit\, and share. Leave feeling like you can successfully create and use a Google Doc. This is a one-hour webinar. Register here
URL:https://masshiremncareers.com/event/google-docs-7/
CATEGORIES:Computer Class,Webinar,Woburn Center Event,Workshops
END:VEVENT
BEGIN:VEVENT
DTSTART;TZID=America/New_York:20250724T130000
DTEND;TZID=America/New_York:20250724T140000
DTSTAMP:20260422T135229
CREATED:20250624T184450Z
LAST-MODIFIED:20250624T184450Z
UID:28536-1753362000-1753365600@masshiremncareers.com
SUMMARY:Google Sheets
DESCRIPTION:Google Sheets is an efficient tool for working with data. In this workshop\, become familiar with Sheets starting from the very beginning. Learn to create a workbook\, edit\, analyze\, and share. Leave feeling like you can successfully create and use a Google Sheets workbook. This is a one-hour webinar. Register here
URL:https://masshiremncareers.com/event/google-sheets-5/
CATEGORIES:Computer Class,Webinar,Woburn Center Event,Workshops
END:VEVENT
BEGIN:VEVENT
DTSTART;TZID=America/New_York:20250730T100000
DTEND;TZID=America/New_York:20250730T120000
DTSTAMP:20260422T135229
CREATED:20250624T184911Z
LAST-MODIFIED:20250624T184911Z
UID:28539-1753869600-1753876800@masshiremncareers.com
SUMMARY:Advanced Computer Skills 1
DESCRIPTION:Computers are designed to make our lives easier. Learn how in this workshop. Multitask with tabs and split screen. Keep organized with bookmarks\, files\, and folders. Get an intro to email so that you can stay connected with family\, friends\, and potential or current employers and colleagues.  This is a two-hour workshop.  Register here
URL:https://masshiremncareers.com/event/advanced-computer-skills-1-9/
CATEGORIES:Career Center Seminars,Computer Class,Woburn Center Event,Workshops
END:VEVENT
BEGIN:VEVENT
DTSTART;TZID=America/New_York:20250805T130000
DTEND;TZID=America/New_York:20250805T150000
DTSTAMP:20260422T135229
CREATED:20250716T133909Z
LAST-MODIFIED:20250716T145352Z
UID:28557-1754398800-1754406000@masshiremncareers.com
SUMMARY:Advanced Computer Skills 2
DESCRIPTION:Personal computer skills are amazing to have. Learn how to apply your personal computer skills in order to adapt to organizational and business computer usage. Tackle using two monitors and learning keyboard shortcuts. Get an overview of the most popular Microsoft 365 apps for business use. Even learn email etiquette and how to add a custom signature to every email you send. Register here
URL:https://masshiremncareers.com/event/advanced-computer-skills-2-8/
CATEGORIES:Career Center Seminars,Computer Class,Woburn Center Event,Workshops
ATTACH;FMTTYPE=application/pdf:https://masshiremncareers.com/wp-content/uploads/Advanced-Computer-Skills-2-flyer-inperson-Woburn-20250805.pdf
END:VEVENT
BEGIN:VEVENT
DTSTART;TZID=America/New_York:20250811T130000
DTEND;TZID=America/New_York:20250811T150000
DTSTAMP:20260422T135229
CREATED:20250716T134846Z
LAST-MODIFIED:20250716T151729Z
UID:28563-1754917200-1754924400@masshiremncareers.com
SUMMARY:Basic Computer Skills 1
DESCRIPTION:Are you new to the world of computers? Do you want to feel more comfortable using technology? This is the course for you! Learn the very basics about computers starting with the terminology. Practice navigating a desktop\, browsing the internet\, and even get an introduction to creating and saving documents using some of the most popular Microsoft Windows 11 applications: Word\, Excel\, and PowerPoint. Register here
URL:https://masshiremncareers.com/event/basic-computer-skills-1-20/
CATEGORIES:Cambridge Center Event,Career Center Seminars,Computer Class,Workshops
ATTACH;FMTTYPE=application/pdf:https://masshiremncareers.com/wp-content/uploads/Basic-Computer-Skills-1-flyer-inperson-Cambridge-20250811.pdf
END:VEVENT
BEGIN:VEVENT
DTSTART;TZID=America/New_York:20250813T130000
DTEND;TZID=America/New_York:20250813T140000
DTSTAMP:20260422T135229
CREATED:20250716T135139Z
LAST-MODIFIED:20250716T135139Z
UID:28565-1755090000-1755093600@masshiremncareers.com
SUMMARY:Share\, Collaborate in Google Docs
DESCRIPTION:Need to know how to share files with others using Google Docs? Please join this live demonstration and learn about real time sharing\, comments\, version history and collaborating with others. Register here
URL:https://masshiremncareers.com/event/share-collaborate-in-google-docs-4/
CATEGORIES:Computer Class,Webinar,Woburn Center Event,Workshops
END:VEVENT
BEGIN:VEVENT
DTSTART;TZID=America/New_York:20250814T130000
DTEND;TZID=America/New_York:20250814T150000
DTSTAMP:20260422T135229
CREATED:20250716T135340Z
LAST-MODIFIED:20250716T152235Z
UID:28566-1755176400-1755183600@masshiremncareers.com
SUMMARY:Microsoft Word
DESCRIPTION:Should be comfortable using a computer; have general computer knowledge. Can recognize Microsoft Word on the Desktop and be able to open the application. If the customer has attended any previous Basic or Advanced Computer Skills workshop\, then they will have the necessary skills needed for this workshop. Register here
URL:https://masshiremncareers.com/event/microsoft-word-13/
CATEGORIES:Career Center Seminars,Computer Class,Malden Career Center,Workshops
ATTACH;FMTTYPE=application/pdf:https://masshiremncareers.com/wp-content/uploads/Microsoft-Word-flyer-inperson-Malden-20250814.pdf
END:VEVENT
BEGIN:VEVENT
DTSTART;TZID=America/New_York:20250818T100000
DTEND;TZID=America/New_York:20250818T120000
DTSTAMP:20260422T135229
CREATED:20250716T140356Z
LAST-MODIFIED:20250716T153047Z
UID:28567-1755511200-1755518400@masshiremncareers.com
SUMMARY:Basic Computer Skills 2
DESCRIPTION:Having general knowledge about computers is a great start! In this class\, enhance your skills by diving deeper into computer knowledge. Get more familiar with the keyboard\, learn to print\, and develop a better understanding of that mess of cords that flows out of the back of your computer. Most importantly\, learn to protect yourself with computer safety. Register here
URL:https://masshiremncareers.com/event/basic-computer-skills-2-19/
CATEGORIES:Cambridge Center Event,Career Center Seminars,Computer Class,Workshops
ATTACH;FMTTYPE=application/pdf:https://masshiremncareers.com/wp-content/uploads/Basic-Computer-Skills-2-flyer-inperson-Cambridge-20250818.pdf
END:VEVENT
BEGIN:VEVENT
DTSTART;TZID=America/New_York:20250819T100000
DTEND;TZID=America/New_York:20250819T120000
DTSTAMP:20260422T135229
CREATED:20250716T140908Z
LAST-MODIFIED:20250716T153514Z
UID:28570-1755597600-1755604800@masshiremncareers.com
SUMMARY:Microsoft Word
DESCRIPTION:Microsoft Word is a great tool for creating and editing text documents. In this workshop\, start from scratch and learn Word beginning with the basics. Develop the skills necessary to feel comfortable opening Word\, starting a document\, editing\, saving your file\, and even printing and sharing your document. Register here
URL:https://masshiremncareers.com/event/microsoft-word-14/
CATEGORIES:Career Center Seminars,Computer Class,Woburn Center Event,Workshops
ATTACH;FMTTYPE=application/pdf:https://masshiremncareers.com/wp-content/uploads/Microsoft-Word-flyer-inperson-Woburn-20250819.pdf
END:VEVENT
BEGIN:VEVENT
DTSTART;TZID=America/New_York:20250821T130000
DTEND;TZID=America/New_York:20250821T150000
DTSTAMP:20260422T135229
CREATED:20250716T141100Z
LAST-MODIFIED:20250716T143614Z
UID:28571-1755781200-1755788400@masshiremncareers.com
SUMMARY:Internet for Beginners in Spanish
DESCRIPTION:Learn about Internet basics: Functionality\, Web Browsing\, Online Security\, and Social Media. Register here
URL:https://masshiremncareers.com/event/internet-for-beginners-in-spanish-2/
CATEGORIES:Career Center Seminars,Chelsea Center Event,Computer Class,Workshops
END:VEVENT
BEGIN:VEVENT
DTSTART;TZID=America/New_York:20250825T130000
DTEND;TZID=America/New_York:20250825T150000
DTSTAMP:20260422T135229
CREATED:20250716T141617Z
LAST-MODIFIED:20250716T154338Z
UID:28574-1756126800-1756134000@masshiremncareers.com
SUMMARY:Microsoft PowerPoint
DESCRIPTION:Microsoft PowerPoint is a great tool for putting together impressive presentations. In this workshop\, start from scratch and learn PowerPoint beginning with the basics. Develop the skills necessary to feel comfortable opening PowerPoint\, starting a slideshow\, editing\, saving your file\, and even printing\, sharing\, and presenting your document. Register here
URL:https://masshiremncareers.com/event/microsoft-powerpoint-7/
CATEGORIES:Cambridge Center Event,Career Center Seminars,Computer Class,Workshops
ATTACH;FMTTYPE=application/pdf:https://masshiremncareers.com/wp-content/uploads/Microsoft-PowerPoint-flyer-inperson-Cambridge-20250825.pdf
END:VEVENT
BEGIN:VEVENT
DTSTART;TZID=America/New_York:20250826T100000
DTEND;TZID=America/New_York:20250826T120000
DTSTAMP:20260422T135229
CREATED:20250716T141734Z
LAST-MODIFIED:20250716T155015Z
UID:28575-1756202400-1756209600@masshiremncareers.com
SUMMARY:Microsoft Excel
DESCRIPTION:Microsoft Excel is a great tool for collecting\, managing\, and organizing data. In this workshop\, start from scratch and learn Excel beginning with the basics. Develop the skills necessary to feel comfortable opening Excel\, starting a workbook\, editing\, saving your file\, and even learn some basic functions to get you started.  Register here
URL:https://masshiremncareers.com/event/microsoft-excel-10/
CATEGORIES:Career Center Seminars,Computer Class,Woburn Center Event,Workshops
ATTACH;FMTTYPE=application/pdf:https://masshiremncareers.com/wp-content/uploads/Microsoft-Excel-flyer-inperson-Woburn-20250826.pdf
END:VEVENT
BEGIN:VEVENT
DTSTART;TZID=America/New_York:20250828T130000
DTEND;TZID=America/New_York:20250828T150000
DTSTAMP:20260422T135229
CREATED:20250716T142143Z
LAST-MODIFIED:20250716T155621Z
UID:28577-1756386000-1756393200@masshiremncareers.com
SUMMARY:Basic Computer Skills 1
DESCRIPTION:Are you new to the world of computers? Do you want to feel more comfortable using technology? This is the course for you! Learn the very basics about computers starting with the terminology. Practice navigating a desktop\, browsing the internet\, and even get an introduction to creating and saving documents using some of the most popular Microsoft Windows 11 applications: Word\, Excel\, and PowerPoint.   Register here
URL:https://masshiremncareers.com/event/basic-computer-skills-1-21/
CATEGORIES:Career Center Seminars,Computer Class,Malden Career Center,Workshops
ATTACH;FMTTYPE=application/pdf:https://masshiremncareers.com/wp-content/uploads/Basic-Computer-Skills-I-flyer-inperson-Malden-20250828.pdf
END:VEVENT
BEGIN:VEVENT
DTSTART;TZID=America/New_York:20250904T130000
DTEND;TZID=America/New_York:20250904T150000
DTSTAMP:20260422T135229
CREATED:20250813T151903Z
LAST-MODIFIED:20250813T151903Z
UID:28624-1756990800-1756998000@masshiremncareers.com
SUMMARY:Basic Computer Skills 2
DESCRIPTION:Having general knowledge about computers is a great start! In this class\, enhance your skills by diving deeper into computer knowledge. Get more familiar with the keyboard\, learn to print\, and develop a better overall understanding. Register here
URL:https://masshiremncareers.com/event/basic-computer-skills-2-20/
CATEGORIES:Career Center Seminars,Computer Class,Malden Career Center,Workshops
END:VEVENT
BEGIN:VEVENT
DTSTART;TZID=America/New_York:20250908T100000
DTEND;TZID=America/New_York:20250908T120000
DTSTAMP:20260422T135229
CREATED:20250825T123315Z
LAST-MODIFIED:20250825T123626Z
UID:28629-1757325600-1757332800@masshiremncareers.com
SUMMARY:Microsoft Word
DESCRIPTION:Microsoft Word is a great tool for creating and editing text documents. In this workshop\, start from scratch and learn Word beginning with the basics. Develop the skills necessary to feel comfortable opening Word\, starting a document\, editing\, saving your file\, and even printing and sharing your document. Register Here
URL:https://masshiremncareers.com/event/microsoft-word-15/
CATEGORIES:Cambridge Center Event,Career Center Seminars,Computer Class,Workshops
END:VEVENT
BEGIN:VEVENT
DTSTART;TZID=America/New_York:20250909T100000
DTEND;TZID=America/New_York:20250909T120000
DTSTAMP:20260422T135229
CREATED:20250825T123609Z
LAST-MODIFIED:20250909T170135Z
UID:28632-1757412000-1757419200@masshiremncareers.com
SUMMARY:Basic Computer Skills 1
DESCRIPTION:Are you new to the world of computers? Do you want to feel more comfortable using technology? This is the course for you! Learn the very basics about computers starting with the terminology. Practice navigating a desktop\, browsing the internet\, and even get an introduction to creating and saving documents using some of the most popular Microsoft Windows 11 applications: Word\, Excel\, and PowerPoint. Register Here
URL:https://masshiremncareers.com/event/basic-computer-skills-1-22/
CATEGORIES:Career Center Seminars,Computer Class,Woburn Center Event,Workshops
ATTACH;FMTTYPE=application/pdf:https://masshiremncareers.com/wp-content/uploads/Basic-Computer-Skills-1-flyer-inperson-Woburn-20250909.pdf
END:VEVENT
BEGIN:VEVENT
DTSTART;TZID=America/New_York:20250911T130000
DTEND;TZID=America/New_York:20250911T140000
DTSTAMP:20260422T135229
CREATED:20250825T124155Z
LAST-MODIFIED:20250909T165910Z
UID:28636-1757595600-1757599200@masshiremncareers.com
SUMMARY:Microsoft Excel
DESCRIPTION:Microsoft Excel is a great tool for collecting\, managing\, and organizing data. In this workshop\, start from scratch and learn Excel beginning with the basics. Develop the skills necessary to feel comfortable opening Excel\, starting a workbook\, editing\, saving your file\, and even learn some basic functions to get you started. Register Here
URL:https://masshiremncareers.com/event/microsoft-excel-11/
CATEGORIES:Career Center Seminars,Computer Class,Malden Career Center,Workshops
ATTACH;FMTTYPE=application/pdf:https://masshiremncareers.com/wp-content/uploads/Microsoft-Excel-flyer-inperson-Malden-2025009011.pdf
END:VEVENT
BEGIN:VEVENT
DTSTART;TZID=America/New_York:20250915T130000
DTEND;TZID=America/New_York:20250915T140000
DTSTAMP:20260422T135229
CREATED:20250825T124508Z
LAST-MODIFIED:20250909T184009Z
UID:28638-1757941200-1757944800@masshiremncareers.com
SUMMARY:Advanced Computer Skills 1
DESCRIPTION:Computers are designed to make our lives easier. Learn how in this workshop. Multitask with tabs and split screen. Keep organized with bookmarks\, files\, and folders. Get an intro to email so that you can stay connected with family\, friends\, and potential or current employers and colleagues. Register Here
URL:https://masshiremncareers.com/event/advanced-computer-skills-1-10/
CATEGORIES:Cambridge Center Event,Career Center Seminars,Computer Class,Workshops
ATTACH;FMTTYPE=application/pdf:https://masshiremncareers.com/wp-content/uploads/Advanced-Computer-Skills-1-flyer-inperson-Cambridge-20250915.pdf
END:VEVENT
END:VCALENDAR