BEGIN:VCALENDAR
VERSION:2.0
PRODID:-//MassHire Metro North Career Center - ECPv6.15.20//NONSGML v1.0//EN
CALSCALE:GREGORIAN
METHOD:PUBLISH
X-ORIGINAL-URL:https://masshiremncareers.com
X-WR-CALDESC:Events for MassHire Metro North Career Center
REFRESH-INTERVAL;VALUE=DURATION:PT1H
X-Robots-Tag:noindex
X-PUBLISHED-TTL:PT1H
BEGIN:VTIMEZONE
TZID:America/New_York
BEGIN:DAYLIGHT
TZOFFSETFROM:-0500
TZOFFSETTO:-0400
TZNAME:EDT
DTSTART:20240310T070000
END:DAYLIGHT
BEGIN:STANDARD
TZOFFSETFROM:-0400
TZOFFSETTO:-0500
TZNAME:EST
DTSTART:20241103T060000
END:STANDARD
BEGIN:DAYLIGHT
TZOFFSETFROM:-0500
TZOFFSETTO:-0400
TZNAME:EDT
DTSTART:20250309T070000
END:DAYLIGHT
BEGIN:STANDARD
TZOFFSETFROM:-0400
TZOFFSETTO:-0500
TZNAME:EST
DTSTART:20251102T060000
END:STANDARD
BEGIN:DAYLIGHT
TZOFFSETFROM:-0500
TZOFFSETTO:-0400
TZNAME:EDT
DTSTART:20260308T070000
END:DAYLIGHT
BEGIN:STANDARD
TZOFFSETFROM:-0400
TZOFFSETTO:-0500
TZNAME:EST
DTSTART:20261101T060000
END:STANDARD
END:VTIMEZONE
BEGIN:VEVENT
DTSTART;TZID=America/New_York:20250506T100000
DTEND;TZID=America/New_York:20250506T110000
DTSTAMP:20260423T120314
CREATED:20250423T193104Z
LAST-MODIFIED:20250424T145538Z
UID:28396-1746525600-1746529200@masshiremncareers.com
SUMMARY:Resume Beyond Basics
DESCRIPTION:Ready to take your resume to the next level? Learn about accomplishment statements and how to determine the value you bring. We’ll discuss hard and soft skills and how to utilize keywords. Please register and join us on the webinar. Register Here
URL:https://masshiremncareers.com/event/resume-beyond-basics-4/
CATEGORIES:Malden Career Center,Webinar,Workshops
ATTACH;FMTTYPE=application/pdf:https://masshiremncareers.com/wp-content/uploads/Resumes-Basics-and-Beyond.Flyer_.20250506.pdf
END:VEVENT
BEGIN:VEVENT
DTSTART;TZID=America/New_York:20250507T100000
DTEND;TZID=America/New_York:20250507T110000
DTSTAMP:20260423T120314
CREATED:20250417T182700Z
LAST-MODIFIED:20250424T152435Z
UID:28386-1746612000-1746615600@masshiremncareers.com
SUMMARY:Career Assessment Focus ONET II
DESCRIPTION:There are tremendous resources in O’net to help you figure out your next career step. We’ll look at crosswalks\, My Next Move and other elements of this cool site. Please join us online. Register here
URL:https://masshiremncareers.com/event/career-assessment-focus-onet-ii-8/
CATEGORIES:Cambridge Center Event,Webinar,Workshops
ATTACH;FMTTYPE=application/pdf:https://masshiremncareers.com/wp-content/uploads/Career-AssessmentONET-II.webinar.Flyer_.20250507-2.pdf
END:VEVENT
BEGIN:VEVENT
DTSTART;TZID=America/New_York:20250509T100000
DTEND;TZID=America/New_York:20250509T110000
DTSTAMP:20260423T120314
CREATED:20250423T193422Z
LAST-MODIFIED:20250424T150830Z
UID:28398-1746784800-1746788400@masshiremncareers.com
SUMMARY:Cracking the Hidden Job Market
DESCRIPTION:Some jobs are hidden below the surface and others you really have to dig for! \nJoin us online as we look at ways to uncover this hidden job market – those jobs that aren’t publicized or are but discreetly. Register Here
URL:https://masshiremncareers.com/event/cracking-the-hidden-job-market-15/
CATEGORIES:Webinar,Woburn Center Event,Workshops
ATTACH;FMTTYPE=application/pdf:https://masshiremncareers.com/wp-content/uploads/Career-AssessmentONET-II.webinar.Flyer_.20250507-1.pdf
END:VEVENT
BEGIN:VEVENT
DTSTART;TZID=America/New_York:20250514T113000
DTEND;TZID=America/New_York:20250514T123000
DTSTAMP:20260423T120314
CREATED:20250423T193849Z
LAST-MODIFIED:20250423T193849Z
UID:28400-1747222200-1747225800@masshiremncareers.com
SUMMARY:Young Adult Info Session
DESCRIPTION:This online Info Session is your opportunity to learn about the full array of services\, events\, and programs available at MassHire Metro North’s Young Adult Career Center for out-of-school youth ages 16-24.  Register Here
URL:https://masshiremncareers.com/event/young-adult-info-session-6/
CATEGORIES:Webinar,Woburn Center Event,Workshops
END:VEVENT
BEGIN:VEVENT
DTSTART;TZID=America/New_York:20250516T100000
DTEND;TZID=America/New_York:20250516T110000
DTSTAMP:20260423T120314
CREATED:20250423T194049Z
LAST-MODIFIED:20250423T194049Z
UID:28402-1747389600-1747393200@masshiremncareers.com
SUMMARY:Cover Letter Webinar
DESCRIPTION:Learn about the different types of cover letters. We’ll look into the mechanics of what makes an effective cover letter. You will learn how to effectively present your experience and skills. Register Here
URL:https://masshiremncareers.com/event/cover-letter-webinar-12/
CATEGORIES:Webinar,Woburn Center Event,Workshops
END:VEVENT
BEGIN:VEVENT
DTSTART;TZID=America/New_York:20250521T100000
DTEND;TZID=America/New_York:20250521T110000
DTSTAMP:20260423T120314
CREATED:20250423T194349Z
LAST-MODIFIED:20250423T194349Z
UID:28404-1747821600-1747825200@masshiremncareers.com
SUMMARY:Virtual Resume Beyond the Basics
DESCRIPTION:Ready to take your resume to the next level? Learn about accomplishment statements and how to determine the value you bring. We’ll discuss hard and soft skills and how to utilize keywords. Please register and join us on the webinar. Register Here
URL:https://masshiremncareers.com/event/virtual-resume-beyond-the-basics-7/
CATEGORIES:Webinar,Woburn Center Event,Workshops
END:VEVENT
BEGIN:VEVENT
DTSTART;TZID=America/New_York:20250528T100000
DTEND;TZID=America/New_York:20250528T110000
DTSTAMP:20260423T120314
CREATED:20250416T141225Z
LAST-MODIFIED:20250424T152951Z
UID:28381-1748426400-1748430000@masshiremncareers.com
SUMMARY:Virtual Interviewing
DESCRIPTION:Webinar covering the basics and best practices for preparing and succeeding in a face-to-face interview. Register here
URL:https://masshiremncareers.com/event/virtual-interviewing-2/
CATEGORIES:Cambridge Center Event,Webinar,Workshops
ATTACH;FMTTYPE=application/pdf:https://masshiremncareers.com/wp-content/uploads/Interview-Basics.webinar.Flyer_.20250528.pdf
END:VEVENT
BEGIN:VEVENT
DTSTART;TZID=America/New_York:20250528T113000
DTEND;TZID=America/New_York:20250528T123000
DTSTAMP:20260423T120314
CREATED:20250423T194621Z
LAST-MODIFIED:20250423T194621Z
UID:28405-1748431800-1748435400@masshiremncareers.com
SUMMARY:Young Adult Info Session
DESCRIPTION:This online Info Session is your opportunity to learn about the full array of services\, events\, and programs available at MassHire Metro North’s Young Adult Career Center for out-of-school youth ages 16-24.  Register Here
URL:https://masshiremncareers.com/event/young-adult-info-session-7/
CATEGORIES:Webinar,Woburn Center Event,Workshops
END:VEVENT
END:VCALENDAR