BEGIN:VCALENDAR
VERSION:2.0
PRODID:-//MassHire Metro North Career Center - ECPv6.15.20//NONSGML v1.0//EN
CALSCALE:GREGORIAN
METHOD:PUBLISH
X-WR-CALNAME:MassHire Metro North Career Center
X-ORIGINAL-URL:https://masshiremncareers.com
X-WR-CALDESC:Events for MassHire Metro North Career Center
REFRESH-INTERVAL;VALUE=DURATION:PT1H
X-Robots-Tag:noindex
X-PUBLISHED-TTL:PT1H
BEGIN:VTIMEZONE
TZID:America/New_York
BEGIN:DAYLIGHT
TZOFFSETFROM:-0500
TZOFFSETTO:-0400
TZNAME:EDT
DTSTART:20240310T070000
END:DAYLIGHT
BEGIN:STANDARD
TZOFFSETFROM:-0400
TZOFFSETTO:-0500
TZNAME:EST
DTSTART:20241103T060000
END:STANDARD
BEGIN:DAYLIGHT
TZOFFSETFROM:-0500
TZOFFSETTO:-0400
TZNAME:EDT
DTSTART:20250309T070000
END:DAYLIGHT
BEGIN:STANDARD
TZOFFSETFROM:-0400
TZOFFSETTO:-0500
TZNAME:EST
DTSTART:20251102T060000
END:STANDARD
BEGIN:DAYLIGHT
TZOFFSETFROM:-0500
TZOFFSETTO:-0400
TZNAME:EDT
DTSTART:20260308T070000
END:DAYLIGHT
BEGIN:STANDARD
TZOFFSETFROM:-0400
TZOFFSETTO:-0500
TZNAME:EST
DTSTART:20261101T060000
END:STANDARD
END:VTIMEZONE
BEGIN:VEVENT
DTSTART;TZID=America/New_York:20250606T100000
DTEND;TZID=America/New_York:20250606T110000
DTSTAMP:20260421T054533
CREATED:20250603T152024Z
LAST-MODIFIED:20250603T152024Z
UID:28452-1749204000-1749207600@masshiremncareers.com
SUMMARY:Career Change: Second Act
DESCRIPTION:Are you stepping back in your career? Do you need to change your field? Please join us online to examine how to find your transferable skills\, convey value in a new field and more. Register Here
URL:https://masshiremncareers.com/event/career-change-second-act-23/
CATEGORIES:Webinar,Woburn Center Event,Workshops
ATTACH;FMTTYPE=application/pdf:https://masshiremncareers.com/wp-content/uploads/Career-Change-Second-Act-060625.pdf
END:VEVENT
BEGIN:VEVENT
DTSTART;TZID=America/New_York:20250610T110000
DTEND;TZID=America/New_York:20250610T120000
DTSTAMP:20260421T054533
CREATED:20250605T150453Z
LAST-MODIFIED:20250605T150908Z
UID:28482-1749553200-1749556800@masshiremncareers.com
SUMMARY:Virtual Social Media Overview
DESCRIPTION:Social Media is a huge part of the modern world as it connects people to family\, friends\, and even the general public. Did you know that Social Media can also be a tool for you to use during your job search? In this workshop\, learn how to use social media to positively enforce your job search journey. We will touch upon social media safety and the best ways to use apps like LinkedIn\, Instagram\, Facebook\, and more to your advantage. Register Here
URL:https://masshiremncareers.com/event/virtual-social-media-overview-6/
CATEGORIES:Webinar,Woburn Center Event,Workshops
ATTACH;FMTTYPE=application/pdf:https://masshiremncareers.com/wp-content/uploads/Virtual-Social-Media-Overview-flyer-virtual-20250610.pdf
END:VEVENT
BEGIN:VEVENT
DTSTART;TZID=America/New_York:20250611T113000
DTEND;TZID=America/New_York:20250611T123000
DTSTAMP:20260421T054533
CREATED:20250603T153037Z
LAST-MODIFIED:20250604T165547Z
UID:28458-1749641400-1749645000@masshiremncareers.com
SUMMARY:Young Adult Info Session
DESCRIPTION:This online Info Session is your opportunity to learn about the full array of services\, events\, and programs available at MassHire Metro North’s Young Adult Career Center for out-of-school youth ages 16-24. Register Here
URL:https://masshiremncareers.com/event/young-adult-info-session-3/
CATEGORIES:Webinar,Woburn Center Event,Workshops,Youth Services Event
ATTACH;FMTTYPE=application/pdf:https://masshiremncareers.com/wp-content/uploads/20250611-Young-Adult-Info-Session.pdf
END:VEVENT
BEGIN:VEVENT
DTSTART;TZID=America/New_York:20250613T110000
DTEND;TZID=America/New_York:20250613T120000
DTSTAMP:20260421T054533
CREATED:20250603T153730Z
LAST-MODIFIED:20250603T153730Z
UID:28461-1749812400-1749816000@masshiremncareers.com
SUMMARY:New Strategies for Older Workers
DESCRIPTION:Is there ageism out there? There is. This workshop will help you fight it and level the battlefield. Let’s review hot to develop a job search that reflects ability\, not age! Register Here
URL:https://masshiremncareers.com/event/new-strategies-for-older-workers-38/
CATEGORIES:Webinar,Woburn Center Event,Workshops
ATTACH;FMTTYPE=application/pdf:https://masshiremncareers.com/wp-content/uploads/New-Strategies-for-Older-Workers-20250613.pdf
END:VEVENT
BEGIN:VEVENT
DTSTART;TZID=America/New_York:20250617T110000
DTEND;TZID=America/New_York:20250617T120000
DTSTAMP:20260421T054533
CREATED:20250605T150720Z
LAST-MODIFIED:20250605T150941Z
UID:28484-1750158000-1750161600@masshiremncareers.com
SUMMARY:Virtual Google Drive
DESCRIPTION:Google Drive is a cloud-based web storage platform for all of your files. In this workshop\, learn the advantages of using Google Drive as your go-to storage location and organization. Register Here
URL:https://masshiremncareers.com/event/virtual-google-drive-3/
CATEGORIES:Webinar,Woburn Center Event,Workshops
ATTACH;FMTTYPE=application/pdf:https://masshiremncareers.com/wp-content/uploads/Google-Drive-flyer-virtual-20250617.pdf
END:VEVENT
BEGIN:VEVENT
DTSTART;TZID=America/New_York:20250618T100000
DTEND;TZID=America/New_York:20250618T110000
DTSTAMP:20260421T054533
CREATED:20250603T154945Z
LAST-MODIFIED:20250603T154945Z
UID:28467-1750240800-1750244400@masshiremncareers.com
SUMMARY:CAR/STAR webinar
DESCRIPTION:Applying to positions is all about professional accomplishments. Which ones should you use? Join us in this webinar as we explore what elements make for powerful statements about our abilities\, knowledge and experience to prove we are the best candidate for the job. Register Here
URL:https://masshiremncareers.com/event/car-star-webinar-15/
CATEGORIES:Cambridge Center Event,Webinar,Workshops
ATTACH;FMTTYPE=application/pdf:https://masshiremncareers.com/wp-content/uploads/CARSTAR.webinar.Flyer_.20250618.pdf
END:VEVENT
BEGIN:VEVENT
DTSTART;TZID=America/New_York:20250623T140000
DTEND;TZID=America/New_York:20250623T150000
DTSTAMP:20260421T054533
CREATED:20250603T155828Z
LAST-MODIFIED:20250603T155828Z
UID:28471-1750687200-1750690800@masshiremncareers.com
SUMMARY:Career Assessment Focus ONET
DESCRIPTION:Take a tour through O’net to examine all the data available to help you make career decisions. There are assessments to help find other careers that are a match. Join us for this webinar tour of a fantastic site. Register Here
URL:https://masshiremncareers.com/event/career-assessment-focus-onet-10/
CATEGORIES:Cambridge Center Event,Webinar,Workshops
ATTACH;FMTTYPE=application/pdf:https://masshiremncareers.com/wp-content/uploads/Career-AssessmentFocusOnONET.webinar.Flyer_.20250623.pdf
END:VEVENT
BEGIN:VEVENT
DTSTART;TZID=America/New_York:20250625T100000
DTEND;TZID=America/New_York:20250625T110000
DTSTAMP:20260421T054533
CREATED:20250603T160015Z
LAST-MODIFIED:20250603T160015Z
UID:28473-1750845600-1750849200@masshiremncareers.com
SUMMARY:Soft Skills webinar
DESCRIPTION:Soft skills have always been important – now more than ever. Attend this session to learn the difference between hard and soft skills\, why soft skills matter\, identifying and improving needed soft skills for your industry. Register Here
URL:https://masshiremncareers.com/event/soft-skills-webinar-4/
CATEGORIES:Cambridge Center Event,Webinar,Workshops
ATTACH;FMTTYPE=application/pdf:https://masshiremncareers.com/wp-content/uploads/Soft-Skills.webinar.Flyer_.20250625.pdf
END:VEVENT
BEGIN:VEVENT
DTSTART;TZID=America/New_York:20250625T113000
DTEND;TZID=America/New_York:20250625T123000
DTSTAMP:20260421T054533
CREATED:20250603T160146Z
LAST-MODIFIED:20250604T165700Z
UID:28475-1750851000-1750854600@masshiremncareers.com
SUMMARY:Young Adult Info Session
DESCRIPTION:This online Info Session is your opportunity to learn about the full array of services\, events\, and programs available at MassHire Metro North’s Young Adult Career Center for out-of-school youth ages 16-24.  Register Here
URL:https://masshiremncareers.com/event/young-adult-info-session-5/
CATEGORIES:Webinar,Woburn Center Event,Workshops,Youth Services Event
ATTACH;FMTTYPE=application/pdf:https://masshiremncareers.com/wp-content/uploads/20250625-Young-Adult-Info-Session.pdf
END:VEVENT
BEGIN:VEVENT
DTSTART;TZID=America/New_York:20250626T130000
DTEND;TZID=America/New_York:20250626T140000
DTSTAMP:20260421T054533
CREATED:20250603T160356Z
LAST-MODIFIED:20250603T160356Z
UID:28476-1750942800-1750946400@masshiremncareers.com
SUMMARY:Resume Beyond Basics
DESCRIPTION:Ready to take your resume to the next level? Learn about accomplishment statements and how to determine the value you bring. We’ll discuss hard and soft skills and how to utilize keywords. Please register and join us on the webinar. Register Here
URL:https://masshiremncareers.com/event/resume-beyond-basics-5/
CATEGORIES:Malden Career Center,Webinar,Workshops
ATTACH;FMTTYPE=application/pdf:https://masshiremncareers.com/wp-content/uploads/Resume-Beyond-the-Basics.webinar.Flyer_.20250626.pdf
END:VEVENT
END:VCALENDAR