BEGIN:VCALENDAR
VERSION:2.0
PRODID:-//MassHire Metro North Career Center - ECPv6.15.20//NONSGML v1.0//EN
CALSCALE:GREGORIAN
METHOD:PUBLISH
X-ORIGINAL-URL:https://masshiremncareers.com
X-WR-CALDESC:Events for MassHire Metro North Career Center
REFRESH-INTERVAL;VALUE=DURATION:PT1H
X-Robots-Tag:noindex
X-PUBLISHED-TTL:PT1H
BEGIN:VTIMEZONE
TZID:America/New_York
BEGIN:DAYLIGHT
TZOFFSETFROM:-0500
TZOFFSETTO:-0400
TZNAME:EDT
DTSTART:20220313T070000
END:DAYLIGHT
BEGIN:STANDARD
TZOFFSETFROM:-0400
TZOFFSETTO:-0500
TZNAME:EST
DTSTART:20221106T060000
END:STANDARD
BEGIN:DAYLIGHT
TZOFFSETFROM:-0500
TZOFFSETTO:-0400
TZNAME:EDT
DTSTART:20230312T070000
END:DAYLIGHT
BEGIN:STANDARD
TZOFFSETFROM:-0400
TZOFFSETTO:-0500
TZNAME:EST
DTSTART:20231105T060000
END:STANDARD
BEGIN:DAYLIGHT
TZOFFSETFROM:-0500
TZOFFSETTO:-0400
TZNAME:EDT
DTSTART:20240310T070000
END:DAYLIGHT
BEGIN:STANDARD
TZOFFSETFROM:-0400
TZOFFSETTO:-0500
TZNAME:EST
DTSTART:20241103T060000
END:STANDARD
END:VTIMEZONE
BEGIN:VEVENT
DTSTART;TZID=America/New_York:20230621T100000
DTEND;TZID=America/New_York:20230621T110000
DTSTAMP:20260421T010148
CREATED:20230530T175900Z
LAST-MODIFIED:20230530T175900Z
UID:25938-1687341600-1687345200@masshiremncareers.com
SUMMARY:CareerOneStop: Jobseekers 1st Stop
DESCRIPTION:Join MassHire Metro North for an informative walk-through of careeronestop.org – an ideal guide for the beginning of your job search journey. We will cover tools for getting back to work such as career assessment and employment patterns search. We will also zero in on the site’s key assistance for 55+ workers\, jobseekers with a criminal conviction and those working with a disability. Join us! \nRegister here
URL:https://masshiremncareers.com/event/careeronestop-jobseekers-1st-stop-2/
CATEGORIES:Cambridge Center Event,Webinar,Workshops
ATTACH;FMTTYPE=image/jpeg:https://masshiremncareers.com/wp-content/uploads/CareerOneStopJobseekerFirstStop-20230621.jpg
END:VEVENT
END:VCALENDAR