BEGIN:VCALENDAR
VERSION:2.0
PRODID:-//MassHire Metro North Career Center - ECPv6.15.20//NONSGML v1.0//EN
CALSCALE:GREGORIAN
METHOD:PUBLISH
X-ORIGINAL-URL:https://masshiremncareers.com
X-WR-CALDESC:Events for MassHire Metro North Career Center
REFRESH-INTERVAL;VALUE=DURATION:PT1H
X-Robots-Tag:noindex
X-PUBLISHED-TTL:PT1H
BEGIN:VTIMEZONE
TZID:America/New_York
BEGIN:DAYLIGHT
TZOFFSETFROM:-0500
TZOFFSETTO:-0400
TZNAME:EDT
DTSTART:20240310T070000
END:DAYLIGHT
BEGIN:STANDARD
TZOFFSETFROM:-0400
TZOFFSETTO:-0500
TZNAME:EST
DTSTART:20241103T060000
END:STANDARD
BEGIN:DAYLIGHT
TZOFFSETFROM:-0500
TZOFFSETTO:-0400
TZNAME:EDT
DTSTART:20250309T070000
END:DAYLIGHT
BEGIN:STANDARD
TZOFFSETFROM:-0400
TZOFFSETTO:-0500
TZNAME:EST
DTSTART:20251102T060000
END:STANDARD
BEGIN:DAYLIGHT
TZOFFSETFROM:-0500
TZOFFSETTO:-0400
TZNAME:EDT
DTSTART:20260308T070000
END:DAYLIGHT
BEGIN:STANDARD
TZOFFSETFROM:-0400
TZOFFSETTO:-0500
TZNAME:EST
DTSTART:20261101T060000
END:STANDARD
END:VTIMEZONE
BEGIN:VEVENT
DTSTART;TZID=America/New_York:20250625T100000
DTEND;TZID=America/New_York:20250625T110000
DTSTAMP:20260423T132918
CREATED:20250603T160015Z
LAST-MODIFIED:20250603T160015Z
UID:28473-1750845600-1750849200@masshiremncareers.com
SUMMARY:Soft Skills webinar
DESCRIPTION:Soft skills have always been important – now more than ever. Attend this session to learn the difference between hard and soft skills\, why soft skills matter\, identifying and improving needed soft skills for your industry. Register Here
URL:https://masshiremncareers.com/event/soft-skills-webinar-4/
CATEGORIES:Cambridge Center Event,Webinar,Workshops
ATTACH;FMTTYPE=application/pdf:https://masshiremncareers.com/wp-content/uploads/Soft-Skills.webinar.Flyer_.20250625.pdf
END:VEVENT
BEGIN:VEVENT
DTSTART;TZID=America/New_York:20250625T113000
DTEND;TZID=America/New_York:20250625T123000
DTSTAMP:20260423T132918
CREATED:20250603T160146Z
LAST-MODIFIED:20250604T165700Z
UID:28475-1750851000-1750854600@masshiremncareers.com
SUMMARY:Young Adult Info Session
DESCRIPTION:This online Info Session is your opportunity to learn about the full array of services\, events\, and programs available at MassHire Metro North’s Young Adult Career Center for out-of-school youth ages 16-24.  Register Here
URL:https://masshiremncareers.com/event/young-adult-info-session-5/
CATEGORIES:Webinar,Woburn Center Event,Workshops,Youth Services Event
ATTACH;FMTTYPE=application/pdf:https://masshiremncareers.com/wp-content/uploads/20250625-Young-Adult-Info-Session.pdf
END:VEVENT
END:VCALENDAR