BEGIN:VCALENDAR
VERSION:2.0
PRODID:-//MassHire Metro North Career Center - ECPv6.15.20//NONSGML v1.0//EN
CALSCALE:GREGORIAN
METHOD:PUBLISH
X-ORIGINAL-URL:https://masshiremncareers.com
X-WR-CALDESC:Events for MassHire Metro North Career Center
REFRESH-INTERVAL;VALUE=DURATION:PT1H
X-Robots-Tag:noindex
X-PUBLISHED-TTL:PT1H
BEGIN:VTIMEZONE
TZID:America/New_York
BEGIN:DAYLIGHT
TZOFFSETFROM:-0500
TZOFFSETTO:-0400
TZNAME:EDT
DTSTART:20250309T070000
END:DAYLIGHT
BEGIN:STANDARD
TZOFFSETFROM:-0400
TZOFFSETTO:-0500
TZNAME:EST
DTSTART:20251102T060000
END:STANDARD
BEGIN:DAYLIGHT
TZOFFSETFROM:-0500
TZOFFSETTO:-0400
TZNAME:EDT
DTSTART:20260308T070000
END:DAYLIGHT
BEGIN:STANDARD
TZOFFSETFROM:-0400
TZOFFSETTO:-0500
TZNAME:EST
DTSTART:20261101T060000
END:STANDARD
BEGIN:DAYLIGHT
TZOFFSETFROM:-0500
TZOFFSETTO:-0400
TZNAME:EDT
DTSTART:20270314T070000
END:DAYLIGHT
BEGIN:STANDARD
TZOFFSETFROM:-0400
TZOFFSETTO:-0500
TZNAME:EST
DTSTART:20271107T060000
END:STANDARD
END:VTIMEZONE
BEGIN:VEVENT
DTSTART;TZID=America/New_York:20260209T080000
DTEND;TZID=America/New_York:20260209T170000
DTSTAMP:20260421T181019
CREATED:20260209T143711Z
LAST-MODIFIED:20260209T143711Z
UID:29140-1770624000-1770656400@masshiremncareers.com
SUMMARY:Phone Screen/Video Interview
DESCRIPTION:What’s a successful phone interview? How do you best prepare? What are the key elements of telecommunication? What questions should you ask now? Which can wait? Don’t phone it in. Sharpen your chances before the call!  We will also cover the best practices for video interviews conducted via online meeting applications such as GoToMeeting. \nRegister Here
URL:https://masshiremncareers.com/event/phone-screen-video-interview-6/
CATEGORIES:Cambridge Center Event,Webinar,Workshops
END:VEVENT
BEGIN:VEVENT
DTSTART;TZID=America/New_York:20260209T100000
DTEND;TZID=America/New_York:20260209T110000
DTSTAMP:20260421T181019
CREATED:20260129T162242Z
LAST-MODIFIED:20260209T161328Z
UID:29122-1770631200-1770634800@masshiremncareers.com
SUMMARY:New Strategies for Older Workers
DESCRIPTION:Is there ageism out there? There is. This workshop will help you fight it and level the battlefield. Let’s review hot to develop a job search that reflects ability\, not age! \nRegister here
URL:https://masshiremncareers.com/event/new-strategies-for-older-workers-43/
CATEGORIES:Webinar,Woburn Center Event,Workshops
ATTACH;FMTTYPE=application/pdf:https://masshiremncareers.com/wp-content/uploads/New-Strategies-for-Older-Workers-20260209.pdf
END:VEVENT
END:VCALENDAR