BEGIN:VCALENDAR
VERSION:2.0
PRODID:-//MassHire Metro North Career Center - ECPv6.15.20//NONSGML v1.0//EN
CALSCALE:GREGORIAN
METHOD:PUBLISH
X-WR-CALNAME:MassHire Metro North Career Center
X-ORIGINAL-URL:https://masshiremncareers.com
X-WR-CALDESC:Events for MassHire Metro North Career Center
REFRESH-INTERVAL;VALUE=DURATION:PT1H
X-Robots-Tag:noindex
X-PUBLISHED-TTL:PT1H
BEGIN:VTIMEZONE
TZID:America/New_York
BEGIN:DAYLIGHT
TZOFFSETFROM:-0500
TZOFFSETTO:-0400
TZNAME:EDT
DTSTART:20180311T070000
END:DAYLIGHT
BEGIN:STANDARD
TZOFFSETFROM:-0400
TZOFFSETTO:-0500
TZNAME:EST
DTSTART:20181104T060000
END:STANDARD
BEGIN:DAYLIGHT
TZOFFSETFROM:-0500
TZOFFSETTO:-0400
TZNAME:EDT
DTSTART:20190310T070000
END:DAYLIGHT
BEGIN:STANDARD
TZOFFSETFROM:-0400
TZOFFSETTO:-0500
TZNAME:EST
DTSTART:20191103T060000
END:STANDARD
BEGIN:DAYLIGHT
TZOFFSETFROM:-0500
TZOFFSETTO:-0400
TZNAME:EDT
DTSTART:20200308T070000
END:DAYLIGHT
BEGIN:STANDARD
TZOFFSETFROM:-0400
TZOFFSETTO:-0500
TZNAME:EST
DTSTART:20201101T060000
END:STANDARD
END:VTIMEZONE
BEGIN:VEVENT
DTSTART;TZID=America/New_York:20191204T090000
DTEND;TZID=America/New_York:20191204T120000
DTSTAMP:20260421T010853
CREATED:20191104T163932Z
LAST-MODIFIED:20191104T163932Z
UID:19577-1575450000-1575460800@masshiremncareers.com
SUMMARY:PowerPoint
DESCRIPTION:This course is designed to provide a working knowledge of Microsoft PowerPoint. You will learn to create\, design\, and deliver presentations. (3 Hours)
URL:https://masshiremncareers.com/event/powerpoint/
LOCATION:Woburn Career Center\, 100 Trade Center\, Suite G100\, Woburn\, MA\, 01801\, United States
CATEGORIES:Woburn Center Event,Workshops
END:VEVENT
BEGIN:VEVENT
DTSTART;TZID=America/New_York:20191204T103000
DTEND;TZID=America/New_York:20191204T123000
DTSTAMP:20260421T010853
CREATED:20191118T153117Z
LAST-MODIFIED:20191118T154037Z
UID:19608-1575455400-1575462600@masshiremncareers.com
SUMMARY:LogixHealth Recruitment
DESCRIPTION:LogixHealth Bedford\, MA\nCoding\, Billing and Call Center\nopportunities available
URL:https://masshiremncareers.com/event/logixhealth-recruitment-3/
CATEGORIES:Job Fairs,Woburn Center Event
END:VEVENT
BEGIN:VEVENT
DTSTART;TZID=America/New_York:20191204T130000
DTEND;TZID=America/New_York:20191204T153000
DTSTAMP:20260421T010853
CREATED:20191101T200652Z
LAST-MODIFIED:20191101T200652Z
UID:19500-1575464400-1575473400@masshiremncareers.com
SUMMARY:Interviewing Fundamentals
DESCRIPTION:Is your resume getting your foot in the door but you’re not advancing beyond the interview? Come and learn the best practices of a successful in-person job interview!  We will discuss research\, CAR Statements\, post-interview follow-up and the importance of non-work related activities.  We will also explore how best to navigate an interview’s behavioral and traditional questions. (2.5 Hours)
URL:https://masshiremncareers.com/event/interviewing-fundamentals-28/
LOCATION:Woburn Career Center\, 100 Trade Center\, Suite G100\, Woburn\, MA\, 01801\, United States
CATEGORIES:Woburn Center Event,Workshops
END:VEVENT
BEGIN:VEVENT
DTSTART;TZID=America/New_York:20191204T140000
DTEND;TZID=America/New_York:20191204T153000
DTSTAMP:20260421T010853
CREATED:20191104T162502Z
LAST-MODIFIED:20191104T162502Z
UID:19549-1575468000-1575473400@masshiremncareers.com
SUMMARY:LinkedIn Headline & Summary
DESCRIPTION:Master the tested and proven techniques used to devise compelling Headlines and Summaries for LinkedIn. We’re giving away the secrets of stealing the attention of LinkedIn gatekeepers so you can stay ahead in the job search race! Recommended pre-requisite: LinkedIn 1.0 (1.5 Hours)
URL:https://masshiremncareers.com/event/linkedin-headline-summary-8/
LOCATION:Woburn Career Center\, 100 Trade Center\, Suite G100\, Woburn\, MA\, 01801\, United States
CATEGORIES:Woburn Center Event,Workshops
END:VEVENT
END:VCALENDAR