BEGIN:VCALENDAR
VERSION:2.0
PRODID:-//MassHire Metro North Career Center - ECPv6.15.20//NONSGML v1.0//EN
CALSCALE:GREGORIAN
METHOD:PUBLISH
X-WR-CALNAME:MassHire Metro North Career Center
X-ORIGINAL-URL:https://masshiremncareers.com
X-WR-CALDESC:Events for MassHire Metro North Career Center
REFRESH-INTERVAL;VALUE=DURATION:PT1H
X-Robots-Tag:noindex
X-PUBLISHED-TTL:PT1H
BEGIN:VTIMEZONE
TZID:America/New_York
BEGIN:DAYLIGHT
TZOFFSETFROM:-0500
TZOFFSETTO:-0400
TZNAME:EDT
DTSTART:20190310T070000
END:DAYLIGHT
BEGIN:STANDARD
TZOFFSETFROM:-0400
TZOFFSETTO:-0500
TZNAME:EST
DTSTART:20191103T060000
END:STANDARD
BEGIN:DAYLIGHT
TZOFFSETFROM:-0500
TZOFFSETTO:-0400
TZNAME:EDT
DTSTART:20200308T070000
END:DAYLIGHT
BEGIN:STANDARD
TZOFFSETFROM:-0400
TZOFFSETTO:-0500
TZNAME:EST
DTSTART:20201101T060000
END:STANDARD
BEGIN:DAYLIGHT
TZOFFSETFROM:-0500
TZOFFSETTO:-0400
TZNAME:EDT
DTSTART:20210314T070000
END:DAYLIGHT
BEGIN:STANDARD
TZOFFSETFROM:-0400
TZOFFSETTO:-0500
TZNAME:EST
DTSTART:20211107T060000
END:STANDARD
END:VTIMEZONE
BEGIN:VEVENT
DTSTART;TZID=America/New_York:20200122T083000
DTEND;TZID=America/New_York:20200122T153000
DTSTAMP:20260420T201330
CREATED:20200102T165240Z
LAST-MODIFIED:20200102T165240Z
UID:19970-1579681800-1579707000@masshiremncareers.com
SUMMARY:Unemployment Representative Onsite
DESCRIPTION:A representative from the Department of Unemployment Assistance will be onsite to answer customers’ questions about their claims.
URL:https://masshiremncareers.com/event/unemployment-representative-onsite-32/
LOCATION:Woburn Career Center\, 100 Trade Center\, Suite G100\, Woburn\, MA\, 01801\, United States
CATEGORIES:Woburn Center Event
END:VEVENT
BEGIN:VEVENT
DTSTART;TZID=America/New_York:20200122T130000
DTEND;TZID=America/New_York:20200122T150000
DTSTAMP:20260420T201330
CREATED:20200102T160602Z
LAST-MODIFIED:20200107T152808Z
UID:19940-1579698000-1579705200@masshiremncareers.com
SUMMARY:Job Fair
DESCRIPTION:Come meet with hiring managers from a variety of industries. Dress to impress and bring multiple copies of your resume. Find a new position for 2020.
URL:https://masshiremncareers.com/event/job-fair-3/
LOCATION:Woburn Career Center\, 100 Trade Center\, Suite G100\, Woburn\, MA\, 01801\, United States
CATEGORIES:Job Fairs,Woburn Center Event
END:VEVENT
END:VCALENDAR