BEGIN:VCALENDAR
VERSION:2.0
PRODID:-//MassHire Metro North Career Center - ECPv6.15.20//NONSGML v1.0//EN
CALSCALE:GREGORIAN
METHOD:PUBLISH
X-WR-CALNAME:MassHire Metro North Career Center
X-ORIGINAL-URL:https://masshiremncareers.com
X-WR-CALDESC:Events for MassHire Metro North Career Center
REFRESH-INTERVAL;VALUE=DURATION:PT1H
X-Robots-Tag:noindex
X-PUBLISHED-TTL:PT1H
BEGIN:VTIMEZONE
TZID:America/New_York
BEGIN:DAYLIGHT
TZOFFSETFROM:-0500
TZOFFSETTO:-0400
TZNAME:EDT
DTSTART:20190310T070000
END:DAYLIGHT
BEGIN:STANDARD
TZOFFSETFROM:-0400
TZOFFSETTO:-0500
TZNAME:EST
DTSTART:20191103T060000
END:STANDARD
BEGIN:DAYLIGHT
TZOFFSETFROM:-0500
TZOFFSETTO:-0400
TZNAME:EDT
DTSTART:20200308T070000
END:DAYLIGHT
BEGIN:STANDARD
TZOFFSETFROM:-0400
TZOFFSETTO:-0500
TZNAME:EST
DTSTART:20201101T060000
END:STANDARD
BEGIN:DAYLIGHT
TZOFFSETFROM:-0500
TZOFFSETTO:-0400
TZNAME:EDT
DTSTART:20210314T070000
END:DAYLIGHT
BEGIN:STANDARD
TZOFFSETFROM:-0400
TZOFFSETTO:-0500
TZNAME:EST
DTSTART:20211107T060000
END:STANDARD
END:VTIMEZONE
BEGIN:VEVENT
DTSTART;TZID=America/New_York:20200128T100000
DTEND;TZID=America/New_York:20200128T120000
DTSTAMP:20260421T011156
CREATED:20200102T160344Z
LAST-MODIFIED:20200102T160344Z
UID:19938-1580205600-1580212800@masshiremncareers.com
SUMMARY:LinkedIn 2.0
DESCRIPTION:Get your LinkedIn profile noticed!  Let us review what’s working and what’s not!  We will work together to create a headline and Summary that truly represents who you really are. You will learn to engage with your network and become a LinkedIn Power User.  Recommended pre-requisite: LinkedIn 1. Participants must be able to log in to LinkedIn account with their username and password (2 Hours)
URL:https://masshiremncareers.com/event/linkedin-2-0-5/
LOCATION:Woburn Career Center\, 100 Trade Center\, Suite G100\, Woburn\, MA\, 01801\, United States
CATEGORIES:Woburn Center Event,Workshops
END:VEVENT
END:VCALENDAR