BEGIN:VCALENDAR
VERSION:2.0
PRODID:-//MassHire Metro North Career Center - ECPv6.15.20//NONSGML v1.0//EN
CALSCALE:GREGORIAN
METHOD:PUBLISH
X-WR-CALNAME:MassHire Metro North Career Center
X-ORIGINAL-URL:https://masshiremncareers.com
X-WR-CALDESC:Events for MassHire Metro North Career Center
REFRESH-INTERVAL;VALUE=DURATION:PT1H
X-Robots-Tag:noindex
X-PUBLISHED-TTL:PT1H
BEGIN:VTIMEZONE
TZID:America/New_York
BEGIN:DAYLIGHT
TZOFFSETFROM:-0500
TZOFFSETTO:-0400
TZNAME:EDT
DTSTART:20220313T070000
END:DAYLIGHT
BEGIN:STANDARD
TZOFFSETFROM:-0400
TZOFFSETTO:-0500
TZNAME:EST
DTSTART:20221106T060000
END:STANDARD
BEGIN:DAYLIGHT
TZOFFSETFROM:-0500
TZOFFSETTO:-0400
TZNAME:EDT
DTSTART:20230312T070000
END:DAYLIGHT
BEGIN:STANDARD
TZOFFSETFROM:-0400
TZOFFSETTO:-0500
TZNAME:EST
DTSTART:20231105T060000
END:STANDARD
BEGIN:DAYLIGHT
TZOFFSETFROM:-0500
TZOFFSETTO:-0400
TZNAME:EDT
DTSTART:20240310T070000
END:DAYLIGHT
BEGIN:STANDARD
TZOFFSETFROM:-0400
TZOFFSETTO:-0500
TZNAME:EST
DTSTART:20241103T060000
END:STANDARD
END:VTIMEZONE
BEGIN:VEVENT
DTSTART;TZID=America/New_York:20231212T100000
DTEND;TZID=America/New_York:20231212T110000
DTSTAMP:20260422T224336
CREATED:20231108T140318Z
LAST-MODIFIED:20231108T140318Z
UID:26775-1702375200-1702378800@masshiremncareers.com
SUMMARY:Resume Beyond the Basics
DESCRIPTION:Ready to take your resume to the next level? Learn about accomplishment statements and how to determine the value you bring. We’ll discuss hard and soft skills and how to utilize keywords. Please register and join us on the webinar. \nRegister here \n 
URL:https://masshiremncareers.com/event/resume-beyond-the-basics-31/
CATEGORIES:Webinar,Woburn Center Event,Workshops
ATTACH;FMTTYPE=image/jpeg:https://masshiremncareers.com/wp-content/uploads/Resume-Beyond-Basics-20231212-1.jpg
END:VEVENT
BEGIN:VEVENT
DTSTART;TZID=America/New_York:20231212T100000
DTEND;TZID=America/New_York:20231212T140000
DTSTAMP:20260422T224336
CREATED:20231108T153027Z
LAST-MODIFIED:20231108T160025Z
UID:26832-1702375200-1702389600@masshiremncareers.com
SUMMARY:Recruitment - TSA
DESCRIPTION:Come learn about openings with the TSA at the Woburn MassHire Career Center. \nRegister here
URL:https://masshiremncareers.com/event/recruitment-tsa/
CATEGORIES:Job Fairs,Recruitment,Woburn Center Event
END:VEVENT
END:VCALENDAR