BEGIN:VCALENDAR
VERSION:2.0
PRODID:-//MassHire Metro North Career Center - ECPv6.15.20//NONSGML v1.0//EN
CALSCALE:GREGORIAN
METHOD:PUBLISH
X-ORIGINAL-URL:https://masshiremncareers.com
X-WR-CALDESC:Events for MassHire Metro North Career Center
REFRESH-INTERVAL;VALUE=DURATION:PT1H
X-Robots-Tag:noindex
X-PUBLISHED-TTL:PT1H
BEGIN:VTIMEZONE
TZID:America/New_York
BEGIN:DAYLIGHT
TZOFFSETFROM:-0500
TZOFFSETTO:-0400
TZNAME:EDT
DTSTART:20230312T070000
END:DAYLIGHT
BEGIN:STANDARD
TZOFFSETFROM:-0400
TZOFFSETTO:-0500
TZNAME:EST
DTSTART:20231105T060000
END:STANDARD
BEGIN:DAYLIGHT
TZOFFSETFROM:-0500
TZOFFSETTO:-0400
TZNAME:EDT
DTSTART:20240310T070000
END:DAYLIGHT
BEGIN:STANDARD
TZOFFSETFROM:-0400
TZOFFSETTO:-0500
TZNAME:EST
DTSTART:20241103T060000
END:STANDARD
BEGIN:DAYLIGHT
TZOFFSETFROM:-0500
TZOFFSETTO:-0400
TZNAME:EDT
DTSTART:20250309T070000
END:DAYLIGHT
BEGIN:STANDARD
TZOFFSETFROM:-0400
TZOFFSETTO:-0500
TZNAME:EST
DTSTART:20251102T060000
END:STANDARD
END:VTIMEZONE
BEGIN:VEVENT
DTSTART;TZID=America/New_York:20240503T100000
DTEND;TZID=America/New_York:20240503T110000
DTSTAMP:20260420T115156
CREATED:20240417T150239Z
LAST-MODIFIED:20240417T150239Z
UID:27548-1714730400-1714734000@masshiremncareers.com
SUMMARY:Customer Service in Job Search
DESCRIPTION:How can you effectively apply customer service and soft skills\nin your job search? \nWe are always refining our customer service skills and soft skills. Sometimes it’s natural and sometimes it is learned. Let’s talk about how to effectively use them in your job search. \nWe’ll talk about How to identify them \nWe’ll talk about When to use them \nWe’ll talk about Where to use them \nAnd we’ll talk especially about Why to use them \nRemember…customer service and soft skills are the cornerstone of success in any area of life\, but especially in job search. \nRegister here. \n 
URL:https://masshiremncareers.com/event/customer-service-in-job-search-5/
CATEGORIES:Webinar,Woburn Center Event,Workshops
END:VEVENT
BEGIN:VEVENT
DTSTART;TZID=America/New_York:20240503T110000
DTEND;TZID=America/New_York:20240503T120000
DTSTAMP:20260420T115156
CREATED:20240423T153846Z
LAST-MODIFIED:20240423T153846Z
UID:27580-1714734000-1714737600@masshiremncareers.com
SUMMARY:Virtual Microsoft Group 1
DESCRIPTION:Microsoft Suite has so much to offer. In this workshop\, learn to use SharePoint\, OneDrive\, and Teams. \nRegister here.
URL:https://masshiremncareers.com/event/virtual-microsoft-group-1-2/
CATEGORIES:Webinar,Woburn Center Event,Workshops
END:VEVENT
END:VCALENDAR