BEGIN:VCALENDAR
VERSION:2.0
PRODID:-//MassHire Metro North Career Center - ECPv6.15.20//NONSGML v1.0//EN
CALSCALE:GREGORIAN
METHOD:PUBLISH
X-ORIGINAL-URL:https://masshiremncareers.com
X-WR-CALDESC:Events for MassHire Metro North Career Center
REFRESH-INTERVAL;VALUE=DURATION:PT1H
X-Robots-Tag:noindex
X-PUBLISHED-TTL:PT1H
BEGIN:VTIMEZONE
TZID:America/New_York
BEGIN:DAYLIGHT
TZOFFSETFROM:-0500
TZOFFSETTO:-0400
TZNAME:EDT
DTSTART:20250309T070000
END:DAYLIGHT
BEGIN:STANDARD
TZOFFSETFROM:-0400
TZOFFSETTO:-0500
TZNAME:EST
DTSTART:20251102T060000
END:STANDARD
BEGIN:DAYLIGHT
TZOFFSETFROM:-0500
TZOFFSETTO:-0400
TZNAME:EDT
DTSTART:20260308T070000
END:DAYLIGHT
BEGIN:STANDARD
TZOFFSETFROM:-0400
TZOFFSETTO:-0500
TZNAME:EST
DTSTART:20261101T060000
END:STANDARD
BEGIN:DAYLIGHT
TZOFFSETFROM:-0500
TZOFFSETTO:-0400
TZNAME:EDT
DTSTART:20270314T070000
END:DAYLIGHT
BEGIN:STANDARD
TZOFFSETFROM:-0400
TZOFFSETTO:-0500
TZNAME:EST
DTSTART:20271107T060000
END:STANDARD
END:VTIMEZONE
BEGIN:VEVENT
DTSTART;TZID=America/New_York:20260126T100000
DTEND;TZID=America/New_York:20260126T110000
DTSTAMP:20260420T202612
CREATED:20251212T184549Z
LAST-MODIFIED:20251212T184549Z
UID:28989-1769421600-1769425200@masshiremncareers.com
SUMMARY:Career Change: Second Act
DESCRIPTION:Are you stepping back in your career? Do you need to change your field? Please join us online to examine how to find your transferable skills\, convey value in a new field and more. \nRegister here.
URL:https://masshiremncareers.com/event/career-change-second-act-26/
CATEGORIES:Webinar,Woburn Center Event,Workshops
END:VEVENT
BEGIN:VEVENT
DTSTART;TZID=America/New_York:20260126T100000
DTEND;TZID=America/New_York:20260126T120000
DTSTAMP:20260420T202612
CREATED:20251229T151803Z
LAST-MODIFIED:20251229T151803Z
UID:29044-1769421600-1769428800@masshiremncareers.com
SUMMARY:Microsoft Word (Woburn)
DESCRIPTION:Microsoft Word is a great tool for creating and editing text documents. In this workshop\, start from scratch and learn Word beginning with the basics. Develop the skills necessary to feel comfortable opening Word\, starting a document\, editing\, saving your file\, and even printing and sharing your document. Register Here
URL:https://masshiremncareers.com/event/microsoft-word-woburn/
CATEGORIES:Computer Class,Woburn Center Event,Workshops
END:VEVENT
END:VCALENDAR