BEGIN:VCALENDAR
VERSION:2.0
PRODID:-//MassHire Metro North Career Center - ECPv6.15.20//NONSGML v1.0//EN
CALSCALE:GREGORIAN
METHOD:PUBLISH
X-ORIGINAL-URL:https://masshiremncareers.com
X-WR-CALDESC:Events for MassHire Metro North Career Center
REFRESH-INTERVAL;VALUE=DURATION:PT1H
X-Robots-Tag:noindex
X-PUBLISHED-TTL:PT1H
BEGIN:VTIMEZONE
TZID:America/New_York
BEGIN:DAYLIGHT
TZOFFSETFROM:-0500
TZOFFSETTO:-0400
TZNAME:EDT
DTSTART:20250309T070000
END:DAYLIGHT
BEGIN:STANDARD
TZOFFSETFROM:-0400
TZOFFSETTO:-0500
TZNAME:EST
DTSTART:20251102T060000
END:STANDARD
BEGIN:DAYLIGHT
TZOFFSETFROM:-0500
TZOFFSETTO:-0400
TZNAME:EDT
DTSTART:20260308T070000
END:DAYLIGHT
BEGIN:STANDARD
TZOFFSETFROM:-0400
TZOFFSETTO:-0500
TZNAME:EST
DTSTART:20261101T060000
END:STANDARD
BEGIN:DAYLIGHT
TZOFFSETFROM:-0500
TZOFFSETTO:-0400
TZNAME:EDT
DTSTART:20270314T070000
END:DAYLIGHT
BEGIN:STANDARD
TZOFFSETFROM:-0400
TZOFFSETTO:-0500
TZNAME:EST
DTSTART:20271107T060000
END:STANDARD
END:VTIMEZONE
BEGIN:VEVENT
DTSTART;TZID=America/New_York:20260219T100000
DTEND;TZID=America/New_York:20260219T113000
DTSTAMP:20260421T023818
CREATED:20260209T150420Z
LAST-MODIFIED:20260209T164721Z
UID:29154-1771495200-1771500600@masshiremncareers.com
SUMMARY:Career Assessment: My Next Move (Woburn)
DESCRIPTION:The next move in your career must be aligned with your skills\, accomplishments\, values and interests…But how do you find those oppurtunities? Join us as we examine the impactful online resource that is mynextmove.org! \nRegister here
URL:https://masshiremncareers.com/event/career-assessment-my-next-move-woburn/
CATEGORIES:Woburn Center Event,Workshops
ATTACH;FMTTYPE=application/pdf:https://masshiremncareers.com/wp-content/uploads/Career-Assessment-My-Next-Move.workshop.flyer_.inperson.Woburn.2026.02.19.pdf
END:VEVENT
END:VCALENDAR