BEGIN:VCALENDAR
VERSION:2.0
PRODID:-//MassHire Metro North Career Center - ECPv6.15.20//NONSGML v1.0//EN
CALSCALE:GREGORIAN
METHOD:PUBLISH
X-ORIGINAL-URL:https://masshiremncareers.com
X-WR-CALDESC:Events for MassHire Metro North Career Center
REFRESH-INTERVAL;VALUE=DURATION:PT1H
X-Robots-Tag:noindex
X-PUBLISHED-TTL:PT1H
BEGIN:VTIMEZONE
TZID:America/New_York
BEGIN:DAYLIGHT
TZOFFSETFROM:-0500
TZOFFSETTO:-0400
TZNAME:EDT
DTSTART:20240310T070000
END:DAYLIGHT
BEGIN:STANDARD
TZOFFSETFROM:-0400
TZOFFSETTO:-0500
TZNAME:EST
DTSTART:20241103T060000
END:STANDARD
BEGIN:DAYLIGHT
TZOFFSETFROM:-0500
TZOFFSETTO:-0400
TZNAME:EDT
DTSTART:20250309T070000
END:DAYLIGHT
BEGIN:STANDARD
TZOFFSETFROM:-0400
TZOFFSETTO:-0500
TZNAME:EST
DTSTART:20251102T060000
END:STANDARD
BEGIN:DAYLIGHT
TZOFFSETFROM:-0500
TZOFFSETTO:-0400
TZNAME:EDT
DTSTART:20260308T070000
END:DAYLIGHT
BEGIN:STANDARD
TZOFFSETFROM:-0400
TZOFFSETTO:-0500
TZNAME:EST
DTSTART:20261101T060000
END:STANDARD
END:VTIMEZONE
BEGIN:VEVENT
DTSTART;TZID=America/New_York:20250128T130000
DTEND;TZID=America/New_York:20250128T140000
DTSTAMP:20260424T200822
CREATED:20241217T164657Z
LAST-MODIFIED:20241217T171109Z
UID:28120-1738069200-1738072800@masshiremncareers.com
SUMMARY:Advanced Computer Skills 2
DESCRIPTION:Personal computer skills are amazing to have. Learn how to apply your personal computer skills in order to adapt to organizational and business computer usage. Tackle using two monitors and learning keyboard shortcuts. Get an overview of the most popular Microsoft 365 apps for business use. Even learn email etiquette and how to add a custom signature to every email you send. Register here
URL:https://masshiremncareers.com/event/advanced-computer-skills-2-5/
CATEGORIES:Career Center Seminars,Woburn Center Event,Workshops
ATTACH;FMTTYPE=application/pdf:https://masshiremncareers.com/wp-content/uploads/Advanced-Computer-Skills-2-flyer-inperson-Woburn-20250128.pdf
END:VEVENT
BEGIN:VEVENT
DTSTART;TZID=America/New_York:20250131T100000
DTEND;TZID=America/New_York:20250131T110000
DTSTAMP:20260424T200822
CREATED:20241217T172053Z
LAST-MODIFIED:20241217T172053Z
UID:28124-1738317600-1738321200@masshiremncareers.com
SUMMARY:Career Change: Second Act
DESCRIPTION:Are you stepping back in your career? Do you need to change your field? Please join us online to examine how to find your transferable skills\, convey value in a new field and more. Register here
URL:https://masshiremncareers.com/event/career-change-second-act-22/
CATEGORIES:Webinar,Woburn Center Event,Workshops
END:VEVENT
BEGIN:VEVENT
DTSTART;TZID=America/New_York:20250204T130000
DTEND;TZID=America/New_York:20250204T140000
DTSTAMP:20260424T200822
CREATED:20250121T202508Z
LAST-MODIFIED:20250123T201127Z
UID:28183-1738674000-1738677600@masshiremncareers.com
SUMMARY:Microsoft Calendar
DESCRIPTION:Microsoft Calendar will enable you to make the most out of your time. Schedule events\, organize your tasks\, and even share calendars with others to get a clear overview of what you need to get accomplished. Learn all about Microsoft Calendar in this workshop! Register here
URL:https://masshiremncareers.com/event/microsoft-calendar-3/
CATEGORIES:Career Center Seminars,Woburn Center Event,Workshops
ATTACH;FMTTYPE=application/pdf:https://masshiremncareers.com/wp-content/uploads/Microsoft-Calendar-flyer-inperson-Woburn-20250204.pdf
END:VEVENT
BEGIN:VEVENT
DTSTART;TZID=America/New_York:20250205T140000
DTEND;TZID=America/New_York:20250205T153000
DTSTAMP:20260424T200822
CREATED:20250116T172037Z
LAST-MODIFIED:20250116T172037Z
UID:28155-1738764000-1738769400@masshiremncareers.com
SUMMARY:LinkedIn Basics
DESCRIPTION:LinkedIn is an integral part of your job search—on par with your resume.  This in-person workshop (1.5 hours) will demonstrate how to build your professional profile\, to search for and apply for jobs on LinkedIn\, and to make connections on this powerful social media platform. We will “show and tell”\, and you will follow the steps to create an impactful LinkedIn presence.  Register here
URL:https://masshiremncareers.com/event/linkedin-basics-39/
CATEGORIES:Career Center Seminars,Woburn Center Event,Workshops
END:VEVENT
BEGIN:VEVENT
DTSTART;TZID=America/New_York:20250207T103000
DTEND;TZID=America/New_York:20250207T113000
DTSTAMP:20260424T200822
CREATED:20250116T180507Z
LAST-MODIFIED:20250116T180507Z
UID:28156-1738924200-1738927800@masshiremncareers.com
SUMMARY:Unemployed...What Now?!
DESCRIPTION:No one teaches you how to be unemployed. We’re here to help you sort out this ball of questions. What steps to take first\, what to do next and what to avoid. Being unemployed isn’t easy but getting advice from us is.  Register here
URL:https://masshiremncareers.com/event/unemployed-what-now-12/
CATEGORIES:Webinar,Woburn Center Event,Workshops
ATTACH;FMTTYPE=application/pdf:https://masshiremncareers.com/wp-content/uploads/Unemployed-What-Now.webinarFlyer.-20250207.pdf
END:VEVENT
BEGIN:VEVENT
DTSTART;TZID=America/New_York:20250211T130000
DTEND;TZID=America/New_York:20250211T140000
DTSTAMP:20260424T200822
CREATED:20250121T203226Z
LAST-MODIFIED:20250123T200823Z
UID:28187-1739278800-1739282400@masshiremncareers.com
SUMMARY:Google Drive
DESCRIPTION:Google Drive is a cloud-based web storage platform for all of your files. In this workshop\, learn the advantages of using Google Drive as your go-to storage location and organization. Register here
URL:https://masshiremncareers.com/event/google-drive-2/
CATEGORIES:Career Center Seminars,Woburn Center Event,Workshops
ATTACH;FMTTYPE=application/pdf:https://masshiremncareers.com/wp-content/uploads/Google-Drive-flyer-inperson-Woburn-20250211.pdf
END:VEVENT
BEGIN:VEVENT
DTSTART;TZID=America/New_York:20250214T100000
DTEND;TZID=America/New_York:20250214T113000
DTSTAMP:20260424T200822
CREATED:20250116T181749Z
LAST-MODIFIED:20250116T181749Z
UID:28165-1739527200-1739532600@masshiremncareers.com
SUMMARY:LinkedIn for Job Search
DESCRIPTION:Come learn how to search for positions on LinkedIn. You’ll see how to use filters\, who you know at specific companies and create search alerts based on your parameters. Bring your questions – we’ve got answers.  Register here
URL:https://masshiremncareers.com/event/linkedin-for-job-search-17/
CATEGORIES:Webinar,Woburn Center Event,Workshops
END:VEVENT
BEGIN:VEVENT
DTSTART;TZID=America/New_York:20250219T140000
DTEND;TZID=America/New_York:20250219T153000
DTSTAMP:20260424T200822
CREATED:20250210T173115Z
LAST-MODIFIED:20250210T173115Z
UID:28219-1739973600-1739979000@masshiremncareers.com
SUMMARY:LinkedIn Basics
DESCRIPTION:LinkedIn is an integral part of your job search—on par with your resume.  This in-person workshop (1.5 hours) will demonstrate how to build your professional profile\, to search for and apply for jobs on LinkedIn\, and to make connections on this powerful social media platform. We will “show and tell”\, and you will follow the steps to create an impactful LinkedIn presence. Register here
URL:https://masshiremncareers.com/event/linkedin-basics-41/
CATEGORIES:Career Center Seminars,Woburn Center Event,Workshops
ATTACH;FMTTYPE=application/pdf:https://masshiremncareers.com/wp-content/uploads/LinkedIn-Basics-Workshop-021925.pdf
END:VEVENT
BEGIN:VEVENT
DTSTART;TZID=America/New_York:20250220T100000
DTEND;TZID=America/New_York:20250220T110000
DTSTAMP:20260424T200822
CREATED:20250116T182409Z
LAST-MODIFIED:20250116T182409Z
UID:28169-1740045600-1740049200@masshiremncareers.com
SUMMARY:Virtual Resume
DESCRIPTION:Join this webinar to learn the basics of resumes. What are the types? Dos and don’ts\, how long they should be and how far back in time to go.  Register here
URL:https://masshiremncareers.com/event/virtual-resume-7/
CATEGORIES:Webinar,Woburn Center Event,Workshops
END:VEVENT
BEGIN:VEVENT
DTSTART;TZID=America/New_York:20250221T100000
DTEND;TZID=America/New_York:20250221T110000
DTSTAMP:20260424T200822
CREATED:20250116T182822Z
LAST-MODIFIED:20250116T182822Z
UID:28170-1740132000-1740135600@masshiremncareers.com
SUMMARY:Cover Letter Webinar
DESCRIPTION:Learn about the different types of cover letters. We’ll look into the mechanics of what makes an effective cover letter. You will learn how to effectively present your experience and skills.  Register here
URL:https://masshiremncareers.com/event/cover-letter-webinar-10/
CATEGORIES:Webinar,Woburn Center Event,Workshops
END:VEVENT
BEGIN:VEVENT
DTSTART;TZID=America/New_York:20250225T103000
DTEND;TZID=America/New_York:20250225T113000
DTSTAMP:20260424T200822
CREATED:20250116T183238Z
LAST-MODIFIED:20250116T183238Z
UID:28172-1740479400-1740483000@masshiremncareers.com
SUMMARY:Surviving Job Loss
DESCRIPTION:Have you been released from your job? It’s a trauma that can be unnerving! Join us to explore the different types of job loss\, Massachusetts state laws regarding employment and how to successfully survive the loss: physically\, emotionally\, and financially!  Register here
URL:https://masshiremncareers.com/event/surviving-job-loss-6/
CATEGORIES:Webinar,Woburn Center Event,Workshops
END:VEVENT
BEGIN:VEVENT
DTSTART;TZID=America/New_York:20250226T140000
DTEND;TZID=America/New_York:20250226T153000
DTSTAMP:20260424T200822
CREATED:20250116T183508Z
LAST-MODIFIED:20250116T183508Z
UID:28173-1740578400-1740583800@masshiremncareers.com
SUMMARY:In-Person Accomplishment Statements
DESCRIPTION:Applying to positions is all about professional accomplishments. But which do you use? How do you word them? Join MassHire Metro North for this comprehensive webinar as we cover CAR Statements\, STAR Statements and more! You will be given time to construct your own Accomplishment Statement in class.  Register here
URL:https://masshiremncareers.com/event/in-person-accomplishment-statements-4/
CATEGORIES:Career Center Seminars,Woburn Center Event,Workshops
END:VEVENT
BEGIN:VEVENT
DTSTART;TZID=America/New_York:20250228T100000
DTEND;TZID=America/New_York:20250228T110000
DTSTAMP:20260424T200822
CREATED:20250116T183728Z
LAST-MODIFIED:20250116T183728Z
UID:28174-1740736800-1740740400@masshiremncareers.com
SUMMARY:Cracking the Hidden Job Market
DESCRIPTION:Some jobs are hidden below the surface and others you really have to dig for! \nJoin us online as we look at ways to uncover this hidden job market – those jobs that aren’t publicized or are but discreetly.  Register here
URL:https://masshiremncareers.com/event/cracking-the-hidden-job-market-14/
CATEGORIES:Webinar,Woburn Center Event,Workshops
END:VEVENT
BEGIN:VEVENT
DTSTART;TZID=America/New_York:20250306T100000
DTEND;TZID=America/New_York:20250306T110000
DTSTAMP:20260424T200822
CREATED:20250219T185136Z
LAST-MODIFIED:20250220T201824Z
UID:28249-1741255200-1741258800@masshiremncareers.com
SUMMARY:Virtual Google Overview
DESCRIPTION:Google is an extremely popular computer software program\, but it can also be extremely overwhelming with all the apps and services they have to offer. In this workshop\, we will go over the Google apps in brief detail so that you will be comfortable identifying their purpose and how you can use the apps to your benefit. Register here
URL:https://masshiremncareers.com/event/virtual-google-overview-7/
CATEGORIES:Webinar,Woburn Center Event,Workshops
ATTACH;FMTTYPE=application/pdf:https://masshiremncareers.com/wp-content/uploads/Google-Overview-flyer-virtual-20250306.pdf
END:VEVENT
BEGIN:VEVENT
DTSTART;TZID=America/New_York:20250307T100000
DTEND;TZID=America/New_York:20250307T110000
DTSTAMP:20260424T200822
CREATED:20250214T215032Z
LAST-MODIFIED:20250214T215032Z
UID:28230-1741341600-1741345200@masshiremncareers.com
SUMMARY:Remote Work: Is It For You?
DESCRIPTION:Does remote work sound like it would work for you? Let’s walk through the skills needed to be successful as well as your home set up and technology requirements. We’ll also examine how to avoid scams. Join us online! Register here
URL:https://masshiremncareers.com/event/remote-work-is-it-for-you-18/
CATEGORIES:Webinar,Woburn Center Event,Workshops
END:VEVENT
BEGIN:VEVENT
DTSTART;TZID=America/New_York:20250311T130000
DTEND;TZID=America/New_York:20250311T140000
DTSTAMP:20260424T200822
CREATED:20250218T164644Z
LAST-MODIFIED:20250218T164644Z
UID:28235-1741698000-1741701600@masshiremncareers.com
SUMMARY:Federal Job Search
DESCRIPTION:Interested to apply for a federal job but aren’t sure how? Please join this informative webinar where we walk through all the steps you’ll need to take to start your federal career. Register here
URL:https://masshiremncareers.com/event/federal-job-search-13/
CATEGORIES:Webinar,Woburn Center Event,Workshops
END:VEVENT
BEGIN:VEVENT
DTSTART;TZID=America/New_York:20250312T140000
DTEND;TZID=America/New_York:20250312T153000
DTSTAMP:20260424T200822
CREATED:20250218T165458Z
LAST-MODIFIED:20250218T165458Z
UID:28237-1741788000-1741793400@masshiremncareers.com
SUMMARY:Mock Interviews
DESCRIPTION:What’s a good interview? Where can you find interview questions & answers specific to your target industry? What about body language? How can you best convey confidence under pressure?  Join MassHire as we answer these questions and more during our in-person mock interview session! Register here
URL:https://masshiremncareers.com/event/mock-interviews-2/
CATEGORIES:Career Center Seminars,Woburn Center Event,Workshops
END:VEVENT
BEGIN:VEVENT
DTSTART;TZID=America/New_York:20250313T140000
DTEND;TZID=America/New_York:20250313T150000
DTSTAMP:20260424T200822
CREATED:20250219T185601Z
LAST-MODIFIED:20250220T202415Z
UID:28252-1741874400-1741878000@masshiremncareers.com
SUMMARY:Virtual Google Drive
DESCRIPTION:Google Drive is a cloud-based web storage platform for all of your files. In this workshop\, learn the advantages of using Google Drive as your go-to storage location and organization. Register here
URL:https://masshiremncareers.com/event/virtual-google-drive-2/
CATEGORIES:Webinar,Woburn Center Event,Workshops
ATTACH;FMTTYPE=application/pdf:https://masshiremncareers.com/wp-content/uploads/Google-Drive-flyer-virtual-20250313-1.pdf
END:VEVENT
BEGIN:VEVENT
DTSTART;TZID=America/New_York:20250318T130000
DTEND;TZID=America/New_York:20250318T140000
DTSTAMP:20260424T200822
CREATED:20250219T185749Z
LAST-MODIFIED:20250220T202757Z
UID:28253-1742302800-1742306400@masshiremncareers.com
SUMMARY:Microsoft Outlook
DESCRIPTION:Microsoft Outlook is your hub for all things email communication. In this workshop\, learn the ins and outs of Outlook so that you can communicate efficiently with others via email\, stay up to date and organized\, and even connect Outlook to other applications so that everything you need is right at your fingertips. Register here
URL:https://masshiremncareers.com/event/microsoft-outlook-3/
CATEGORIES:Career Center Seminars,Woburn Center Event,Workshops
ATTACH;FMTTYPE=application/pdf:https://masshiremncareers.com/wp-content/uploads/Microsoft-Outlook-flyer-inperson-Woburn-20250318-1.pdf
END:VEVENT
BEGIN:VEVENT
DTSTART;TZID=America/New_York:20250321T140000
DTEND;TZID=America/New_York:20250321T150000
DTSTAMP:20260424T200822
CREATED:20250218T165907Z
LAST-MODIFIED:20250218T165907Z
UID:28240-1742565600-1742569200@masshiremncareers.com
SUMMARY:Cover Letter Webinar
DESCRIPTION:Learn about the different types of cover letters. We’ll look into the mechanics of what makes an effective cover letter. You will learn how to effectively present your experience and skills. Register here
URL:https://masshiremncareers.com/event/cover-letter-webinar-11/
CATEGORIES:Webinar,Woburn Center Event,Workshops
END:VEVENT
BEGIN:VEVENT
DTSTART;TZID=America/New_York:20250327T100000
DTEND;TZID=America/New_York:20250327T113000
DTSTAMP:20260424T200822
CREATED:20250219T190028Z
LAST-MODIFIED:20250220T201243Z
UID:28254-1743069600-1743075000@masshiremncareers.com
SUMMARY:Virtual Social Media Overview
DESCRIPTION:Social Media is a huge part of the modern world as it connects people to family\, friends\, and even the general public. Did you know that Social Media can also be a tool for you to use during your job search? In this workshop\, learn how to use social media to positively enforce your job search journey. We will touch upon social media safety and the best ways to use apps like LinkedIn\, Instagram\, Facebook\, and more to your advantage. Register here
URL:https://masshiremncareers.com/event/virtual-social-media-overview-5/
CATEGORIES:Webinar,Woburn Center Event,Workshops
ATTACH;FMTTYPE=application/pdf:https://masshiremncareers.com/wp-content/uploads/Virtual-Social-Media-Overview-flyer-virtual-20250327.pdf
END:VEVENT
BEGIN:VEVENT
DTSTART;TZID=America/New_York:20250328T100000
DTEND;TZID=America/New_York:20250328T110000
DTSTAMP:20260424T200822
CREATED:20250218T170823Z
LAST-MODIFIED:20250218T170823Z
UID:28244-1743156000-1743159600@masshiremncareers.com
SUMMARY:Working with Recruiters
DESCRIPTION:Curious about what it’s like to work with a recruiter as part of your job search? Come learn about the good\, bad and ugly of working with recruiters. Understand how they operate to get the most effective results in your job search. Join us in this online session. Register here
URL:https://masshiremncareers.com/event/working-with-recruiters-30/
CATEGORIES:Webinar,Woburn Center Event,Workshops
END:VEVENT
BEGIN:VEVENT
DTSTART;TZID=America/New_York:20250402T113000
DTEND;TZID=America/New_York:20250402T123000
DTSTAMP:20260424T200822
CREATED:20250318T194654Z
LAST-MODIFIED:20250318T195042Z
UID:28329-1743593400-1743597000@masshiremncareers.com
SUMMARY:Young Adult Info Session
DESCRIPTION:This online Info Session is your opportunity to learn about the full array of services\, events\, and programs available at MassHire Metro North’s Young Adult Career Center for out-of-school youth ages 16-24. Register here
URL:https://masshiremncareers.com/event/young-adult-info-session/
CATEGORIES:Webinar,Woburn Center Event,Workshops,Youth Services Event
END:VEVENT
BEGIN:VEVENT
DTSTART;TZID=America/New_York:20250402T140000
DTEND;TZID=America/New_York:20250402T153000
DTSTAMP:20260424T200822
CREATED:20250218T170658Z
LAST-MODIFIED:20250319T153805Z
UID:28243-1743602400-1743607800@masshiremncareers.com
SUMMARY:Network to Work
DESCRIPTION:After a job loss how do you reconnect with past colleagues and effectively reach out to contacts in your field?  Join MassHire as we go through the key steps! We will cover how to connect with past colleagues and how to network with those you don’t know. A portion of the session will be devoted to in-class networking! Register here
URL:https://masshiremncareers.com/event/network-to-work-2/
CATEGORIES:Career Center Seminars,Woburn Center Event,Workshops
END:VEVENT
BEGIN:VEVENT
DTSTART;TZID=America/New_York:20250403T130000
DTEND;TZID=America/New_York:20250403T150000
DTSTAMP:20260424T200822
CREATED:20250318T135028Z
LAST-MODIFIED:20250326T130324Z
UID:28305-1743685200-1743692400@masshiremncareers.com
SUMMARY:Basic Computer Skills 1
DESCRIPTION:Are you new to the world of computers? Do you want to feel more comfortable using technology? This is the course for you! Learn the very basics about computers starting with the terminology. Practice navigating a desktop\, browsing the internet\, and even get an introduction to creating and saving documents using some of the most popular Microsoft Windows 11 applications: Word\, Excel\, and PowerPoint. Register here
URL:https://masshiremncareers.com/event/basic-computer-skills-1-15/
CATEGORIES:Career Center Seminars,Computer Class,Woburn Center Event,Workshops
ATTACH;FMTTYPE=application/pdf:https://masshiremncareers.com/wp-content/uploads/Basic-Computer-Skills-1-flyer-inperson-Woburn-20250403.pdf
END:VEVENT
BEGIN:VEVENT
DTSTART;TZID=America/New_York:20250404T100000
DTEND;TZID=America/New_York:20250404T110000
DTSTAMP:20260424T200822
CREATED:20250318T191523Z
LAST-MODIFIED:20250318T191523Z
UID:28319-1743760800-1743764400@masshiremncareers.com
SUMMARY:Branding Yourself
DESCRIPTION:Do you need a personal brand? For today’s job search\, you do! Attending this online webinar to learn what a brand is and why you need it. How to curate your social media to reflect your brand. Register here
URL:https://masshiremncareers.com/event/branding-yourself-8/
CATEGORIES:Career Center Seminars,Webinar,Woburn Center Event,Workshops
END:VEVENT
BEGIN:VEVENT
DTSTART;TZID=America/New_York:20250408T110000
DTEND;TZID=America/New_York:20250408T120000
DTSTAMP:20260424T200822
CREATED:20250318T140044Z
LAST-MODIFIED:20250318T140044Z
UID:28309-1744110000-1744113600@masshiremncareers.com
SUMMARY:Info Session - Mass Careers
DESCRIPTION:A presentation will be provided on Navigating the MassCareers website and how to apply to State Jobs.\nQ&A will follow. Register here
URL:https://masshiremncareers.com/event/info-session-mass-careers/
CATEGORIES:Career Center Seminars,Woburn Center Event,Workshops
END:VEVENT
BEGIN:VEVENT
DTSTART;TZID=America/New_York:20250408T130000
DTEND;TZID=America/New_York:20250408T150000
DTSTAMP:20260424T200822
CREATED:20250318T140248Z
LAST-MODIFIED:20250326T130742Z
UID:28310-1744117200-1744124400@masshiremncareers.com
SUMMARY:Basic Computer Skills 2
DESCRIPTION:Having general knowledge about computers is a great start! In this class\, enhance your skills by diving deeper into computer knowledge. Get more familiar with the keyboard\, learn to print\, and develop a better understanding of that mess of cords that flows out of the back of your computer. Most importantly\, learn to protect yourself with computer safety. Register here
URL:https://masshiremncareers.com/event/basic-computer-skills-2-15/
CATEGORIES:Career Center Seminars,Computer Class,Woburn Center Event,Workshops
ATTACH;FMTTYPE=application/pdf:https://masshiremncareers.com/wp-content/uploads/Basic-Computer-Skills-2-flyer-inperson-Woburn-20250408.pdf
END:VEVENT
BEGIN:VEVENT
DTSTART;TZID=America/New_York:20250409T140000
DTEND;TZID=America/New_York:20250409T153000
DTSTAMP:20260424T200822
CREATED:20250318T195413Z
LAST-MODIFIED:20250318T195413Z
UID:28332-1744207200-1744212600@masshiremncareers.com
SUMMARY:In Person Resume
DESCRIPTION:Join this in person workshop to learn the basics of resumes. What are the types? Dos and don’ts\, how long they should be and how far back intime to go. Register here
URL:https://masshiremncareers.com/event/in-person-resume-7/
CATEGORIES:Career Center Seminars,Woburn Center Event,Workshops
END:VEVENT
BEGIN:VEVENT
DTSTART;TZID=America/New_York:20250416T113000
DTEND;TZID=America/New_York:20250416T123000
DTSTAMP:20260424T200822
CREATED:20250318T140647Z
LAST-MODIFIED:20250318T194031Z
UID:28312-1744803000-1744806600@masshiremncareers.com
SUMMARY:Young Adult Info Session
DESCRIPTION:This online Info Session is your opportunity to learn about the full array of services\, events\, and programs available at MassHire Metro North’s Young Adult Career Center for out-of-school youth ages 16-24. Register here
URL:https://masshiremncareers.com/event/young-adult-info-session-2/
CATEGORIES:Webinar,Woburn Center Event,Workshops,Youth Services Event
END:VEVENT
END:VCALENDAR