BEGIN:VCALENDAR
VERSION:2.0
PRODID:-//MassHire Metro North Career Center - ECPv6.15.20//NONSGML v1.0//EN
CALSCALE:GREGORIAN
METHOD:PUBLISH
X-ORIGINAL-URL:https://masshiremncareers.com
X-WR-CALDESC:Events for MassHire Metro North Career Center
REFRESH-INTERVAL;VALUE=DURATION:PT1H
X-Robots-Tag:noindex
X-PUBLISHED-TTL:PT1H
BEGIN:VTIMEZONE
TZID:America/New_York
BEGIN:DAYLIGHT
TZOFFSETFROM:-0500
TZOFFSETTO:-0400
TZNAME:EDT
DTSTART:20230312T070000
END:DAYLIGHT
BEGIN:STANDARD
TZOFFSETFROM:-0400
TZOFFSETTO:-0500
TZNAME:EST
DTSTART:20231105T060000
END:STANDARD
BEGIN:DAYLIGHT
TZOFFSETFROM:-0500
TZOFFSETTO:-0400
TZNAME:EDT
DTSTART:20240310T070000
END:DAYLIGHT
BEGIN:STANDARD
TZOFFSETFROM:-0400
TZOFFSETTO:-0500
TZNAME:EST
DTSTART:20241103T060000
END:STANDARD
BEGIN:DAYLIGHT
TZOFFSETFROM:-0500
TZOFFSETTO:-0400
TZNAME:EDT
DTSTART:20250309T070000
END:DAYLIGHT
BEGIN:STANDARD
TZOFFSETFROM:-0400
TZOFFSETTO:-0500
TZNAME:EST
DTSTART:20251102T060000
END:STANDARD
END:VTIMEZONE
BEGIN:VEVENT
DTSTART;TZID=America/New_York:20240725T100000
DTEND;TZID=America/New_York:20240725T110000
DTSTAMP:20260421T221054
CREATED:20240627T135310Z
LAST-MODIFIED:20240627T135310Z
UID:27713-1721901600-1721905200@masshiremncareers.com
SUMMARY:Cover Letter
DESCRIPTION:Learn about the different types of cover letters. We’ll look into the mechanics of what makes an effective cover letter. You will learn how to effectively present your experience and skills. \nRegister here.
URL:https://masshiremncareers.com/event/cover-letter-6/
CATEGORIES:Webinar,Woburn Center Event,Workshops
END:VEVENT
BEGIN:VEVENT
DTSTART;TZID=America/New_York:20240726T100000
DTEND;TZID=America/New_York:20240726T110000
DTSTAMP:20260421T221054
CREATED:20240627T135424Z
LAST-MODIFIED:20240627T135424Z
UID:27714-1721988000-1721991600@masshiremncareers.com
SUMMARY:Letter of Interest
DESCRIPTION:Join MassHire as we learn some tools for conducting a targeted job search. This is a proactive way to find future employers and get noticed by the companies on your preferred list. We learn how to research companies and craft a letter of interest to for outreach. See you online! \nRegister here.
URL:https://masshiremncareers.com/event/letter-of-interest-10/
CATEGORIES:Webinar,Woburn Center Event,Workshops
END:VEVENT
BEGIN:VEVENT
DTSTART;TZID=America/New_York:20240730T100000
DTEND;TZID=America/New_York:20240730T110000
DTSTAMP:20260421T221054
CREATED:20240627T135557Z
LAST-MODIFIED:20240627T135557Z
UID:27715-1722333600-1722337200@masshiremncareers.com
SUMMARY:Remote Work: Is It For You?
DESCRIPTION:Does remote work sound like it would work for you? Let’s walk through the skills needed to be successful as well as your home set up and technology requirements. We’ll also examine how to avoid scams. Join us online! \nRegister here.
URL:https://masshiremncareers.com/event/remote-work-is-it-for-you-15/
CATEGORIES:Webinar,Woburn Center Event,Workshops
END:VEVENT
BEGIN:VEVENT
DTSTART;TZID=America/New_York:20240801T100000
DTEND;TZID=America/New_York:20240801T110000
DTSTAMP:20260421T221054
CREATED:20240627T135722Z
LAST-MODIFIED:20240627T135722Z
UID:27716-1722506400-1722510000@masshiremncareers.com
SUMMARY:Thank You Notes & References
DESCRIPTION:You might not realize the value of the Thank You note and references. Both can affect the hiring process. Join Metro North Career Center to learn why you need to send a thank you and how to make it impactful. Who should you choose as references and how do you prepare them? Join us and learn! \nRegister here.
URL:https://masshiremncareers.com/event/thank-you-notes-references-16/
CATEGORIES:Webinar,Woburn Center Event,Workshops
END:VEVENT
BEGIN:VEVENT
DTSTART;TZID=America/New_York:20240802T100000
DTEND;TZID=America/New_York:20240802T110000
DTSTAMP:20260421T221054
CREATED:20240627T135843Z
LAST-MODIFIED:20240627T135843Z
UID:27717-1722592800-1722596400@masshiremncareers.com
SUMMARY:Customer Service in Job Search
DESCRIPTION:How can you effectively apply customer service and soft skills\nin your job search? \nWe are always refining our customer service skills and soft skills. Sometimes it’s natural and sometimes it is learned. Let’s talk about how to effectively use them in your job search. \nWe’ll talk about How to identify them \nWe’ll talk about When to use them \nWe’ll talk about Where to use them \nAnd we’ll talk especially about Why to use them \nRemember…customer service and soft skills are the cornerstone of success in any area of life\, but especially in job search. \nRegister here.
URL:https://masshiremncareers.com/event/customer-service-in-job-search-6/
CATEGORIES:Webinar,Woburn Center Event,Workshops
END:VEVENT
BEGIN:VEVENT
DTSTART;TZID=America/New_York:20240814T140000
DTEND;TZID=America/New_York:20240814T153000
DTSTAMP:20260421T221054
CREATED:20240627T191754Z
LAST-MODIFIED:20240627T191754Z
UID:27731-1723644000-1723649400@masshiremncareers.com
SUMMARY:Resume Workshop
DESCRIPTION:
URL:https://masshiremncareers.com/event/resume-workshop/
CATEGORIES:Woburn Center Event,Workshops
END:VEVENT
BEGIN:VEVENT
DTSTART;TZID=America/New_York:20240902T083000
DTEND;TZID=America/New_York:20240902T163000
DTSTAMP:20260421T221054
CREATED:20240726T153740Z
LAST-MODIFIED:20240726T153740Z
UID:27779-1725265800-1725294600@masshiremncareers.com
SUMMARY:Offices are closed/Oficinas ceradas
DESCRIPTION:
URL:https://masshiremncareers.com/event/offices-are-closed-oficinas-ceradas-2/
CATEGORIES:Cambridge Center Event,Chelsea Center Event,Español,Webinar,Woburn Center Event
END:VEVENT
BEGIN:VEVENT
DTSTART;TZID=America/New_York:20240911T140000
DTEND;TZID=America/New_York:20240911T153000
DTSTAMP:20260421T221054
CREATED:20240726T155455Z
LAST-MODIFIED:20240726T155455Z
UID:27786-1726063200-1726068600@masshiremncareers.com
SUMMARY:Interviewing Dos and Don’ts
DESCRIPTION:
URL:https://masshiremncareers.com/event/interviewing-dos-and-donts-2/
CATEGORIES:Live Meeting,Woburn Center Event,Workshops
END:VEVENT
BEGIN:VEVENT
DTSTART;TZID=America/New_York:20240926T083000
DTEND;TZID=America/New_York:20240926T163000
DTSTAMP:20260421T221054
CREATED:20240726T171654Z
LAST-MODIFIED:20240912T195337Z
UID:27792-1727339400-1727368200@masshiremncareers.com
SUMMARY:Offices are closed/Oficinas ceradas
DESCRIPTION:
URL:https://masshiremncareers.com/event/offices-are-closed-oficinas-ceradas-4/
CATEGORIES:Cambridge Center Event,Chelsea Center Event,Español,Webinar,Woburn Center Event,Workshops
END:VEVENT
BEGIN:VEVENT
DTSTART;TZID=America/New_York:20241011T100000
DTEND;TZID=America/New_York:20241011T110000
DTSTAMP:20260421T221054
CREATED:20241009T174844Z
LAST-MODIFIED:20241009T184636Z
UID:27866-1728640800-1728644400@masshiremncareers.com
SUMMARY:Thank You Notes & References
DESCRIPTION:You might not realize the value of the Thank You note and references. Both can affect the hiring process. Join Metro North Career Center to learn why you need to send a thank you and how to make it impactful. Who should you choose as references and how do you prepare them? Join us and learn! \nRegister here.
URL:https://masshiremncareers.com/event/thank-you-notes-references-17/
CATEGORIES:Webinar,Woburn Center Event,Workshops
END:VEVENT
BEGIN:VEVENT
DTSTART;VALUE=DATE:20241014
DTEND;VALUE=DATE:20241015
DTSTAMP:20260421T221054
CREATED:20241009T175150Z
LAST-MODIFIED:20241009T175150Z
UID:27867-1728864000-1728950399@masshiremncareers.com
SUMMARY:Indigenous People's Day - Offices closed
DESCRIPTION:
URL:https://masshiremncareers.com/event/indigenous-peoples-day-offices-closed/
CATEGORIES:Cambridge Center Event,Chelsea Center Event,Español,Webinar,Woburn Center Event
END:VEVENT
BEGIN:VEVENT
DTSTART;TZID=America/New_York:20241015T100000
DTEND;TZID=America/New_York:20241015T110000
DTSTAMP:20260421T221054
CREATED:20241009T175408Z
LAST-MODIFIED:20241009T184554Z
UID:27868-1728986400-1728990000@masshiremncareers.com
SUMMARY:Career Change: Second Act
DESCRIPTION:Are you stepping back in your career? Do you need to change your field? Please join us online to examine how to find your transferable skills\, convey value in a new field and more. \nRegister here.
URL:https://masshiremncareers.com/event/career-change-second-act-20/
CATEGORIES:Webinar,Woburn Center Event,Workshops
END:VEVENT
BEGIN:VEVENT
DTSTART;TZID=America/New_York:20241015T130000
DTEND;TZID=America/New_York:20241015T140000
DTSTAMP:20260421T221054
CREATED:20241009T175651Z
LAST-MODIFIED:20241009T184508Z
UID:27869-1728997200-1729000800@masshiremncareers.com
SUMMARY:Advanced Computer Skills 1
DESCRIPTION:Computers are designed to make our lives easier. Learn how in this workshop. Multitask with tabs and split screen. Keep organized with bookmarks\, files\, and folders. Get an intro to email so that you can stay connected with family\, friends\, and potential or current employers and colleagues. \nRegister here.
URL:https://masshiremncareers.com/event/advanced-computer-skills-1-4/
CATEGORIES:Computer Class,Woburn Center Event,Workshops
END:VEVENT
BEGIN:VEVENT
DTSTART;TZID=America/New_York:20241017T100000
DTEND;TZID=America/New_York:20241017T110000
DTSTAMP:20260421T221054
CREATED:20241009T180113Z
LAST-MODIFIED:20241009T184340Z
UID:27871-1729159200-1729162800@masshiremncareers.com
SUMMARY:New Strategies for Older Workers
DESCRIPTION:Is there ageism out there? There is. This workshop will help you fight it and level the battlefield. Let’s review hot to develop a job search that reflects ability\, not age! \nRegister here.
URL:https://masshiremncareers.com/event/new-strategies-for-older-workers-31/
CATEGORIES:Webinar,Woburn Center Event,Workshops
END:VEVENT
BEGIN:VEVENT
DTSTART;TZID=America/New_York:20241018T110000
DTEND;TZID=America/New_York:20241018T123000
DTSTAMP:20260421T221054
CREATED:20241009T180328Z
LAST-MODIFIED:20241009T184246Z
UID:27872-1729249200-1729254600@masshiremncareers.com
SUMMARY:LinkedIn for Job Search
DESCRIPTION:Come learn how to search for positions on LinkedIn. You’ll see how to use filters\, who you know at specific companies and create search alerts based on your parameters. Bring your questions – we’ve got answers. \nRegister here.
URL:https://masshiremncareers.com/event/linkedin-for-job-search-15/
CATEGORIES:Webinar,Woburn Center Event,Workshops
END:VEVENT
BEGIN:VEVENT
DTSTART;TZID=America/New_York:20241018T130000
DTEND;TZID=America/New_York:20241018T140000
DTSTAMP:20260421T221054
CREATED:20241009T180550Z
LAST-MODIFIED:20241009T180550Z
UID:27873-1729256400-1729260000@masshiremncareers.com
SUMMARY:Social Media in Your Job Search
DESCRIPTION:What social media accounts do you need for a job search? Are they safe to use? Get some tips on how to clean up an existing accounts you have and ways to stay safe online. Come learn the dos and don’ts on: LinkedIn\, Facebook\, Twitter\, Instagram\, TikTok. \nRegister here.
URL:https://masshiremncareers.com/event/social-media-in-your-job-search/
CATEGORIES:Webinar,Woburn Center Event,Workshops
END:VEVENT
BEGIN:VEVENT
DTSTART;TZID=America/New_York:20241022T100000
DTEND;TZID=America/New_York:20241022T110000
DTSTAMP:20260421T221054
CREATED:20241009T181142Z
LAST-MODIFIED:20241009T181142Z
UID:27876-1729591200-1729594800@masshiremncareers.com
SUMMARY:Virtual Resume Beyond the Basics
DESCRIPTION:Ready to take your resume to the next level? Learn about accomplishment statements and how to determine the value you bring. We’ll discuss hard and soft skills and how to utilize keywords. Please register and join us on the webinar. \nRegister here.
URL:https://masshiremncareers.com/event/virtual-resume-beyond-the-basics-4/
CATEGORIES:Webinar,Woburn Center Event,Workshops
END:VEVENT
BEGIN:VEVENT
DTSTART;TZID=America/New_York:20241022T130000
DTEND;TZID=America/New_York:20241022T140000
DTSTAMP:20260421T221054
CREATED:20241009T181343Z
LAST-MODIFIED:20241009T181353Z
UID:27877-1729602000-1729605600@masshiremncareers.com
SUMMARY:Microsoft Word
DESCRIPTION:Microsoft Word is a great tool for creating and editing text documents. In this workshop\, start from scratch and learn Word beginning with the basics. Develop the skills necessary to feel comfortable opening Word\, starting a document\, editing\, saving your file\, and even printing and sharing your document. \nRegister here.
URL:https://masshiremncareers.com/event/microsoft-word-5/
CATEGORIES:Computer Class,Woburn Center Event,Workshops
END:VEVENT
BEGIN:VEVENT
DTSTART;TZID=America/New_York:20241023T140000
DTEND;TZID=America/New_York:20241023T153000
DTSTAMP:20260421T221054
CREATED:20241009T181843Z
LAST-MODIFIED:20241009T181843Z
UID:27879-1729692000-1729697400@masshiremncareers.com
SUMMARY:Interviewing
DESCRIPTION:In Person workshop covering the basics and best practices for preparing and succeeding in a face-to-face interview. \nRegister here.
URL:https://masshiremncareers.com/event/interviewing-9/
CATEGORIES:Woburn Center Event,Workshops
END:VEVENT
BEGIN:VEVENT
DTSTART;TZID=America/New_York:20241025T100000
DTEND;TZID=America/New_York:20241025T110000
DTSTAMP:20260421T221054
CREATED:20241009T182207Z
LAST-MODIFIED:20241009T182207Z
UID:27881-1729850400-1729854000@masshiremncareers.com
SUMMARY:Cover Letter Webinar
DESCRIPTION:Learn about the different types of cover letters. We’ll look into the mechanics of what makes an effective cover letter. You will learn how to effectively present your experience and skills. \nRegister here.
URL:https://masshiremncareers.com/event/cover-letter-webinar-9/
CATEGORIES:Webinar,Woburn Center Event,Workshops
END:VEVENT
BEGIN:VEVENT
DTSTART;TZID=America/New_York:20241029T100000
DTEND;TZID=America/New_York:20241029T110000
DTSTAMP:20260421T221054
CREATED:20241009T182742Z
LAST-MODIFIED:20241009T182742Z
UID:27883-1730196000-1730199600@masshiremncareers.com
SUMMARY:Staying Positive
DESCRIPTION:We can help you avoid job search pitfalls like depression\, anxiety and negativity. Join other job seekers who are in the trenches with you. Immediately put into practice stay-calm strategies so you can focus. Together\, we will learn and comprehend the steps to staying positive in the job search. \nRegister here.
URL:https://masshiremncareers.com/event/staying-positive-3/
CATEGORIES:Webinar,Woburn Center Event,Workshops
END:VEVENT
BEGIN:VEVENT
DTSTART;TZID=America/New_York:20241029T110000
DTEND;TZID=America/New_York:20241029T120000
DTSTAMP:20260421T221054
CREATED:20241029T141811Z
LAST-MODIFIED:20241029T141811Z
UID:27936-1730199600-1730203200@masshiremncareers.com
SUMMARY:Virtual Resume Beyond the Basics
DESCRIPTION:Ready to take your resume to the next level? Learn about accomplishment statements and how to determine the value you bring. We’ll discuss hard and soft skills and how to utilize keywords. Please register and join us on the webinar. \nRegister here.
URL:https://masshiremncareers.com/event/virtual-resume-beyond-the-basics-5/
CATEGORIES:Webinar,Woburn Center Event,Workshops
ATTACH;FMTTYPE=application/pdf:https://masshiremncareers.com/wp-content/uploads/Resume-Beyond-Basics-20241114.pdf
END:VEVENT
BEGIN:VEVENT
DTSTART;TZID=America/New_York:20241031T100000
DTEND;TZID=America/New_York:20241031T110000
DTSTAMP:20260421T221055
CREATED:20241009T183204Z
LAST-MODIFIED:20241009T183204Z
UID:27885-1730368800-1730372400@masshiremncareers.com
SUMMARY:Remote Work: Is It For You?
DESCRIPTION:Does remote work sound like it would work for you? Let’s walk through the skills needed to be successful as well as your home set up and technology requirements. We’ll also examine how to avoid scams. Join us online! \nRegister here.
URL:https://masshiremncareers.com/event/remote-work-is-it-for-you-17/
CATEGORIES:Webinar,Woburn Center Event,Workshops
END:VEVENT
BEGIN:VEVENT
DTSTART;TZID=America/New_York:20241105T100000
DTEND;TZID=America/New_York:20241105T110000
DTSTAMP:20260421T221055
CREATED:20241010T183644Z
LAST-MODIFIED:20241029T132238Z
UID:27887-1730800800-1730804400@masshiremncareers.com
SUMMARY:Branding Yourself webinar
DESCRIPTION:Do you need a personal brand? For today’s job search\, you do! Attending this online webinar to learn what a brand is and why you need it. How to curate your social media to reflect your brand. \nRegister Here
URL:https://masshiremncareers.com/event/branding-yourself-webinar-4/
CATEGORIES:Webinar,Woburn Center Event,Workshops
ATTACH;FMTTYPE=application/pdf:https://masshiremncareers.com/wp-content/uploads/Branding-2024115-1.pdf
END:VEVENT
BEGIN:VEVENT
DTSTART;TZID=America/New_York:20241105T130000
DTEND;TZID=America/New_York:20241105T150000
DTSTAMP:20260421T221055
CREATED:20241029T133817Z
LAST-MODIFIED:20241029T133817Z
UID:27918-1730811600-1730818800@masshiremncareers.com
SUMMARY:Google Docs
DESCRIPTION:Google Docs is an efficient tool for creating word documents. In this workshop\, become familiar with Docs starting from the very beginning. Learn to create a document\, edit\, and share. Leave feeling like you can successfully create and use a Google Doc. \nRegister here.
URL:https://masshiremncareers.com/event/google-docs-5/
CATEGORIES:Computer Class,Woburn Center Event,Workshops
ATTACH;FMTTYPE=application/pdf:https://masshiremncareers.com/wp-content/uploads/Google-Docs-flyer-inperson-Woburn-20241105.pdf
END:VEVENT
BEGIN:VEVENT
DTSTART;TZID=America/New_York:20241107T100000
DTEND;TZID=America/New_York:20241107T110000
DTSTAMP:20260421T221055
CREATED:20241029T134320Z
LAST-MODIFIED:20241029T134629Z
UID:27923-1730973600-1730977200@masshiremncareers.com
SUMMARY:Working With Recruiters
DESCRIPTION:Curious about what it’s like to work with a recruiter as part of your job search? Come learn about the good\, bad and ugly of working with recruiters. Understand how they operate to get the most effective results in your job search. \nRegister here.
URL:https://masshiremncareers.com/event/working-with-recruiters-28/
CATEGORIES:Webinar,Woburn Center Event,Workshops
ATTACH;FMTTYPE=application/pdf:https://masshiremncareers.com/wp-content/uploads/Recruiter-flyer-11-7-2024.pdf
END:VEVENT
BEGIN:VEVENT
DTSTART;TZID=America/New_York:20241108T100000
DTEND;TZID=America/New_York:20241108T110000
DTSTAMP:20260421T221055
CREATED:20241029T135742Z
LAST-MODIFIED:20241029T135742Z
UID:27928-1731060000-1731063600@masshiremncareers.com
SUMMARY:LinkedIn Headline & Summary
DESCRIPTION:Get noticed! Learn by example on the best ways to structure your headline and summary to get attention from decision makers on LinkedIn. \nRegister here.
URL:https://masshiremncareers.com/event/linkedin-headline-summary-24/
CATEGORIES:Webinar,Woburn Center Event,Workshops
ATTACH;FMTTYPE=application/pdf:https://masshiremncareers.com/wp-content/uploads/LinkedIn-Headline-2024118.pdf
END:VEVENT
BEGIN:VEVENT
DTSTART;TZID=America/New_York:20241111T083000
DTEND;TZID=America/New_York:20241111T163000
DTSTAMP:20260421T221055
CREATED:20241031T131118Z
LAST-MODIFIED:20241031T132423Z
UID:27994-1731313800-1731342600@masshiremncareers.com
SUMMARY:Veteran's Day Offices are closed/Oficinas ceradas
DESCRIPTION:
URL:https://masshiremncareers.com/event/veterans-day-offices-are-closed-oficinas-ceradas/
CATEGORIES:Cambridge Center Event,Chelsea Center Event,Español,Job Fairs,Recruitment,Webinar,Woburn Center Event,Workshops
END:VEVENT
BEGIN:VEVENT
DTSTART;TZID=America/New_York:20241113T140000
DTEND;TZID=America/New_York:20241113T153000
DTSTAMP:20260421T221055
CREATED:20241106T172327Z
LAST-MODIFIED:20241106T172327Z
UID:28000-1731506400-1731511800@masshiremncareers.com
SUMMARY:Cover Letters
DESCRIPTION:Learn about the different types of cover letters. We’ll look into the mechanics of what makes an effective cover letter. You will learn how to effectively present your experience and skills to tailor to a job description to help land that next interview. \nRegister here.
URL:https://masshiremncareers.com/event/cover-letters-29/
CATEGORIES:Woburn Center Event,Workshops
ATTACH;FMTTYPE=image/jpeg:https://masshiremncareers.com/wp-content/uploads/Cover-Letter.workshop.flyer_.inperson.Woburn.20241113.jpg
END:VEVENT
BEGIN:VEVENT
DTSTART;TZID=America/New_York:20241115T100000
DTEND;TZID=America/New_York:20241115T110000
DTSTAMP:20260421T221055
CREATED:20241029T141510Z
LAST-MODIFIED:20241029T141510Z
UID:27930-1731664800-1731668400@masshiremncareers.com
SUMMARY:Cover Letter
DESCRIPTION:Learn about the different types of cover letters. We’ll look into the mechanics of what makes an effective cover letter. You will learn how to effectively present your experience and skills.Register here
URL:https://masshiremncareers.com/event/cover-letter-9/
CATEGORIES:Webinar,Woburn Center Event,Workshops
ATTACH;FMTTYPE=application/pdf:https://masshiremncareers.com/wp-content/uploads/Cover-letter-20241115.pdf
END:VEVENT
END:VCALENDAR