BEGIN:VCALENDAR
VERSION:2.0
PRODID:-//MassHire Metro North Career Center - ECPv6.15.20//NONSGML v1.0//EN
CALSCALE:GREGORIAN
METHOD:PUBLISH
X-ORIGINAL-URL:https://masshiremncareers.com
X-WR-CALDESC:Events for MassHire Metro North Career Center
REFRESH-INTERVAL;VALUE=DURATION:PT1H
X-Robots-Tag:noindex
X-PUBLISHED-TTL:PT1H
BEGIN:VTIMEZONE
TZID:America/New_York
BEGIN:DAYLIGHT
TZOFFSETFROM:-0500
TZOFFSETTO:-0400
TZNAME:EDT
DTSTART:20180311T070000
END:DAYLIGHT
BEGIN:STANDARD
TZOFFSETFROM:-0400
TZOFFSETTO:-0500
TZNAME:EST
DTSTART:20181104T060000
END:STANDARD
BEGIN:DAYLIGHT
TZOFFSETFROM:-0500
TZOFFSETTO:-0400
TZNAME:EDT
DTSTART:20190310T070000
END:DAYLIGHT
BEGIN:STANDARD
TZOFFSETFROM:-0400
TZOFFSETTO:-0500
TZNAME:EST
DTSTART:20191103T060000
END:STANDARD
BEGIN:DAYLIGHT
TZOFFSETFROM:-0500
TZOFFSETTO:-0400
TZNAME:EDT
DTSTART:20200308T070000
END:DAYLIGHT
BEGIN:STANDARD
TZOFFSETFROM:-0400
TZOFFSETTO:-0500
TZNAME:EST
DTSTART:20201101T060000
END:STANDARD
END:VTIMEZONE
BEGIN:VEVENT
DTSTART;TZID=America/New_York:20191227T100000
DTEND;TZID=America/New_York:20191227T120000
DTSTAMP:20260425T181512
CREATED:20191101T195925Z
LAST-MODIFIED:20191101T195925Z
UID:19492-1577440800-1577448000@masshiremncareers.com
SUMMARY:Learning to Network
DESCRIPTION:Most jobs are found through networking (as high as 90%). Learn how to create an elevator pitch\, get the most out of networking meetings and master the steps of how to conduct a successful informational interview. Discover the best ways to grow your network and how to use it for a smart job search. Come with your ideas and be prepared to share!  (2 Hours)
URL:https://masshiremncareers.com/event/learning-to-network-18/
LOCATION:Cambridge Career Center\, 186 Alewife Brook Parkway\, Cambridge\, MA\, 02138\, United States
CATEGORIES:Cambridge Center Event,Workshops
END:VEVENT
BEGIN:VEVENT
DTSTART;TZID=America/New_York:20191227T100000
DTEND;TZID=America/New_York:20191227T133000
DTSTAMP:20260425T181512
CREATED:20191104T163540Z
LAST-MODIFIED:20191104T163540Z
UID:19567-1577440800-1577453400@masshiremncareers.com
SUMMARY:Outlook 2 ($59)
DESCRIPTION:In this course you will learn to create appointments\, meetings\, and events in the Outlook Calendar.  Manage and share calendars within Outlook. Recommended pre-requisite: Outlook I \n(3.5 Hours) $59
URL:https://masshiremncareers.com/event/outlook-2-59-2/
LOCATION:Woburn Career Center\, 100 Trade Center\, Suite G100\, Woburn\, MA\, 01801\, United States
CATEGORIES:Woburn Center Event,Workshops
END:VEVENT
BEGIN:VEVENT
DTSTART;TZID=America/New_York:20191227T110000
DTEND;TZID=America/New_York:20191227T133000
DTSTAMP:20260425T181512
CREATED:20191104T142343Z
LAST-MODIFIED:20191104T142343Z
UID:19529-1577444400-1577453400@masshiremncareers.com
SUMMARY:Interviewing Fundamentals
DESCRIPTION:Is your resume getting your foot in the door but you’re not advancing beyond the interview? Come and learn the best practices of a successful in-person job interview!  We will discuss research\, CAR Statements\, post-interview follow-up and the importance of non-work related activities.  We will also explore how best to navigate an interview’s behavioral and traditional questions. (2.5 Hours)
URL:https://masshiremncareers.com/event/interviewing-fundamentals-29/
LOCATION:Woburn Career Center\, 100 Trade Center\, Suite G100\, Woburn\, MA\, 01801\, United States
CATEGORIES:Woburn Center Event,Workshops
END:VEVENT
END:VCALENDAR