BEGIN:VCALENDAR
VERSION:2.0
PRODID:-//MassHire Metro North Career Center - ECPv6.15.20//NONSGML v1.0//EN
CALSCALE:GREGORIAN
METHOD:PUBLISH
X-WR-CALNAME:MassHire Metro North Career Center
X-ORIGINAL-URL:https://masshiremncareers.com
X-WR-CALDESC:Events for MassHire Metro North Career Center
REFRESH-INTERVAL;VALUE=DURATION:PT1H
X-Robots-Tag:noindex
X-PUBLISHED-TTL:PT1H
BEGIN:VTIMEZONE
TZID:America/New_York
BEGIN:DAYLIGHT
TZOFFSETFROM:-0500
TZOFFSETTO:-0400
TZNAME:EDT
DTSTART:20230312T070000
END:DAYLIGHT
BEGIN:STANDARD
TZOFFSETFROM:-0400
TZOFFSETTO:-0500
TZNAME:EST
DTSTART:20231105T060000
END:STANDARD
BEGIN:DAYLIGHT
TZOFFSETFROM:-0500
TZOFFSETTO:-0400
TZNAME:EDT
DTSTART:20240310T070000
END:DAYLIGHT
BEGIN:STANDARD
TZOFFSETFROM:-0400
TZOFFSETTO:-0500
TZNAME:EST
DTSTART:20241103T060000
END:STANDARD
BEGIN:DAYLIGHT
TZOFFSETFROM:-0500
TZOFFSETTO:-0400
TZNAME:EDT
DTSTART:20250309T070000
END:DAYLIGHT
BEGIN:STANDARD
TZOFFSETFROM:-0400
TZOFFSETTO:-0500
TZNAME:EST
DTSTART:20251102T060000
END:STANDARD
BEGIN:DAYLIGHT
TZOFFSETFROM:-0500
TZOFFSETTO:-0400
TZNAME:EDT
DTSTART:20260308T070000
END:DAYLIGHT
BEGIN:STANDARD
TZOFFSETFROM:-0400
TZOFFSETTO:-0500
TZNAME:EST
DTSTART:20261101T060000
END:STANDARD
BEGIN:DAYLIGHT
TZOFFSETFROM:-0500
TZOFFSETTO:-0400
TZNAME:EDT
DTSTART:20270314T070000
END:DAYLIGHT
BEGIN:STANDARD
TZOFFSETFROM:-0400
TZOFFSETTO:-0500
TZNAME:EST
DTSTART:20271107T060000
END:STANDARD
END:VTIMEZONE
BEGIN:VEVENT
DTSTART;TZID=America/New_York:20260318T113000
DTEND;TZID=America/New_York:20260318T123000
DTSTAMP:20260421T010324
CREATED:20260303T151538Z
LAST-MODIFIED:20260303T151538Z
UID:29265-1773833400-1773837000@masshiremncareers.com
SUMMARY:Young Adult Info Session
DESCRIPTION:This online Info Session is your opportunity to learn about the full array of services\, events\, and programs available at MassHire Metro North’s Young Adult Career Center for out-of-school youth ages 16-24. \nRegister here
URL:https://masshiremncareers.com/event/young-adult-info-session-19/
CATEGORIES:Webinar,Woburn Center Event,Workshops,Youth Services Event
END:VEVENT
BEGIN:VEVENT
DTSTART;TZID=America/New_York:20251210T113000
DTEND;TZID=America/New_York:20251210T123000
DTSTAMP:20260421T010324
CREATED:20251117T210703Z
LAST-MODIFIED:20251119T164806Z
UID:28883-1765366200-1765369800@masshiremncareers.com
SUMMARY:Young Adult Info Session
DESCRIPTION:This online Info Session is your opportunity to learn about the full array of services\, events\, and programs available at MassHire Metro North’s Young Adult Career Center for out-of-school youth ages 16-24.  Register Here
URL:https://masshiremncareers.com/event/young-adult-info-session-18/
CATEGORIES:Webinar,Woburn Center Event,Workshops,Youth Services Event
ATTACH;FMTTYPE=application/pdf:https://masshiremncareers.com/wp-content/uploads/20251210-Young-Adult-Info-Session.pdf
END:VEVENT
BEGIN:VEVENT
DTSTART;TZID=America/New_York:20251126T113000
DTEND;TZID=America/New_York:20251126T123000
DTSTAMP:20260421T010324
CREATED:20251016T194248Z
LAST-MODIFIED:20251016T194248Z
UID:28818-1764156600-1764160200@masshiremncareers.com
SUMMARY:Young Adult Info Session
DESCRIPTION:This online Info Session is your opportunity to learn about the full array of services\, events\, and programs available at MassHire Metro North’s Young Adult Career Center for out-of-school youth ages 16-24.  Register here
URL:https://masshiremncareers.com/event/young-adult-info-session-17/
CATEGORIES:Webinar,Woburn Center Event,Workshops,Youth Services Event
ATTACH;FMTTYPE=application/pdf:https://masshiremncareers.com/wp-content/uploads/20251126-Young-Adult-Info-Session.pdf
END:VEVENT
BEGIN:VEVENT
DTSTART;TZID=America/New_York:20251112T113000
DTEND;TZID=America/New_York:20251112T123000
DTSTAMP:20260421T010324
CREATED:20251016T185823Z
LAST-MODIFIED:20251016T185823Z
UID:28795-1762947000-1762950600@masshiremncareers.com
SUMMARY:Young Adult Info Session
DESCRIPTION:This online Info Session is your opportunity to learn about the full array of services\, events\, and programs available at MassHire Metro North’s Young Adult Career Center for out-of-school youth ages 16-24.  Register here
URL:https://masshiremncareers.com/event/young-adult-info-session-16/
CATEGORIES:Webinar,Woburn Center Event,Workshops,Youth Services Event
ATTACH;FMTTYPE=application/pdf:https://masshiremncareers.com/wp-content/uploads/20251112-Young-Adult-Info-Session.pdf
END:VEVENT
BEGIN:VEVENT
DTSTART;TZID=America/New_York:20251029T113000
DTEND;TZID=America/New_York:20251029T123000
DTSTAMP:20260421T010324
CREATED:20251007T142935Z
LAST-MODIFIED:20251007T142935Z
UID:28765-1761737400-1761741000@masshiremncareers.com
SUMMARY:Young Adult Info Session
DESCRIPTION:This online Info Session is your opportunity to learn about the full array of services\, events\, and programs available at MassHire Metro North’s Young Adult Career Center for out-of-school youth ages 16-24.  Register Here
URL:https://masshiremncareers.com/event/young-adult-info-session-15/
CATEGORIES:Webinar,Woburn Center Event,Workshops,Youth Services Event
ATTACH;FMTTYPE=application/pdf:https://masshiremncareers.com/wp-content/uploads/20251029-Young-Adult-Info-Session.pdf
END:VEVENT
BEGIN:VEVENT
DTSTART;TZID=America/New_York:20251001T113000
DTEND;TZID=America/New_York:20251001T123000
DTSTAMP:20260421T010324
CREATED:20250916T165826Z
LAST-MODIFIED:20250916T165826Z
UID:28705-1759318200-1759321800@masshiremncareers.com
SUMMARY:Young Adult Info Session
DESCRIPTION:This online Info Session is your opportunity to learn about the full array of services\, events\, and programs available at MassHire Metro North’s Young Adult Career Center for out-of-school youth ages 16-24.  Register here
URL:https://masshiremncareers.com/event/young-adult-info-session-13/
CATEGORIES:Webinar,Woburn Center Event,Workshops,Youth Services Event
END:VEVENT
BEGIN:VEVENT
DTSTART;TZID=America/New_York:20250917T113000
DTEND;TZID=America/New_York:20250917T123000
DTSTAMP:20260421T010324
CREATED:20250825T124915Z
LAST-MODIFIED:20250909T192813Z
UID:28641-1758108600-1758112200@masshiremncareers.com
SUMMARY:Young Adult Info Session
DESCRIPTION:This online Info Session is your opportunity to learn about the full array of services\, events\, and programs available at MassHire Metro North’s Young Adult Career Center for out-of-school youth ages 16-24.  Register Here
URL:https://masshiremncareers.com/event/young-adult-info-session-12/
CATEGORIES:Webinar,Woburn Center Event,Workshops,Youth Services Event
ATTACH;FMTTYPE=application/pdf:https://masshiremncareers.com/wp-content/uploads/20250917-YACC-Info-Session.pdf
END:VEVENT
BEGIN:VEVENT
DTSTART;TZID=America/New_York:20250903T113000
DTEND;TZID=America/New_York:20250903T123000
DTSTAMP:20260421T010324
CREATED:20250813T151405Z
LAST-MODIFIED:20250813T151504Z
UID:28622-1756899000-1756902600@masshiremncareers.com
SUMMARY:Young Adult Info Session
DESCRIPTION:This online Info Session is your opportunity to learn about the full array of services\, events\, and programs available at MassHire Metro North’s Young Adult Career Center for out-of-school youth ages 16-24.  Register here
URL:https://masshiremncareers.com/event/young-adult-info-session-11/
CATEGORIES:Webinar,Woburn Center Event,Workshops,Youth Services Event
END:VEVENT
BEGIN:VEVENT
DTSTART;TZID=America/New_York:20250723T113000
DTEND;TZID=America/New_York:20250723T123000
DTSTAMP:20260421T010324
CREATED:20250620T191930Z
LAST-MODIFIED:20250620T191930Z
UID:28520-1753270200-1753273800@masshiremncareers.com
SUMMARY:Young Adult Info Session
DESCRIPTION:This online Info Session is your opportunity to learn about the full array of services\, events\, and programs available at MassHire Metro North’s Young Adult Career Center for out-of-school youth ages 16-24.  Register here
URL:https://masshiremncareers.com/event/young-adult-info-session-9/
CATEGORIES:Webinar,Woburn Center Event,Workshops,Youth Services Event
END:VEVENT
BEGIN:VEVENT
DTSTART;TZID=America/New_York:20250707T113000
DTEND;TZID=America/New_York:20250707T123000
DTSTAMP:20260421T010324
CREATED:20250620T185806Z
LAST-MODIFIED:20250620T185806Z
UID:28509-1751887800-1751891400@masshiremncareers.com
SUMMARY:Young Adult Info Session
DESCRIPTION:This online Info Session is your opportunity to learn about the full array of services\, events\, and programs available at MassHire Metro North’s Young Adult Career Center for out-of-school youth ages 16-24.  Register here
URL:https://masshiremncareers.com/event/young-adult-info-session-8/
CATEGORIES:Webinar,Woburn Center Event,Workshops,Youth Services Event
END:VEVENT
BEGIN:VEVENT
DTSTART;TZID=America/New_York:20250625T113000
DTEND;TZID=America/New_York:20250625T123000
DTSTAMP:20260421T010324
CREATED:20250603T160146Z
LAST-MODIFIED:20250604T165700Z
UID:28475-1750851000-1750854600@masshiremncareers.com
SUMMARY:Young Adult Info Session
DESCRIPTION:This online Info Session is your opportunity to learn about the full array of services\, events\, and programs available at MassHire Metro North’s Young Adult Career Center for out-of-school youth ages 16-24.  Register Here
URL:https://masshiremncareers.com/event/young-adult-info-session-5/
CATEGORIES:Webinar,Woburn Center Event,Workshops,Youth Services Event
ATTACH;FMTTYPE=application/pdf:https://masshiremncareers.com/wp-content/uploads/20250625-Young-Adult-Info-Session.pdf
END:VEVENT
BEGIN:VEVENT
DTSTART;TZID=America/New_York:20250611T113000
DTEND;TZID=America/New_York:20250611T123000
DTSTAMP:20260421T010324
CREATED:20250603T153037Z
LAST-MODIFIED:20250604T165547Z
UID:28458-1749641400-1749645000@masshiremncareers.com
SUMMARY:Young Adult Info Session
DESCRIPTION:This online Info Session is your opportunity to learn about the full array of services\, events\, and programs available at MassHire Metro North’s Young Adult Career Center for out-of-school youth ages 16-24. Register Here
URL:https://masshiremncareers.com/event/young-adult-info-session-3/
CATEGORIES:Webinar,Woburn Center Event,Workshops,Youth Services Event
ATTACH;FMTTYPE=application/pdf:https://masshiremncareers.com/wp-content/uploads/20250611-Young-Adult-Info-Session.pdf
END:VEVENT
BEGIN:VEVENT
DTSTART;TZID=America/New_York:20250430T113000
DTEND;TZID=America/New_York:20250430T123000
DTSTAMP:20260421T010324
CREATED:20250318T192713Z
LAST-MODIFIED:20250318T194205Z
UID:28324-1746012600-1746016200@masshiremncareers.com
SUMMARY:Young Adult Info Session
DESCRIPTION:This online Info Session is your opportunity to learn about the full array of services\, events\, and programs available at MassHire Metro North’s Young Adult Career Center for out-of-school youth ages 16-24.  Register here
URL:https://masshiremncareers.com/event/young-adult-info-session-4/
CATEGORIES:Career Center Seminars,Webinar,Woburn Center Event,Workshops,Youth Services Event
END:VEVENT
BEGIN:VEVENT
DTSTART;TZID=America/New_York:20250416T113000
DTEND;TZID=America/New_York:20250416T123000
DTSTAMP:20260421T010324
CREATED:20250318T140647Z
LAST-MODIFIED:20250318T194031Z
UID:28312-1744803000-1744806600@masshiremncareers.com
SUMMARY:Young Adult Info Session
DESCRIPTION:This online Info Session is your opportunity to learn about the full array of services\, events\, and programs available at MassHire Metro North’s Young Adult Career Center for out-of-school youth ages 16-24. Register here
URL:https://masshiremncareers.com/event/young-adult-info-session-2/
CATEGORIES:Webinar,Woburn Center Event,Workshops,Youth Services Event
END:VEVENT
BEGIN:VEVENT
DTSTART;TZID=America/New_York:20250402T113000
DTEND;TZID=America/New_York:20250402T123000
DTSTAMP:20260421T010324
CREATED:20250318T194654Z
LAST-MODIFIED:20250318T195042Z
UID:28329-1743593400-1743597000@masshiremncareers.com
SUMMARY:Young Adult Info Session
DESCRIPTION:This online Info Session is your opportunity to learn about the full array of services\, events\, and programs available at MassHire Metro North’s Young Adult Career Center for out-of-school youth ages 16-24. Register here
URL:https://masshiremncareers.com/event/young-adult-info-session/
CATEGORIES:Webinar,Woburn Center Event,Workshops,Youth Services Event
END:VEVENT
BEGIN:VEVENT
DTSTART;TZID=America/New_York:20250121T080000
DTEND;TZID=America/New_York:20250121T170000
DTSTAMP:20260421T010324
CREATED:20250116T174359Z
LAST-MODIFIED:20250116T174359Z
UID:28158-1737446400-1737478800@masshiremncareers.com
SUMMARY:Sample Youth Information session
DESCRIPTION:
URL:https://masshiremncareers.com/event/sample-youth-information-session/
CATEGORIES:Youth Services Event
END:VEVENT
BEGIN:VEVENT
DTSTART;TZID=America/New_York:20241217T100000
DTEND;TZID=America/New_York:20241217T100000
DTSTAMP:20260421T010324
CREATED:20241212T183202Z
LAST-MODIFIED:20241212T183202Z
UID:28076-1734429600-1734429600@masshiremncareers.com
SUMMARY:Test youth event
DESCRIPTION:
URL:https://masshiremncareers.com/event/test-youth-event/
CATEGORIES:Youth Services Event
ATTACH;FMTTYPE=image/jpeg:https://masshiremncareers.com/wp-content/uploads/National-Grid-Revised.jpeg
END:VEVENT
END:VCALENDAR