BEGIN:VCALENDAR
VERSION:2.0
PRODID:-//MassHire Metro North Career Center - ECPv6.15.20//NONSGML v1.0//EN
CALSCALE:GREGORIAN
METHOD:PUBLISH
X-WR-CALNAME:MassHire Metro North Career Center
X-ORIGINAL-URL:https://masshiremncareers.com
X-WR-CALDESC:Events for MassHire Metro North Career Center
REFRESH-INTERVAL;VALUE=DURATION:PT1H
X-Robots-Tag:noindex
X-PUBLISHED-TTL:PT1H
BEGIN:VTIMEZONE
TZID:America/New_York
BEGIN:DAYLIGHT
TZOFFSETFROM:-0500
TZOFFSETTO:-0400
TZNAME:EDT
DTSTART:20240310T070000
END:DAYLIGHT
BEGIN:STANDARD
TZOFFSETFROM:-0400
TZOFFSETTO:-0500
TZNAME:EST
DTSTART:20241103T060000
END:STANDARD
BEGIN:DAYLIGHT
TZOFFSETFROM:-0500
TZOFFSETTO:-0400
TZNAME:EDT
DTSTART:20250309T070000
END:DAYLIGHT
BEGIN:STANDARD
TZOFFSETFROM:-0400
TZOFFSETTO:-0500
TZNAME:EST
DTSTART:20251102T060000
END:STANDARD
BEGIN:DAYLIGHT
TZOFFSETFROM:-0500
TZOFFSETTO:-0400
TZNAME:EDT
DTSTART:20260308T070000
END:DAYLIGHT
BEGIN:STANDARD
TZOFFSETFROM:-0400
TZOFFSETTO:-0500
TZNAME:EST
DTSTART:20261101T060000
END:STANDARD
END:VTIMEZONE
BEGIN:VEVENT
DTSTART;TZID=America/New_York:20250821T140000
DTEND;TZID=America/New_York:20250821T150000
DTSTAMP:20260422T222038
CREATED:20250716T141314Z
LAST-MODIFIED:20250716T141314Z
UID:28572-1755784800-1755788400@masshiremncareers.com
SUMMARY:Resume Basics & Beyond
DESCRIPTION:Join this in person workshop to learn the basics of resumes. What are the types? Dos and don’ts\, how long they should be and how far back intime to go. Register here
URL:https://masshiremncareers.com/event/resume-basics-beyond/
CATEGORIES:Career Center Seminars,Woburn Center Event,Workshops
END:VEVENT
BEGIN:VEVENT
DTSTART;TZID=America/New_York:20250821T130000
DTEND;TZID=America/New_York:20250821T150000
DTSTAMP:20260422T222038
CREATED:20250716T141100Z
LAST-MODIFIED:20250716T143614Z
UID:28571-1755781200-1755788400@masshiremncareers.com
SUMMARY:Internet for Beginners in Spanish
DESCRIPTION:Learn about Internet basics: Functionality\, Web Browsing\, Online Security\, and Social Media. Register here
URL:https://masshiremncareers.com/event/internet-for-beginners-in-spanish-2/
CATEGORIES:Career Center Seminars,Chelsea Center Event,Computer Class,Workshops
END:VEVENT
BEGIN:VEVENT
DTSTART;TZID=America/New_York:20250819T100000
DTEND;TZID=America/New_York:20250819T120000
DTSTAMP:20260422T222038
CREATED:20250716T140908Z
LAST-MODIFIED:20250716T153514Z
UID:28570-1755597600-1755604800@masshiremncareers.com
SUMMARY:Microsoft Word
DESCRIPTION:Microsoft Word is a great tool for creating and editing text documents. In this workshop\, start from scratch and learn Word beginning with the basics. Develop the skills necessary to feel comfortable opening Word\, starting a document\, editing\, saving your file\, and even printing and sharing your document. Register here
URL:https://masshiremncareers.com/event/microsoft-word-14/
CATEGORIES:Career Center Seminars,Computer Class,Woburn Center Event,Workshops
ATTACH;FMTTYPE=application/pdf:https://masshiremncareers.com/wp-content/uploads/Microsoft-Word-flyer-inperson-Woburn-20250819.pdf
END:VEVENT
BEGIN:VEVENT
DTSTART;TZID=America/New_York:20250819T100000
DTEND;TZID=America/New_York:20250819T110000
DTSTAMP:20260422T222038
CREATED:20250716T140733Z
LAST-MODIFIED:20250716T140733Z
UID:28569-1755597600-1755601200@masshiremncareers.com
SUMMARY:Cover Letters
DESCRIPTION:Understanding the fundamentals of cover letters. Learn the formats and how to customize the cover letter for job descriptions. Register here
URL:https://masshiremncareers.com/event/cover-letters-31/
CATEGORIES:Malden Career Center,Webinar
END:VEVENT
BEGIN:VEVENT
DTSTART;TZID=America/New_York:20250818T140000
DTEND;TZID=America/New_York:20250818T150000
DTSTAMP:20260422T222038
CREATED:20250716T140531Z
LAST-MODIFIED:20250716T143634Z
UID:28568-1755525600-1755529200@masshiremncareers.com
SUMMARY:Mock Interviews
DESCRIPTION:What’s a good interview? Where can you find interview questions & answers specific to your target industry? What about body language? How can you best convey confidence under pressure?  Join MassHire as we answer these questions and more during our in-person mock interview session! Register here
URL:https://masshiremncareers.com/event/mock-interviews-4/
CATEGORIES:Cambridge Center Event,Career Center Seminars,Workshops
ATTACH;FMTTYPE=application/pdf:https://masshiremncareers.com/wp-content/uploads/Mock-Interviews-Flyer.workshop.inperson.Cambridge.20250818.pdf
END:VEVENT
BEGIN:VEVENT
DTSTART;TZID=America/New_York:20250818T100000
DTEND;TZID=America/New_York:20250818T120000
DTSTAMP:20260422T222038
CREATED:20250716T140356Z
LAST-MODIFIED:20250716T153047Z
UID:28567-1755511200-1755518400@masshiremncareers.com
SUMMARY:Basic Computer Skills 2
DESCRIPTION:Having general knowledge about computers is a great start! In this class\, enhance your skills by diving deeper into computer knowledge. Get more familiar with the keyboard\, learn to print\, and develop a better understanding of that mess of cords that flows out of the back of your computer. Most importantly\, learn to protect yourself with computer safety. Register here
URL:https://masshiremncareers.com/event/basic-computer-skills-2-19/
CATEGORIES:Cambridge Center Event,Career Center Seminars,Computer Class,Workshops
ATTACH;FMTTYPE=application/pdf:https://masshiremncareers.com/wp-content/uploads/Basic-Computer-Skills-2-flyer-inperson-Cambridge-20250818.pdf
END:VEVENT
BEGIN:VEVENT
DTSTART;TZID=America/New_York:20250814T130000
DTEND;TZID=America/New_York:20250814T150000
DTSTAMP:20260422T222038
CREATED:20250716T135340Z
LAST-MODIFIED:20250716T152235Z
UID:28566-1755176400-1755183600@masshiremncareers.com
SUMMARY:Microsoft Word
DESCRIPTION:Should be comfortable using a computer; have general computer knowledge. Can recognize Microsoft Word on the Desktop and be able to open the application. If the customer has attended any previous Basic or Advanced Computer Skills workshop\, then they will have the necessary skills needed for this workshop. Register here
URL:https://masshiremncareers.com/event/microsoft-word-13/
CATEGORIES:Career Center Seminars,Computer Class,Malden Career Center,Workshops
ATTACH;FMTTYPE=application/pdf:https://masshiremncareers.com/wp-content/uploads/Microsoft-Word-flyer-inperson-Malden-20250814.pdf
END:VEVENT
BEGIN:VEVENT
DTSTART;TZID=America/New_York:20250813T130000
DTEND;TZID=America/New_York:20250813T140000
DTSTAMP:20260422T222038
CREATED:20250716T135139Z
LAST-MODIFIED:20250716T135139Z
UID:28565-1755090000-1755093600@masshiremncareers.com
SUMMARY:Share\, Collaborate in Google Docs
DESCRIPTION:Need to know how to share files with others using Google Docs? Please join this live demonstration and learn about real time sharing\, comments\, version history and collaborating with others. Register here
URL:https://masshiremncareers.com/event/share-collaborate-in-google-docs-4/
CATEGORIES:Computer Class,Webinar,Woburn Center Event,Workshops
END:VEVENT
BEGIN:VEVENT
DTSTART;TZID=America/New_York:20250813T100000
DTEND;TZID=America/New_York:20250813T110000
DTSTAMP:20260422T222038
CREATED:20250716T135020Z
LAST-MODIFIED:20250716T143725Z
UID:28564-1755079200-1755082800@masshiremncareers.com
SUMMARY:Career Assessment Focus ONET II
DESCRIPTION:There are tremendous resources in O’net to help you figure out your next career step. We’ll look at crosswalks\, My Next Move and other elements of this cool site. Please join us online. Register here
URL:https://masshiremncareers.com/event/career-assessment-focus-onet-ii-9/
CATEGORIES:Cambridge Center Event,Webinar,Workshops
ATTACH;FMTTYPE=application/pdf:https://masshiremncareers.com/wp-content/uploads/Career-AssessmentONET-II.webinar.Flyer_.20250813.pdf
END:VEVENT
BEGIN:VEVENT
DTSTART;TZID=America/New_York:20250812T100000
DTEND;TZID=America/New_York:20250812T120000
DTSTAMP:20260422T222038
CREATED:20250721T150909Z
LAST-MODIFIED:20250721T151749Z
UID:28602-1754992800-1755000000@masshiremncareers.com
SUMMARY:USPS Recruitment
DESCRIPTION:The United States Postal Service is hiring. Come meet with a recruiter to learn more about the positions. Information session is followed by hands-on assistance to apply for positions. \nRegister here.
URL:https://masshiremncareers.com/event/usps-recruitment-4/
CATEGORIES:Job Fairs,Recruitment,Woburn Center Event
ATTACH;FMTTYPE=image/jpeg:https://masshiremncareers.com/wp-content/uploads/USPS-flyer-for-8.12.25.jpg
END:VEVENT
BEGIN:VEVENT
DTSTART;TZID=America/New_York:20250811T130000
DTEND;TZID=America/New_York:20250811T150000
DTSTAMP:20260422T222038
CREATED:20250716T134846Z
LAST-MODIFIED:20250716T151729Z
UID:28563-1754917200-1754924400@masshiremncareers.com
SUMMARY:Basic Computer Skills 1
DESCRIPTION:Are you new to the world of computers? Do you want to feel more comfortable using technology? This is the course for you! Learn the very basics about computers starting with the terminology. Practice navigating a desktop\, browsing the internet\, and even get an introduction to creating and saving documents using some of the most popular Microsoft Windows 11 applications: Word\, Excel\, and PowerPoint. Register here
URL:https://masshiremncareers.com/event/basic-computer-skills-1-20/
CATEGORIES:Cambridge Center Event,Career Center Seminars,Computer Class,Workshops
ATTACH;FMTTYPE=application/pdf:https://masshiremncareers.com/wp-content/uploads/Basic-Computer-Skills-1-flyer-inperson-Cambridge-20250811.pdf
END:VEVENT
BEGIN:VEVENT
DTSTART;TZID=America/New_York:20250811T100000
DTEND;TZID=America/New_York:20250811T110000
DTSTAMP:20260422T222038
CREATED:20250716T134656Z
LAST-MODIFIED:20250716T134656Z
UID:28562-1754906400-1754910000@masshiremncareers.com
SUMMARY:Virtual Resume Beyond the Basics
DESCRIPTION:Ready to take your resume to the next level? Learn about accomplishment statements and how to determine the value you bring. We’ll discuss hard and soft skills and how to utilize keywords. Please register and join us on the webinar. Register here
URL:https://masshiremncareers.com/event/virtual-resume-beyond-the-basics-9/
CATEGORIES:Webinar,Woburn Center Event,Workshops
END:VEVENT
BEGIN:VEVENT
DTSTART;TZID=America/New_York:20250807T130000
DTEND;TZID=America/New_York:20250807T140000
DTSTAMP:20260422T222038
CREATED:20250716T134537Z
LAST-MODIFIED:20250716T134537Z
UID:28561-1754571600-1754575200@masshiremncareers.com
SUMMARY:Social Media in Your Job Search
DESCRIPTION:What social media accounts do you need for a job search? Are they safe to use? Get some tips on how to clean up an existing accounts you have and ways to stay safe online. Come learn the dos and don’ts on:  LinkedIn\, Facebook\, Twitter\, Instagram\, TikTok. Register here
URL:https://masshiremncareers.com/event/social-media-in-your-job-search-2/
CATEGORIES:Webinar,Woburn Center Event,Workshops
END:VEVENT
BEGIN:VEVENT
DTSTART;TZID=America/New_York:20250806T140000
DTEND;TZID=America/New_York:20250806T150000
DTSTAMP:20260422T222038
CREATED:20250716T134358Z
LAST-MODIFIED:20250716T143748Z
UID:28560-1754488800-1754492400@masshiremncareers.com
SUMMARY:LinkedIn Basics
DESCRIPTION:LinkedIn is an integral part of your job search—on par with your resume.  This in-person workshop (1.5 hours) will demonstrate how to build your professional profile\, to search for and apply for jobs on LinkedIn\, and to make connections on this powerful social media platform. We will “show and tell”\, and you will follow the steps to create an impactful LinkedIn presence. Register here
URL:https://masshiremncareers.com/event/linkedin-basics-42/
CATEGORIES:Career Center Seminars,Woburn Center Event,Workshops
END:VEVENT
BEGIN:VEVENT
DTSTART;TZID=America/New_York:20250806T113000
DTEND;TZID=America/New_York:20250806T123000
DTSTAMP:20260422T222038
CREATED:20250716T134228Z
LAST-MODIFIED:20250716T143042Z
UID:28559-1754479800-1754483400@masshiremncareers.com
SUMMARY:Young Adult Info Session
DESCRIPTION:This online Info Session is your opportunity to learn about the full array of services\, events\, and programs available at MassHire Metro North’s Young Adult Career Center for out-of-school youth ages 16-24.  Register here
URL:https://masshiremncareers.com/event/young-adult-info-session-10/
CATEGORIES:Webinar,Woburn Center Event,Workshops
ATTACH;FMTTYPE=application/pdf:https://masshiremncareers.com/wp-content/uploads/20250806-Young-Adult-Info-Session.pdf
END:VEVENT
BEGIN:VEVENT
DTSTART;TZID=America/New_York:20250805T130000
DTEND;TZID=America/New_York:20250805T150000
DTSTAMP:20260422T222038
CREATED:20250716T133909Z
LAST-MODIFIED:20250716T145352Z
UID:28557-1754398800-1754406000@masshiremncareers.com
SUMMARY:Advanced Computer Skills 2
DESCRIPTION:Personal computer skills are amazing to have. Learn how to apply your personal computer skills in order to adapt to organizational and business computer usage. Tackle using two monitors and learning keyboard shortcuts. Get an overview of the most popular Microsoft 365 apps for business use. Even learn email etiquette and how to add a custom signature to every email you send. Register here
URL:https://masshiremncareers.com/event/advanced-computer-skills-2-8/
CATEGORIES:Career Center Seminars,Computer Class,Woburn Center Event,Workshops
ATTACH;FMTTYPE=application/pdf:https://masshiremncareers.com/wp-content/uploads/Advanced-Computer-Skills-2-flyer-inperson-Woburn-20250805.pdf
END:VEVENT
BEGIN:VEVENT
DTSTART;TZID=America/New_York:20250805T100000
DTEND;TZID=America/New_York:20250805T110000
DTSTAMP:20260422T222038
CREATED:20250716T133718Z
LAST-MODIFIED:20250716T133718Z
UID:28556-1754388000-1754391600@masshiremncareers.com
SUMMARY:Resume Beyond Basics
DESCRIPTION:Ready to take your resume to the next level? Learn about accomplishment statements and how to determine the value you bring. We’ll discuss hard and soft skills and how to utilize keywords. Please register and join us on the webinar. Register here
URL:https://masshiremncareers.com/event/resume-beyond-basics-8/
CATEGORIES:Malden Career Center,Webinar,Workshops
END:VEVENT
BEGIN:VEVENT
DTSTART;TZID=America/New_York:20250804T140000
DTEND;TZID=America/New_York:20250804T150000
DTSTAMP:20260422T222038
CREATED:20250716T133538Z
LAST-MODIFIED:20250716T142837Z
UID:28555-1754316000-1754319600@masshiremncareers.com
SUMMARY:Researching Your Salary
DESCRIPTION:When it comes to salary negotiation\, research is pivotal. But what sources do you use? Which do you trust? Join us in the computer lab for a hands-on tour of three free and powerful websites which\, together\, will help you determine your salary negotiation strategy. Register here
URL:https://masshiremncareers.com/event/researching-your-salary-2/
CATEGORIES:Cambridge Center Event,Career Center Seminars,Workshops
ATTACH;FMTTYPE=application/pdf:https://masshiremncareers.com/wp-content/uploads/Researching-Salary-Flyer.workshop.flyer_.inperson.Cambridge.20250804-1.pdf
END:VEVENT
BEGIN:VEVENT
DTSTART;TZID=America/New_York:20250804T100000
DTEND;TZID=America/New_York:20250804T110000
DTSTAMP:20260422T222038
CREATED:20250716T133242Z
LAST-MODIFIED:20250716T133242Z
UID:28554-1754301600-1754305200@masshiremncareers.com
SUMMARY:Career Change: Second Act
DESCRIPTION:Are you stepping back in your career? Do you need to change your field? Please join us online to examine how to find your transferable skills\, convey value in a new field and more.  Register here
URL:https://masshiremncareers.com/event/career-change-second-act-24/
CATEGORIES:Webinar,Woburn Center Event,Workshops
END:VEVENT
BEGIN:VEVENT
DTSTART;TZID=America/New_York:20250730T100000
DTEND;TZID=America/New_York:20250730T120000
DTSTAMP:20260422T222038
CREATED:20250624T184911Z
LAST-MODIFIED:20250624T184911Z
UID:28539-1753869600-1753876800@masshiremncareers.com
SUMMARY:Advanced Computer Skills 1
DESCRIPTION:Computers are designed to make our lives easier. Learn how in this workshop. Multitask with tabs and split screen. Keep organized with bookmarks\, files\, and folders. Get an intro to email so that you can stay connected with family\, friends\, and potential or current employers and colleagues.  This is a two-hour workshop.  Register here
URL:https://masshiremncareers.com/event/advanced-computer-skills-1-9/
CATEGORIES:Career Center Seminars,Computer Class,Woburn Center Event,Workshops
END:VEVENT
BEGIN:VEVENT
DTSTART;TZID=America/New_York:20250729T110000
DTEND;TZID=America/New_York:20250729T120000
DTSTAMP:20260422T222038
CREATED:20250624T185242Z
LAST-MODIFIED:20250624T185242Z
UID:28540-1753786800-1753790400@masshiremncareers.com
SUMMARY:Info Session - Mass Careers
DESCRIPTION:A presentation will be provided on Navigating the MassCareers website and how to apply to State Jobs.\nQ&A will follow. Register here
URL:https://masshiremncareers.com/event/info-session-mass-careers-2/
CATEGORIES:Career Center Seminars,Woburn Center Event,Workshops
END:VEVENT
BEGIN:VEVENT
DTSTART;TZID=America/New_York:20250728T100000
DTEND;TZID=America/New_York:20250728T110000
DTSTAMP:20260422T222038
CREATED:20250620T192358Z
LAST-MODIFIED:20250620T192358Z
UID:28522-1753696800-1753700400@masshiremncareers.com
SUMMARY:Transition: Career Change
DESCRIPTION:Time for a professional shift? How should you go about making that kind of decision? Join this session to learn about types of professional change\, how to assess your skills and revising your resume. Register here
URL:https://masshiremncareers.com/event/transition-career-change-6/
CATEGORIES:Webinar,Woburn Center Event,Workshops
END:VEVENT
BEGIN:VEVENT
DTSTART;TZID=America/New_York:20250724T130000
DTEND;TZID=America/New_York:20250724T140000
DTSTAMP:20260422T222038
CREATED:20250624T184450Z
LAST-MODIFIED:20250624T184450Z
UID:28536-1753362000-1753365600@masshiremncareers.com
SUMMARY:Google Sheets
DESCRIPTION:Google Sheets is an efficient tool for working with data. In this workshop\, become familiar with Sheets starting from the very beginning. Learn to create a workbook\, edit\, analyze\, and share. Leave feeling like you can successfully create and use a Google Sheets workbook. This is a one-hour webinar. Register here
URL:https://masshiremncareers.com/event/google-sheets-5/
CATEGORIES:Computer Class,Webinar,Woburn Center Event,Workshops
END:VEVENT
BEGIN:VEVENT
DTSTART;TZID=America/New_York:20250723T140000
DTEND;TZID=America/New_York:20250723T153000
DTSTAMP:20260422T222038
CREATED:20250620T192132Z
LAST-MODIFIED:20250620T192132Z
UID:28521-1753279200-1753284600@masshiremncareers.com
SUMMARY:Mock Interviews
DESCRIPTION:What’s a good interview? Where can you find interview questions & answers specific to your target industry? What about body language? How can you best convey confidence under pressure?  Join MassHire as we answer these questions and more during our in-person mock interview session!  Register here
URL:https://masshiremncareers.com/event/mock-interviews-3/
CATEGORIES:Career Center Seminars,Woburn Center Event,Workshops
END:VEVENT
BEGIN:VEVENT
DTSTART;TZID=America/New_York:20250723T113000
DTEND;TZID=America/New_York:20250723T123000
DTSTAMP:20260422T222038
CREATED:20250620T191930Z
LAST-MODIFIED:20250620T191930Z
UID:28520-1753270200-1753273800@masshiremncareers.com
SUMMARY:Young Adult Info Session
DESCRIPTION:This online Info Session is your opportunity to learn about the full array of services\, events\, and programs available at MassHire Metro North’s Young Adult Career Center for out-of-school youth ages 16-24.  Register here
URL:https://masshiremncareers.com/event/young-adult-info-session-9/
CATEGORIES:Webinar,Woburn Center Event,Workshops,Youth Services Event
END:VEVENT
BEGIN:VEVENT
DTSTART;TZID=America/New_York:20250723T100000
DTEND;TZID=America/New_York:20250723T110000
DTSTAMP:20260422T222038
CREATED:20250620T191648Z
LAST-MODIFIED:20250620T191648Z
UID:28519-1753264800-1753268400@masshiremncareers.com
SUMMARY:Wellness in the New Weird Normal
DESCRIPTION:Things have changed amid a pandemic. The threat of burnout is high. What is it and how do we fight it? We’ll look at warning signs\, how to counteract it\, habit loops and more. Register here
URL:https://masshiremncareers.com/event/wellness-in-the-new-weird-normal-7/
CATEGORIES:Cambridge Center Event,Webinar,Workshops
END:VEVENT
BEGIN:VEVENT
DTSTART;TZID=America/New_York:20250722T130000
DTEND;TZID=America/New_York:20250722T140000
DTSTAMP:20260422T222038
CREATED:20250624T184039Z
LAST-MODIFIED:20250624T184039Z
UID:28535-1753189200-1753192800@masshiremncareers.com
SUMMARY:Google Docs
DESCRIPTION:Google Do cs is an efficient tool for creating word documents. In this workshop\, become familiar with Docs starting from the very beginning. Learn to create a document\, edit\, and share. Leave feeling like you can successfully create and use a Google Doc. This is a one-hour webinar. Register here
URL:https://masshiremncareers.com/event/google-docs-7/
CATEGORIES:Computer Class,Webinar,Woburn Center Event,Workshops
END:VEVENT
BEGIN:VEVENT
DTSTART;TZID=America/New_York:20250722T100000
DTEND;TZID=America/New_York:20250722T110000
DTSTAMP:20260422T222038
CREATED:20250620T191235Z
LAST-MODIFIED:20250620T191235Z
UID:28518-1753178400-1753182000@masshiremncareers.com
SUMMARY:Resume Beyond Basics
DESCRIPTION:Ready to take your resume to the next level? Learn about accomplishment statements and how to determine the value you bring. We’ll discuss hard and soft skills and how to utilize keywords. Please register and join us on the webinar. Register here
URL:https://masshiremncareers.com/event/resume-beyond-basics-7/
CATEGORIES:Career Center Seminars,Malden Career Center,Workshops
END:VEVENT
BEGIN:VEVENT
DTSTART;TZID=America/New_York:20250721T140000
DTEND;TZID=America/New_York:20250721T153000
DTSTAMP:20260422T222038
CREATED:20250620T191051Z
LAST-MODIFIED:20250620T191051Z
UID:28517-1753106400-1753111800@masshiremncareers.com
SUMMARY:Interviewing Dos and Don'ts
DESCRIPTION:What makes a good job interview? Join MassHire in person as we discuss the mechanics behind that question! Let’s discuss Interview Questions to prepare for\, questions to ask\, questions you should not ask\, and signs the interview went well. Through lively discussion\, exercises\, and video clips\, we’ll examine the interview together to get you to the next round! Register here
URL:https://masshiremncareers.com/event/interviewing-dos-and-donts-6/
CATEGORIES:Cambridge Center Event,Career Center Seminars,Workshops
END:VEVENT
BEGIN:VEVENT
DTSTART;TZID=America/New_York:20250721T100000
DTEND;TZID=America/New_York:20250721T110000
DTSTAMP:20260422T222038
CREATED:20250620T190849Z
LAST-MODIFIED:20250620T190849Z
UID:28516-1753092000-1753095600@masshiremncareers.com
SUMMARY:Cover Letter Webinar
DESCRIPTION:Learn about the different types of cover letters. We’ll look into the mechanics of what makes an effective cover letter. You will learn how to effectively present your experience and skills. Register here
URL:https://masshiremncareers.com/event/cover-letter-webinar-13/
CATEGORIES:Webinar,Woburn Center Event,Workshops
END:VEVENT
END:VCALENDAR