BEGIN:VCALENDAR
VERSION:2.0
PRODID:-//MassHire Metro North Career Center - ECPv6.15.20//NONSGML v1.0//EN
CALSCALE:GREGORIAN
METHOD:PUBLISH
X-ORIGINAL-URL:https://masshiremncareers.com
X-WR-CALDESC:Events for MassHire Metro North Career Center
REFRESH-INTERVAL;VALUE=DURATION:PT1H
X-Robots-Tag:noindex
X-PUBLISHED-TTL:PT1H
BEGIN:VTIMEZONE
TZID:America/New_York
BEGIN:DAYLIGHT
TZOFFSETFROM:-0500
TZOFFSETTO:-0400
TZNAME:EDT
DTSTART:20190310T070000
END:DAYLIGHT
BEGIN:STANDARD
TZOFFSETFROM:-0400
TZOFFSETTO:-0500
TZNAME:EST
DTSTART:20191103T060000
END:STANDARD
BEGIN:DAYLIGHT
TZOFFSETFROM:-0500
TZOFFSETTO:-0400
TZNAME:EDT
DTSTART:20200308T070000
END:DAYLIGHT
BEGIN:STANDARD
TZOFFSETFROM:-0400
TZOFFSETTO:-0500
TZNAME:EST
DTSTART:20201101T060000
END:STANDARD
BEGIN:DAYLIGHT
TZOFFSETFROM:-0500
TZOFFSETTO:-0400
TZNAME:EDT
DTSTART:20210314T070000
END:DAYLIGHT
BEGIN:STANDARD
TZOFFSETFROM:-0400
TZOFFSETTO:-0500
TZNAME:EST
DTSTART:20211107T060000
END:STANDARD
END:VTIMEZONE
BEGIN:VEVENT
DTSTART;TZID=America/New_York:20200225T083000
DTEND;TZID=America/New_York:20200225T160000
DTSTAMP:20260424T013147
CREATED:20200102T172921Z
LAST-MODIFIED:20200102T172921Z
UID:19990-1582619400-1582646400@masshiremncareers.com
SUMMARY:Unemployment Representative Onsite
DESCRIPTION:A representative from the Department of Unemployment Assistance will be onsite to answer customers’ questions about their claims.
URL:https://masshiremncareers.com/event/unemployment-representative-onsite-42/
LOCATION:Cambridge Career Center\, 186 Alewife Brook Parkway\, Cambridge\, MA\, 02138\, United States
CATEGORIES:Cambridge Center Event
END:VEVENT
BEGIN:VEVENT
DTSTART;TZID=America/New_York:20200225T090000
DTEND;TZID=America/New_York:20200225T120000
DTSTAMP:20260424T013147
CREATED:20191220T160118Z
LAST-MODIFIED:20191220T160118Z
UID:19903-1582621200-1582632000@masshiremncareers.com
SUMMARY:Outlook 1
DESCRIPTION:This course is designed to provide a working knowledge of the Microsoft Outlook interface.  You will focus on the basics of email as well as managing multiple types of emails and your contacts (3 Hours)
URL:https://masshiremncareers.com/event/outlook-1-5/
LOCATION:Woburn Career Center\, 100 Trade Center\, Suite G100\, Woburn\, MA\, 01801\, United States
CATEGORIES:Woburn Center Event,Workshops
END:VEVENT
BEGIN:VEVENT
DTSTART;TZID=America/New_York:20200225T100000
DTEND;TZID=America/New_York:20200225T120000
DTSTAMP:20260424T013147
CREATED:20191220T154526Z
LAST-MODIFIED:20191220T154526Z
UID:19871-1582624800-1582632000@masshiremncareers.com
SUMMARY:Understanding Retirement Benefits
DESCRIPTION:Are you considering retiring? Wondering when can I start collecting Social Security? Can I withdraw funds from my 401K? At what age must I start drawing down from my IRA? What’s defined benefit? You’ve got a lot of questions—get them answered and put your financial future in order! (2 Hours)
URL:https://masshiremncareers.com/event/understanding-retirement-benefits-30/
LOCATION:Woburn Career Center\, 100 Trade Center\, Suite G100\, Woburn\, MA\, 01801\, United States
CATEGORIES:Woburn Center Event,Workshops
END:VEVENT
BEGIN:VEVENT
DTSTART;TZID=America/New_York:20200225T100000
DTEND;TZID=America/New_York:20200225T120000
DTSTAMP:20260424T013147
CREATED:20200130T141233Z
LAST-MODIFIED:20200130T141233Z
UID:20164-1582624800-1582632000@masshiremncareers.com
SUMMARY:The Counselor Is In!
DESCRIPTION:Need to speak with a career counselor for next steps in your job search? Have a quick question about your resume\, job search strategy\, interview prep or networking? Come in and speak with the counselor during walk-in hours. Other times by appointment.
URL:https://masshiremncareers.com/event/the-counselor-is-in-16/
LOCATION:Cambridge Career Center\, 186 Alewife Brook Parkway\, Cambridge\, MA\, 02138\, United States
CATEGORIES:Cambridge Center Event
END:VEVENT
BEGIN:VEVENT
DTSTART;TZID=America/New_York:20200225T133000
DTEND;TZID=America/New_York:20200225T153000
DTSTAMP:20260424T013147
CREATED:20191219T214606Z
LAST-MODIFIED:20191219T214606Z
UID:19819-1582637400-1582644600@masshiremncareers.com
SUMMARY:Conveying Your Skills
DESCRIPTION:If the job search is your recipe\, this workshop is the secret ingredient! We will identify and write out transferable skills that can be used for resumes\, cover letters\, networking and job interviews. We will then discuss body language and how verbiage changes from the resume to the interview. Finally\, attendees will deliver their C-A-R and S-T-A-R Statements during class\, taking advantage of in-class feedback. Through mastery of these components\, participants will learn how to apply their accomplishments to a smart job search.  Please Note: all participants will be expected to stand and deliver accomplishment statements in front of the class. (2 hours)
URL:https://masshiremncareers.com/event/conveying-your-skills-17/
LOCATION:Cambridge Career Center\, 186 Alewife Brook Parkway\, Cambridge\, MA\, 02138\, United States
CATEGORIES:Cambridge Center Event,Workshops
END:VEVENT
BEGIN:VEVENT
DTSTART;TZID=America/New_York:20200226T083000
DTEND;TZID=America/New_York:20200226T153000
DTSTAMP:20260424T013147
CREATED:20200130T190357Z
LAST-MODIFIED:20200130T190357Z
UID:20284-1582705800-1582731000@masshiremncareers.com
SUMMARY:Unemployment Representative Onsite
DESCRIPTION:A representative from the Department of Unemployment Assistance will be onsite to answer questions about unemployment claims.
URL:https://masshiremncareers.com/event/unemployment-representative-onsite-59/
LOCATION:Woburn Career Center\, 100 Trade Center\, Suite G100\, Woburn\, MA\, 01801\, United States
CATEGORIES:Woburn Center Event
END:VEVENT
BEGIN:VEVENT
DTSTART;TZID=America/New_York:20200226T090000
DTEND;TZID=America/New_York:20200226T123000
DTSTAMP:20260424T013147
CREATED:20191220T160219Z
LAST-MODIFIED:20191220T160219Z
UID:19905-1582707600-1582720200@masshiremncareers.com
SUMMARY:Outlook 2 ($59)
DESCRIPTION:In this course you will learn to create appointments\, meetings\, and events in the Outlook Calendar.  Manage and share calendars within Outlook. Create and assign tasks. (3.5 Hours) $59\nRecommended pre-requisite: Outlook I
URL:https://masshiremncareers.com/event/outlook-2-59-4/
LOCATION:Woburn Career Center\, 100 Trade Center\, Suite G100\, Woburn\, MA\, 01801\, United States
CATEGORIES:Woburn Center Event,Workshops
END:VEVENT
BEGIN:VEVENT
DTSTART;TZID=America/New_York:20200226T100000
DTEND;TZID=America/New_York:20200226T120000
DTSTAMP:20260424T013147
CREATED:20191219T204613Z
LAST-MODIFIED:20191219T204613Z
UID:19780-1582711200-1582718400@masshiremncareers.com
SUMMARY:Department of Transitional Assistance
DESCRIPTION:The Department of Transitional Assistance will be onsite to explain program benefits.
URL:https://masshiremncareers.com/event/department-of-transitional-assistance-20/
LOCATION:Chelsea Career Center\, 4 Gerrish Ave\, Chelsea\, MA\, 02150\, United States
CATEGORIES:Chelsea Center Event
END:VEVENT
BEGIN:VEVENT
DTSTART;TZID=America/New_York:20200226T100000
DTEND;TZID=America/New_York:20200226T120000
DTSTAMP:20260424T013147
CREATED:20191219T214654Z
LAST-MODIFIED:20191219T214654Z
UID:19821-1582711200-1582718400@masshiremncareers.com
SUMMARY:Understanding Social Security
DESCRIPTION:Learn about the common mistakes people make when signing up for Social Security. New legislation has changed the rules and knowing how this affects you can help you avoid costly mistakes. Hear about the new claiming rules for married couples\, divorcing individuals and minor children. (2 Hours)
URL:https://masshiremncareers.com/event/understanding-social-security-25/
LOCATION:Cambridge Career Center\, 186 Alewife Brook Parkway\, Cambridge\, MA\, 02138\, United States
CATEGORIES:Cambridge Center Event,Workshops
END:VEVENT
BEGIN:VEVENT
DTSTART;TZID=America/New_York:20200226T100000
DTEND;TZID=America/New_York:20200226T123000
DTSTAMP:20260424T013147
CREATED:20191220T154610Z
LAST-MODIFIED:20191220T154610Z
UID:19873-1582711200-1582720200@masshiremncareers.com
SUMMARY:Interview Fundamentals
DESCRIPTION:Is your resume getting your foot in the door but you’re not advancing beyond the interview? Come and learn the best practices of a successful in-person job interview!  We will discuss research\, CAR Statements\, post-interview follow-up and the importance of non-work related activities.  We will also explore how best to navigate an interview’s behavioral and traditional questions. (2.5 Hours)
URL:https://masshiremncareers.com/event/interview-fundamentals-6/
LOCATION:Woburn Career Center\, 100 Trade Center\, Suite G100\, Woburn\, MA\, 01801\, United States
CATEGORIES:Woburn Center Event,Workshops
END:VEVENT
BEGIN:VEVENT
DTSTART;TZID=America/New_York:20200226T140000
DTEND;TZID=America/New_York:20200226T153000
DTSTAMP:20260424T013147
CREATED:20191220T205510Z
LAST-MODIFIED:20191220T205510Z
UID:19913-1582725600-1582731000@masshiremncareers.com
SUMMARY:Career Development Options (Español)
DESCRIPTION:Interesado en obtener asesoramiento profesional individual? ¿Buscas fondos para pagar la escolarización o entrenamiento? Venga y aprenda sobre las opciones de su trayectoria profesional y cómo podemos ayudarlo en su búsqueda de trabajo. Esta sesión de información explica en detalle los requisitos de elegibilidad para acceder a estos servicios financiados a través del programa WIOA. (1.5 Horas) \nInterested in getting one-on-one career counseling to help with your job search? Need grant funds for schooling or training? Come learn about your career path options and how we can help you in your job search. This information session explains in detail about the eligibility requirements for accessing these grant-funded services through WIOA. (1.5 Hours)
URL:https://masshiremncareers.com/event/career-development-options-espanol-13/
LOCATION:Chelsea Career Center\, 4 Gerrish Ave\, Chelsea\, MA\, 02150\, United States
CATEGORIES:Chelsea Center Event,Workshops
END:VEVENT
BEGIN:VEVENT
DTSTART;TZID=America/New_York:20200226T140000
DTEND;TZID=America/New_York:20200226T153000
DTSTAMP:20260424T013147
CREATED:20200130T142102Z
LAST-MODIFIED:20200130T142102Z
UID:20178-1582725600-1582731000@masshiremncareers.com
SUMMARY:The Counselor Is In!
DESCRIPTION:Need to speak with a career counselor for next steps in your job search? Have a quick question about your resume\, job search strategy\, interview prep or networking? Come in and speak with the counselor during walk-in hours. Other times by appointment.
URL:https://masshiremncareers.com/event/the-counselor-is-in-23/
LOCATION:Cambridge Career Center\, 186 Alewife Brook Parkway\, Cambridge\, MA\, 02138\, United States
CATEGORIES:Cambridge Center Event
END:VEVENT
BEGIN:VEVENT
DTSTART;TZID=America/New_York:20200226T160000
DTEND;TZID=America/New_York:20200226T180000
DTSTAMP:20260424T013147
CREATED:20200127T144605Z
LAST-MODIFIED:20200212T155733Z
UID:20053-1582732800-1582740000@masshiremncareers.com
SUMMARY:US Census Recruitment
DESCRIPTION:The US Census is hiring for Census Taker Positions for 2020\nApply on the spot!\n$27.50/hour plus .58/mile reimbursement and paid travel time\nMake your own schedule. Work up to 40 hours or work a minimum of 10 hours weekly\nWork in the county you live in\nStart March/April for approximately 12 to 16 weeks\nFederal job status \nRequirements:\nUS citizenship\nBackground check \nRegister with Mary Beth mbeatrice@mhmncc.com – please have your jobseeker ID ready
URL:https://masshiremncareers.com/event/us-census-recruitment-2/
LOCATION:Cambridge Career Center\, 186 Alewife Brook Parkway\, Cambridge\, MA\, 02138\, United States
CATEGORIES:Cambridge Center Event,Job Fairs
END:VEVENT
BEGIN:VEVENT
DTSTART;TZID=America/New_York:20200227T083000
DTEND;TZID=America/New_York:20200227T160000
DTSTAMP:20260424T013147
CREATED:20200102T172956Z
LAST-MODIFIED:20200102T172956Z
UID:19992-1582792200-1582819200@masshiremncareers.com
SUMMARY:Unemployment Representative Onsite
DESCRIPTION:A representative from the Department of Unemployment Assistance will be onsite to answer customers’ questions about their claims.
URL:https://masshiremncareers.com/event/unemployment-representative-onsite-43/
LOCATION:Cambridge Career Center\, 186 Alewife Brook Parkway\, Cambridge\, MA\, 02138\, United States
CATEGORIES:Cambridge Center Event
END:VEVENT
BEGIN:VEVENT
DTSTART;TZID=America/New_York:20200227T093000
DTEND;TZID=America/New_York:20200227T120000
DTSTAMP:20260424T013147
CREATED:20191219T214735Z
LAST-MODIFIED:20191219T214735Z
UID:19823-1582795800-1582804800@masshiremncareers.com
SUMMARY:What's Age Got To Do With It?
DESCRIPTION:Learn how to respond to age-related interview questions and why experience is an advantage in your job search. Topics include discrimination\, résumé tips and general strategies.  How do you tackle the label “overqualified” and demonstrate your professional attributes as a candidate? Sign up and find out!\n(2.5 Hours)
URL:https://masshiremncareers.com/event/whats-age-got-to-do-with-it-27/
LOCATION:Cambridge Career Center\, 186 Alewife Brook Parkway\, Cambridge\, MA\, 02138\, United States
CATEGORIES:Cambridge Center Event,Workshops
END:VEVENT
BEGIN:VEVENT
DTSTART;TZID=America/New_York:20200227T100000
DTEND;TZID=America/New_York:20200227T113000
DTSTAMP:20260424T013147
CREATED:20191220T160324Z
LAST-MODIFIED:20191220T160324Z
UID:19907-1582797600-1582803000@masshiremncareers.com
SUMMARY:Google Docs & Word Docs
DESCRIPTION:Word vs. Google Docs – Which should you use? Why? Join us as we compare and contrast each environment. Learn how to create and edit MS Word documents stored on the Google Drive. Leave with an informed decision on which of these mighty platforms will serve your job search best. (1.5 Hours)
URL:https://masshiremncareers.com/event/google-docs-word-docs-4/
LOCATION:Woburn Career Center\, 100 Trade Center\, Suite G100\, Woburn\, MA\, 01801\, United States
CATEGORIES:Woburn Center Event,Workshops
END:VEVENT
BEGIN:VEVENT
DTSTART;TZID=America/New_York:20200227T130000
DTEND;TZID=America/New_York:20200227T140000
DTSTAMP:20260424T013147
CREATED:20191219T214849Z
LAST-MODIFIED:20191219T214849Z
UID:19825-1582808400-1582812000@masshiremncareers.com
SUMMARY:Senior Community Service Employment Program
DESCRIPTION:SCSEP Info Session (Senior Community Service Employment Program)\nInformation session that will introduce this return-to-work training program for unemployed job seekers age 55+ who meet low income guidelines. (1 Hour)
URL:https://masshiremncareers.com/event/senior-community-service-employment-program-4/
LOCATION:Cambridge Career Center\, 186 Alewife Brook Parkway\, Cambridge\, MA\, 02138\, United States
CATEGORIES:Cambridge Center Event,Workshops
END:VEVENT
BEGIN:VEVENT
DTSTART;TZID=America/New_York:20200227T130000
DTEND;TZID=America/New_York:20200227T150000
DTSTAMP:20260424T013147
CREATED:20191219T205000Z
LAST-MODIFIED:20191219T205000Z
UID:19786-1582808400-1582815600@masshiremncareers.com
SUMMARY:Resume/Cover Letter Fundamentals
DESCRIPTION:Learn the résumé styles used by professional résumé writers and how to get yours noticed. You’ll be given the tools to determine which style suits your job search best! We’ll look into the mechanics of what makes an effective cover letter. You will learn how to effectively present your experience and skills to tailor to a job description to help land that next interview. (2.5 Hours)
URL:https://masshiremncareers.com/event/resume-cover-letter-fundamentals-34/
LOCATION:Chelsea Career Center\, 4 Gerrish Ave\, Chelsea\, MA\, 02150\, United States
CATEGORIES:Chelsea Center Event,Workshops
END:VEVENT
BEGIN:VEVENT
DTSTART;TZID=America/New_York:20200227T130000
DTEND;TZID=America/New_York:20200227T153000
DTSTAMP:20260424T013147
CREATED:20191220T153658Z
LAST-MODIFIED:20191220T153658Z
UID:19853-1582808400-1582817400@masshiremncareers.com
SUMMARY:Resume/Cover Letter Fundamentals
DESCRIPTION:Learn the résumé styles used by professional résumé writers and how to get yours noticed. You’ll be given the tools to determine which style suits your job search best! We’ll look into the mechanics of what makes an effective cover letter. You will learn how to effectively present your experience and skills to tailor to a job description to help land that next interview. (2.5 Hours)
URL:https://masshiremncareers.com/event/resume-cover-letter-fundamentals-36/
LOCATION:Woburn Career Center\, 100 Trade Center\, Suite G100\, Woburn\, MA\, 01801\, United States
CATEGORIES:Woburn Center Event,Workshops
END:VEVENT
BEGIN:VEVENT
DTSTART;TZID=America/New_York:20200227T140000
DTEND;TZID=America/New_York:20200227T153000
DTSTAMP:20260424T013147
CREATED:20200130T142130Z
LAST-MODIFIED:20200130T142130Z
UID:20180-1582812000-1582817400@masshiremncareers.com
SUMMARY:The Counselor Is In!
DESCRIPTION:Need to speak with a career counselor for next steps in your job search? Have a quick question about your resume\, job search strategy\, interview prep or networking? Come in and speak with the counselor during walk-in hours. Other times by appointment.
URL:https://masshiremncareers.com/event/the-counselor-is-in-24/
LOCATION:Cambridge Career Center\, 186 Alewife Brook Parkway\, Cambridge\, MA\, 02138\, United States
CATEGORIES:Cambridge Center Event
END:VEVENT
BEGIN:VEVENT
DTSTART;TZID=America/New_York:20200228T100000
DTEND;TZID=America/New_York:20200228T120000
DTSTAMP:20260424T013147
CREATED:20191219T214937Z
LAST-MODIFIED:20191219T214937Z
UID:19827-1582884000-1582891200@masshiremncareers.com
SUMMARY:Learning to Network
DESCRIPTION:Most jobs are found through networking (as high as 90%). Learn how to create an elevator pitch\, get the most out of networking meetings and master the steps of how to conduct a successful informational interview. Discover the best ways to grow your network and how to use it for a smart job search. Come with your ideas and be prepared to share!  (2 Hours)
URL:https://masshiremncareers.com/event/learning-to-network-21/
LOCATION:Cambridge Career Center\, 186 Alewife Brook Parkway\, Cambridge\, MA\, 02138\, United States
CATEGORIES:Cambridge Center Event,Workshops
END:VEVENT
BEGIN:VEVENT
DTSTART;TZID=America/New_York:20200228T110000
DTEND;TZID=America/New_York:20200228T123000
DTSTAMP:20260424T013147
CREATED:20191220T154123Z
LAST-MODIFIED:20191220T154123Z
UID:19861-1582887600-1582893000@masshiremncareers.com
SUMMARY:Career Development Options
DESCRIPTION:Interested in getting one-on-one career counseling to help with your job search? Need grant funds for schooling or training? Come learn about your career path options and how we can help you in your job search. This information session explains in detail about the eligibility requirements for accessing these grant-funded services through WIOA. (1.5 Hours)
URL:https://masshiremncareers.com/event/career-development-options-80/
LOCATION:Woburn Career Center\, 100 Trade Center\, Suite G100\, Woburn\, MA\, 01801\, United States
CATEGORIES:Woburn Center Event,Workshops
END:VEVENT
BEGIN:VEVENT
DTSTART;TZID=America/New_York:20200228T110000
DTEND;TZID=America/New_York:20200228T130000
DTSTAMP:20260424T013147
CREATED:20191220T160512Z
LAST-MODIFIED:20191220T160512Z
UID:19909-1582887600-1582894800@masshiremncareers.com
SUMMARY:LinkedIn 2.0
DESCRIPTION:Get your LinkedIn profile noticed!  Let us review what’s working and what’s not!  We will work together to create a headline and Summary that truly represents who you really are. You will learn to engage with your network and become a LinkedIn Power User. Learn to search for positions and apply.  Recommended pre-requisite: LinkedIn 1. Participants must be able to log in to LinkedIn account with their username and password (2 Hours)
URL:https://masshiremncareers.com/event/linkedin-2-0-4/
LOCATION:Woburn Career Center\, 100 Trade Center\, Suite G100\, Woburn\, MA\, 01801\, United States
CATEGORIES:Woburn Center Event,Workshops
END:VEVENT
BEGIN:VEVENT
DTSTART;TZID=America/New_York:20200228T140000
DTEND;TZID=America/New_York:20200228T153000
DTSTAMP:20260424T013147
CREATED:20200130T142239Z
LAST-MODIFIED:20200130T142239Z
UID:20182-1582898400-1582903800@masshiremncareers.com
SUMMARY:The Counselor Is In!
DESCRIPTION:Need to speak with a career counselor for next steps in your job search? Have a quick question about your resume\, job search strategy\, interview prep or networking? Come in and speak with the counselor during walk-in hours. Other times by appointment.
URL:https://masshiremncareers.com/event/the-counselor-is-in-25/
LOCATION:Cambridge Career Center\, 186 Alewife Brook Parkway\, Cambridge\, MA\, 02138\, United States
CATEGORIES:Cambridge Center Event
END:VEVENT
BEGIN:VEVENT
DTSTART;TZID=America/New_York:20200302T130000
DTEND;TZID=America/New_York:20200302T150000
DTSTAMP:20260424T013147
CREATED:20200129T201609Z
LAST-MODIFIED:20200129T201609Z
UID:20069-1583154000-1583161200@masshiremncareers.com
SUMMARY:Salary Negotiation
DESCRIPTION:How do we successfully negotiate salary? How can we trade “me vs. them” for “mutually beneficial?”  In this session you’ll find out! Topics include the Do’s and Don’ts of compensation\, CAR Statements\, ZOPA\, anchoring bias\, offer analysis\, and deflection tactics. Master your delivery\, fuse your experience with industry know-how and ensure mutual value between you and your target employer. (2 Hours)
URL:https://masshiremncareers.com/event/salary-negotiation-27/
LOCATION:Cambridge Career Center\, 186 Alewife Brook Parkway\, Cambridge\, MA\, 02138\, United States
CATEGORIES:Cambridge Center Event,Workshops
END:VEVENT
BEGIN:VEVENT
DTSTART;TZID=America/New_York:20200302T130000
DTEND;TZID=America/New_York:20200302T150000
DTSTAMP:20260424T013147
CREATED:20200130T160352Z
LAST-MODIFIED:20200130T160352Z
UID:20216-1583154000-1583161200@masshiremncareers.com
SUMMARY:JobQuest: Completing Your Profile
DESCRIPTION:Let’s look under the hood of JobQuest\, Massachusetts’ job search engine. What are the keys to connecting to employers?  How can hiring managers and industry insiders find you? Join us for this computer-based hands-on workshop and get back to work that much faster! (2 hours)
URL:https://masshiremncareers.com/event/jobquest-completing-your-profile-42/
LOCATION:Woburn Career Center\, 100 Trade Center\, Suite G100\, Woburn\, MA\, 01801\, United States
CATEGORIES:Woburn Center Event,Workshops
END:VEVENT
BEGIN:VEVENT
DTSTART;VALUE=DATE:20200303
DTEND;VALUE=DATE:20200304
DTSTAMP:20260424T013147
CREATED:20200221T211115Z
LAST-MODIFIED:20200221T211115Z
UID:20349-1583193600-1583279999@masshiremncareers.com
SUMMARY:Center Closed for Staff Training
DESCRIPTION:
URL:https://masshiremncareers.com/event/center-closed-for-staff-training-3/
CATEGORIES:Chelsea Center Event
END:VEVENT
BEGIN:VEVENT
DTSTART;TZID=America/New_York:20200303T083000
DTEND;TZID=America/New_York:20200303T160000
DTSTAMP:20260424T013147
CREATED:20200130T140215Z
LAST-MODIFIED:20200130T140215Z
UID:20140-1583224200-1583251200@masshiremncareers.com
SUMMARY:Unemployment Representative Onsite
DESCRIPTION:A representative from the Department of Unemployment Assistance will be onsite to answer customers’ questions about their claims.
URL:https://masshiremncareers.com/event/unemployment-representative-onsite-44/
LOCATION:Cambridge Career Center\, 186 Alewife Brook Parkway\, Cambridge\, MA\, 02138\, United States
CATEGORIES:Cambridge Center Event
END:VEVENT
BEGIN:VEVENT
DTSTART;TZID=America/New_York:20200303T100000
DTEND;TZID=America/New_York:20200303T120000
DTSTAMP:20260424T013147
CREATED:20200130T142527Z
LAST-MODIFIED:20200130T142527Z
UID:20184-1583229600-1583236800@masshiremncareers.com
SUMMARY:The Counselor Is In!
DESCRIPTION:Need to speak with a career counselor for next steps in your job search? Have a quick question about your resume\, job search strategy\, interview prep or networking? Come in and speak with the counselor during walk-in hours. Other times by appointment.
URL:https://masshiremncareers.com/event/the-counselor-is-in-26/
LOCATION:Cambridge Career Center\, 186 Alewife Brook Parkway\, Cambridge\, MA\, 02138\, United States
CATEGORIES:Cambridge Center Event
END:VEVENT
BEGIN:VEVENT
DTSTART;TZID=America/New_York:20200303T100000
DTEND;TZID=America/New_York:20200303T120000
DTSTAMP:20260424T013147
CREATED:20200130T160651Z
LAST-MODIFIED:20200130T160651Z
UID:20221-1583229600-1583236800@masshiremncareers.com
SUMMARY:LinkedIn Basics
DESCRIPTION:“What is LinkedIn?”  “How can it help me in my job search?” Sound familiar? We can help! Learn why LinkedIn is pivotal to your job search. Gain the attributes of a stronger LinkedIn profile. Master the skills of navigation needed for networking\, interview prep\, and researching your target industries and organizations. We’ll also talk about how the core competencies of your resume can be pulled directly from your LinkedIn account. Come with your questions\, leave with confidence. (2 hours)
URL:https://masshiremncareers.com/event/linkedin-basics-37/
LOCATION:Woburn Career Center\, 100 Trade Center\, Suite G100\, Woburn\, MA\, 01801\, United States
CATEGORIES:Woburn Center Event,Workshops
END:VEVENT
END:VCALENDAR